Report for Catalyst-View-Email-0.33

Back
From: metabase:user:314402c4-2aae-11df-837a-5e0a49663a4f
Subject: PASS Catalyst-View-Email-0.33 v5.18.2 FreeBSD
Date: 2014-05-03T22:25:24Z

This distribution has been tested as part of the CPAN Testers
project, supporting the Perl programming language.  See
http://wiki.cpantesters.org/ for more information or email
questions to cpan-testers-discuss@perl.org


--
Dear Devin Austin,

This is a computer-generated report for Catalyst-View-Email-0.33
on perl 5.18.2, created by CPAN-Reporter-1.2011.

Thank you for uploading your work to CPAN.  Congratulations!
All tests were successful.

Sections of this report:

    * Tester comments
    * Program output
    * Prerequisites
    * Environment and other context

------------------------------
TESTER COMMENTS
------------------------------

Additional comments from tester:

none provided

------------------------------
PROGRAM OUTPUT
------------------------------

Output from '/usr/bin/make test':

PERL_DL_NONLAZY=1 /usr/home/eserte/var/ctps/51911/install/perl-5.18.2/bin/perl5.18.2 "-MExtUtils::Command::MM" "-MTest::Harness" "-e" "undef *Test::Harness::Switches; test_harness(0, 'inc', 'blib/lib', 'blib/arch')" t/01use.t t/02pod.t t/04basic.t t/05template.t t/06config.t t/07mason.t
t/01use.t ....... ok
t/02pod.t ....... skipped: set TEST_POD to enable this test
require TestApp::View::Mason was successful but the package is not defined. at /home/eserte/var/ctps/51911/install/perl-5.18.2/lib/site_perl/5.18.2/Catalyst/Utils.pm line 314.
Class::MOP::load_class is deprecated at /home/eserte/var/ctps/51911/install/perl-5.18.2/lib/site_perl/5.18.2/amd64-freebsd/Class/MOP.pm line 73.
	Class::MOP::load_class("Email::Sender::Transport::Test") called at /usr/home/eserte/.cpan/build/Catalyst-View-Email-0.33-JivS3m/blib/lib/Catalyst/View/Email.pm line 226
	Catalyst::View::Email::_build_mailer_obj(TestApp::View::Email=HASH(0x27afe2d0)) called at accessor Catalyst::View::Email::_mailer_obj (defined at /usr/home/eserte/.cpan/build/Catalyst-View-Email-0.33-JivS3m/blib/lib/Catalyst/View/Email.pm line 21) line 10
	Catalyst::View::Email::_mailer_obj(TestApp::View::Email=HASH(0x27afe2d0)) called at /usr/home/eserte/.cpan/build/Catalyst-View-Email-0.33-JivS3m/blib/lib/Catalyst/View/Email.pm line 299
	Catalyst::View::Email::process(TestApp::View::Email=HASH(0x27afe2d0), TestApp=HASH(0x2806b8d0)) called at /home/eserte/var/ctps/51911/install/perl-5.18.2/lib/site_perl/5.18.2/Catalyst/Action.pm line 65
	Catalyst::Action::execute(Catalyst::Action=HASH(0x28070b28), TestApp::View::Email=HASH(0x27afe2d0), TestApp=HASH(0x2806b8d0)) called at /home/eserte/var/ctps/51911/install/perl-5.18.2/lib/site_perl/5.18.2/Catalyst.pm line 1734
	eval {...} called at /home/eserte/var/ctps/51911/install/perl-5.18.2/lib/site_perl/5.18.2/Catalyst.pm line 1734
	Catalyst::execute(TestApp=HASH(0x2806b8d0), "TestApp::View::Email", Catalyst::Action=HASH(0x28070b28)) called at /home/eserte/var/ctps/51911/install/perl-5.18.2/lib/site_perl/5.18.2/Catalyst/Action.pm line 60
	Catalyst::Action::dispatch(Catalyst::Action=HASH(0x28070b28), TestApp=HASH(0x2806b8d0)) called at /home/eserte/var/ctps/51911/install/perl-5.18.2/lib/site_perl/5.18.2/Catalyst/Dispatcher.pm line 258
	Catalyst::Dispatcher::_do_forward(Catalyst::Dispatcher=HASH(0x26a007f8), "forward", TestApp=HASH(0x2806b8d0), "TestApp::View::Email") called at /home/eserte/var/ctps/51911/install/perl-5.18.2/lib/site_perl/5.18.2/Catalyst/Dispatcher.pm line 238
	Catalyst::Dispatcher::forward(Catalyst::Dispatcher=HASH(0x26a007f8), TestApp=HASH(0x2806b8d0), "TestApp::View::Email") called at /home/eserte/var/ctps/51911/install/perl-5.18.2/lib/site_perl/5.18.2/Catalyst.pm line 397
	Catalyst::forward(TestApp=HASH(0x2806b8d0), "TestApp::View::Email") called at /usr/home/eserte/.cpan/build/Catalyst-View-Email-0.33-JivS3m/t/lib/TestApp/Controller/Root.pm line 26
	TestApp::Controller::Root::email(TestApp::Controller::Root=HASH(0x27afe918), TestApp=HASH(0x2806b8d0)) called at /home/eserte/var/ctps/51911/install/perl-5.18.2/lib/site_perl/5.18.2/Catalyst/Action.pm line 65
	Catalyst::Action::execute(Catalyst::Action=HASH(0x27bb4780), TestApp::Controller::Root=HASH(0x27afe918), TestApp=HASH(0x2806b8d0)) called at /home/eserte/var/ctps/51911/install/perl-5.18.2/lib/site_perl/5.18.2/Catalyst.pm line 1734
	eval {...} called at /home/eserte/var/ctps/51911/install/perl-5.18.2/lib/site_perl/5.18.2/Catalyst.pm line 1734
	Catalyst::execute(TestApp=HASH(0x2806b8d0), "TestApp::Controller::Root", Catalyst::Action=HASH(0x27bb4780)) called at /home/eserte/var/ctps/51911/install/perl-5.18.2/lib/site_perl/5.18.2/Catalyst/Action.pm line 60
	Catalyst::Action::dispatch(Catalyst::Action=HASH(0x27bb4780), TestApp=HASH(0x2806b8d0)) called at /home/eserte/var/ctps/51911/install/perl-5.18.2/lib/site_perl/5.18.2/Catalyst/Controller.pm line 161
	Catalyst::Controller::_ACTION(TestApp::Controller::Root=HASH(0x27afe918), TestApp=HASH(0x2806b8d0)) called at /home/eserte/var/ctps/51911/install/perl-5.18.2/lib/site_perl/5.18.2/Catalyst/Action.pm line 65
	Catalyst::Action::execute(Catalyst::Action=HASH(0x27bb4a80), TestApp::Controller::Root=HASH(0x27afe918), TestApp=HASH(0x2806b8d0)) called at /home/eserte/var/ctps/51911/install/perl-5.18.2/lib/site_perl/5.18.2/Catalyst.pm line 1734
	eval {...} called at /home/eserte/var/ctps/51911/install/perl-5.18.2/lib/site_perl/5.18.2/Catalyst.pm line 1734
	Catalyst::execute(TestApp=HASH(0x2806b8d0), "TestApp::Controller::Root", Catalyst::Action=HASH(0x27bb4a80)) called at /home/eserte/var/ctps/51911/install/perl-5.18.2/lib/site_perl/5.18.2/Catalyst/Action.pm line 60
	Catalyst::Action::dispatch(Catalyst::Action=HASH(0x27bb4a80), TestApp=HASH(0x2806b8d0)) called at /home/eserte/var/ctps/51911/install/perl-5.18.2/lib/site_perl/5.18.2/Catalyst/Dispatcher.pm line 258
	Catalyst::Dispatcher::_do_forward(Catalyst::Dispatcher=HASH(0x26a007f8), "forward", TestApp=HASH(0x2806b8d0), "_ACTION") called at /home/eserte/var/ctps/51911/install/perl-5.18.2/lib/site_perl/5.18.2/Catalyst/Dispatcher.pm line 238
	Catalyst::Dispatcher::forward(Catalyst::Dispatcher=HASH(0x26a007f8), TestApp=HASH(0x2806b8d0), "_ACTION") called at /home/eserte/var/ctps/51911/install/perl-5.18.2/lib/site_perl/5.18.2/Catalyst.pm line 397
	Catalyst::forward(TestApp=HASH(0x2806b8d0), "_ACTION") called at /home/eserte/var/ctps/51911/install/perl-5.18.2/lib/site_perl/5.18.2/Catalyst/Controller.pm line 135
	Catalyst::Controller::_DISPATCH(TestApp::Controller::Root=HASH(0x27afe918), TestApp=HASH(0x2806b8d0)) called at /home/eserte/var/ctps/51911/install/perl-5.18.2/lib/site_perl/5.18.2/Catalyst/Action.pm line 65
	Catalyst::Action::execute(Catalyst::Action=HASH(0x27bb2eb8), TestApp::Controller::Root=HASH(0x27afe918), TestApp=HASH(0x2806b8d0)) called at /home/eserte/var/ctps/51911/install/perl-5.18.2/lib/site_perl/5.18.2/Catalyst.pm line 1734
	eval {...} called at /home/eserte/var/ctps/51911/install/perl-5.18.2/lib/site_perl/5.18.2/Catalyst.pm line 1734
	Catalyst::execute(TestApp=HASH(0x2806b8d0), "TestApp::Controller::Root", Catalyst::Action=HASH(0x27bb2eb8)) called at /home/eserte/var/ctps/51911/install/perl-5.18.2/lib/site_perl/5.18.2/Catalyst/Action.pm line 60
	Catalyst::Action::dispatch(Catalyst::Action=HASH(0x27bb2eb8), TestApp=HASH(0x2806b8d0)) called at /home/eserte/var/ctps/51911/install/perl-5.18.2/lib/site_perl/5.18.2/Catalyst/Dispatcher.pm line 258
	Catalyst::Dispatcher::_do_forward(Catalyst::Dispatcher=HASH(0x26a007f8), "forward", TestApp=HASH(0x2806b8d0), "/root/_DISPATCH") called at /home/eserte/var/ctps/51911/install/perl-5.18.2/lib/site_perl/5.18.2/Catalyst/Dispatcher.pm line 238
	Catalyst::Dispatcher::forward(Catalyst::Dispatcher=HASH(0x26a007f8), TestApp=HASH(0x2806b8d0), "/root/_DISPATCH") called at /home/eserte/var/ctps/51911/install/perl-5.18.2/lib/site_perl/5.18.2/Catalyst.pm line 397
	Catalyst::forward(TestApp=HASH(0x2806b8d0), "/root/_DISPATCH") called at /home/eserte/var/ctps/51911/install/perl-5.18.2/lib/site_perl/5.18.2/Catalyst/Dispatcher.pm line 106
	Catalyst::Dispatcher::dispatch(Catalyst::Dispatcher=HASH(0x26a007f8), TestApp=HASH(0x2806b8d0)) called at /home/eserte/var/ctps/51911/install/perl-5.18.2/lib/site_perl/5.18.2/Catalyst.pm line 1680
	Catalyst::dispatch(TestApp=HASH(0x2806b8d0)) called at /home/eserte/var/ctps/51911/install/perl-5.18.2/lib/site_perl/5.18.2/Catalyst.pm line 2015
	Catalyst::try {...} () called at /home/eserte/var/ctps/51911/install/perl-5.18.2/lib/site_perl/5.18.2/Try/Tiny.pm line 81
	eval {...} called at /home/eserte/var/ctps/51911/install/perl-5.18.2/lib/site_perl/5.18.2/Try/Tiny.pm line 72
	Try::Tiny::try(CODE(0x2806b1e0), Try::Tiny::Catch=REF(0x2806b078)) called at /home/eserte/var/ctps/51911/install/perl-5.18.2/lib/site_perl/5.18.2/Catalyst.pm line 2024
	Catalyst::handle_request("TestApp", "env", HASH(0x27bc6de0), "response_cb", CODE(0x2806b0d8)) called at /home/eserte/var/ctps/51911/install/perl-5.18.2/lib/site_perl/5.18.2/Catalyst/Engine.pm line 797
	Catalyst::Engine::__ANON__(CODE(0x2806b0d8)) called at /home/eserte/var/ctps/51911/install/perl-5.18.2/lib/site_perl/5.18.2/Plack/Middleware/HTTPExceptions.pm line 32
	Plack::Middleware::HTTPExceptions::try {...} () called at /home/eserte/var/ctps/51911/install/perl-5.18.2/lib/site_perl/5.18.2/Try/Tiny.pm line 81
	eval {...} called at /home/eserte/var/ctps/51911/install/perl-5.18.2/lib/site_perl/5.18.2/Try/Tiny.pm line 72
	Try::Tiny::try(CODE(0x2806aee8), Try::Tiny::Catch=REF(0x2806a510)) called at /home/eserte/var/ctps/51911/install/perl-5.18.2/lib/site_perl/5.18.2/Plack/Middleware/HTTPExceptions.pm line 41
	Plack::Middleware::HTTPExceptions::__ANON__(CODE(0x2806ade0)) called at /home/eserte/var/ctps/51911/install/perl-5.18.2/lib/site_perl/5.18.2/Plack/Util.pm line 301
	Plack::Util::__ANON__(CODE(0x2806acd8)) called at /home/eserte/var/ctps/51911/install/perl-5.18.2/lib/site_perl/5.18.2/Plack/Util.pm line 301
	Plack::Util::__ANON__(CODE(0x2806abd0)) called at /home/eserte/var/ctps/51911/install/perl-5.18.2/lib/site_perl/5.18.2/Plack/Util.pm line 301
	Plack::Util::__ANON__(CODE(0x2806ab58)) called at /home/eserte/var/ctps/51911/install/perl-5.18.2/lib/site_perl/5.18.2/HTTP/Message/PSGI.pm line 100
	HTTP::Message::PSGI::res_from_psgi(CODE(0x2806a3d8)) called at /home/eserte/var/ctps/51911/install/perl-5.18.2/lib/site_perl/5.18.2/HTTP/Message/PSGI.pm line 155
	HTTP::Response::from_psgi("HTTP::Response", CODE(0x2806a3d8)) called at /home/eserte/var/ctps/51911/install/perl-5.18.2/lib/site_perl/5.18.2/Plack/Test/MockHTTP.pm line 24
	Plack::Test::MockHTTP::try {...} () called at /home/eserte/var/ctps/51911/install/perl-5.18.2/lib/site_perl/5.18.2/Try/Tiny.pm line 76
	eval {...} called at /home/eserte/var/ctps/51911/install/perl-5.18.2/lib/site_perl/5.18.2/Try/Tiny.pm line 72
	Try::Tiny::try(CODE(0x272d4a50), Try::Tiny::Catch=REF(0x27bab1b0)) called at /home/eserte/var/ctps/51911/install/perl-5.18.2/lib/site_perl/5.18.2/Plack/Test/MockHTTP.pm line 27
	Plack::Test::MockHTTP::request(Plack::Test::MockHTTP=HASH(0x27bc6df8), HTTP::Request=HASH(0x27bbd918)) called at /home/eserte/var/ctps/51911/install/perl-5.18.2/lib/site_perl/5.18.2/Plack/Test.pm line 38
	Plack::Test::__ANON__(HTTP::Request=HASH(0x27bbd918)) called at /home/eserte/var/ctps/51911/install/perl-5.18.2/lib/site_perl/5.18.2/Catalyst/Test.pm line 281
	Catalyst::Test::__ANON__(CODE(0x27bc6c48)) called at /home/eserte/var/ctps/51911/install/perl-5.18.2/lib/site_perl/5.18.2/Plack/Test.pm line 38
	Plack::Test::test_psgi("app", CODE(0x27bbd4b0), "mangle_response", CODE(0x258e1048), "app", CODE(0x27bc6a80), "client", CODE(0x27bc6b28)) called at /home/eserte/var/ctps/51911/install/perl-5.18.2/lib/site_perl/5.18.2/Catalyst/Test.pm line 284
	Catalyst::Test::_request(HASH(0x208136f0), "/email?time=1399155853") called at /home/eserte/var/ctps/51911/install/perl-5.18.2/lib/site_perl/5.18.2/Catalyst/Test.pm line 327
	Catalyst::Test::_local_request("TestApp", "/email?time=1399155853") called at /home/eserte/var/ctps/51911/install/perl-5.18.2/lib/site_perl/5.18.2/Catalyst/Test.pm line 32
	Catalyst::Test::__ANON__("/email?time=1399155853") called at t/04basic.t line 14
t/04basic.t ..... ok
require TestApp::View::Mason was successful but the package is not defined. at /home/eserte/var/ctps/51911/install/perl-5.18.2/lib/site_perl/5.18.2/Catalyst/Utils.pm line 314.
Class::MOP::load_class is deprecated at /home/eserte/var/ctps/51911/install/perl-5.18.2/lib/site_perl/5.18.2/amd64-freebsd/Class/MOP.pm line 73.
	Class::MOP::load_class("Email::Sender::Transport::Test") called at /usr/home/eserte/.cpan/build/Catalyst-View-Email-0.33-JivS3m/blib/lib/Catalyst/View/Email.pm line 226
	Catalyst::View::Email::_build_mailer_obj(TestApp::View::Email::Template=HASH(0x27b2bc48)) called at accessor Catalyst::View::Email::_mailer_obj (defined at /usr/home/eserte/.cpan/build/Catalyst-View-Email-0.33-JivS3m/blib/lib/Catalyst/View/Email.pm line 21) line 10
	Catalyst::View::Email::_mailer_obj(TestApp::View::Email::Template=HASH(0x27b2bc48)) called at /usr/home/eserte/.cpan/build/Catalyst-View-Email-0.33-JivS3m/blib/lib/Catalyst/View/Email.pm line 299
	Catalyst::View::Email::process(TestApp::View::Email::Template=HASH(0x27b2bc48), TestApp=HASH(0x280bbd38)) called at /usr/home/eserte/.cpan/build/Catalyst-View-Email-0.33-JivS3m/blib/lib/Catalyst/View/Email/Template.pm line 306
	Class::MOP::Class:::around(CODE(0x278a8cf0), TestApp::View::Email::Template=HASH(0x27b2bc48), TestApp=HASH(0x280bbd38)) called at /home/eserte/var/ctps/51911/install/perl-5.18.2/lib/site_perl/5.18.2/amd64-freebsd/Class/MOP/Method/Wrapped.pm line 163
	Class::MOP::Method::Wrapped::__ANON__(TestApp::View::Email::Template=HASH(0x27b2bc48), TestApp=HASH(0x280bbd38)) called at /home/eserte/var/ctps/51911/install/perl-5.18.2/lib/site_perl/5.18.2/amd64-freebsd/Class/MOP/Method/Wrapped.pm line 92
	Catalyst::View::Email::Template::process(TestApp::View::Email::Template=HASH(0x27b2bc48), TestApp=HASH(0x280bbd38)) called at /home/eserte/var/ctps/51911/install/perl-5.18.2/lib/site_perl/5.18.2/Catalyst/Action.pm line 65
	Catalyst::Action::execute(Catalyst::Action=HASH(0x280c10d8), TestApp::View::Email::Template=HASH(0x27b2bc48), TestApp=HASH(0x280bbd38)) called at /home/eserte/var/ctps/51911/install/perl-5.18.2/lib/site_perl/5.18.2/Catalyst.pm line 1734
	eval {...} called at /home/eserte/var/ctps/51911/install/perl-5.18.2/lib/site_perl/5.18.2/Catalyst.pm line 1734
	Catalyst::execute(TestApp=HASH(0x280bbd38), "TestApp::View::Email::Template", Catalyst::Action=HASH(0x280c10d8)) called at /home/eserte/var/ctps/51911/install/perl-5.18.2/lib/site_perl/5.18.2/Catalyst/Action.pm line 60
	Catalyst::Action::dispatch(Catalyst::Action=HASH(0x280c10d8), TestApp=HASH(0x280bbd38)) called at /home/eserte/var/ctps/51911/install/perl-5.18.2/lib/site_perl/5.18.2/Catalyst/Dispatcher.pm line 258
	Catalyst::Dispatcher::_do_forward(Catalyst::Dispatcher=HASH(0x27581948), "forward", TestApp=HASH(0x280bbd38), "TestApp::View::Email::Template") called at /home/eserte/var/ctps/51911/install/perl-5.18.2/lib/site_perl/5.18.2/Catalyst/Dispatcher.pm line 238
	Catalyst::Dispatcher::forward(Catalyst::Dispatcher=HASH(0x27581948), TestApp=HASH(0x280bbd38), "TestApp::View::Email::Template") called at /home/eserte/var/ctps/51911/install/perl-5.18.2/lib/site_perl/5.18.2/Catalyst.pm line 397
	Catalyst::forward(TestApp=HASH(0x280bbd38), "TestApp::View::Email::Template") called at /usr/home/eserte/.cpan/build/Catalyst-View-Email-0.33-JivS3m/t/lib/TestApp/Controller/Root.pm line 81
	TestApp::Controller::Root::template_email(TestApp::Controller::Root=HASH(0x27b28bd0), TestApp=HASH(0x280bbd38)) called at /home/eserte/var/ctps/51911/install/perl-5.18.2/lib/site_perl/5.18.2/Catalyst/Action.pm line 65
	Catalyst::Action::execute(Catalyst::Action=HASH(0x27bb9840), TestApp::Controller::Root=HASH(0x27b28bd0), TestApp=HASH(0x280bbd38)) called at /home/eserte/var/ctps/51911/install/perl-5.18.2/lib/site_perl/5.18.2/Catalyst.pm line 1734
	eval {...} called at /home/eserte/var/ctps/51911/install/perl-5.18.2/lib/site_perl/5.18.2/Catalyst.pm line 1734
	Catalyst::execute(TestApp=HASH(0x280bbd38), "TestApp::Controller::Root", Catalyst::Action=HASH(0x27bb9840)) called at /home/eserte/var/ctps/51911/install/perl-5.18.2/lib/site_perl/5.18.2/Catalyst/Action.pm line 60
	Catalyst::Action::dispatch(Catalyst::Action=HASH(0x27bb9840), TestApp=HASH(0x280bbd38)) called at /home/eserte/var/ctps/51911/install/perl-5.18.2/lib/site_perl/5.18.2/Catalyst/Controller.pm line 161
	Catalyst::Controller::_ACTION(TestApp::Controller::Root=HASH(0x27b28bd0), TestApp=HASH(0x280bbd38)) called at /home/eserte/var/ctps/51911/install/perl-5.18.2/lib/site_perl/5.18.2/Catalyst/Action.pm line 65
	Catalyst::Action::execute(Catalyst::Action=HASH(0x27bb4b88), TestApp::Controller::Root=HASH(0x27b28bd0), TestApp=HASH(0x280bbd38)) called at /home/eserte/var/ctps/51911/install/perl-5.18.2/lib/site_perl/5.18.2/Catalyst.pm line 1734
	eval {...} called at /home/eserte/var/ctps/51911/install/perl-5.18.2/lib/site_perl/5.18.2/Catalyst.pm line 1734
	Catalyst::execute(TestApp=HASH(0x280bbd38), "TestApp::Controller::Root", Catalyst::Action=HASH(0x27bb4b88)) called at /home/eserte/var/ctps/51911/install/perl-5.18.2/lib/site_perl/5.18.2/Catalyst/Action.pm line 60
	Catalyst::Action::dispatch(Catalyst::Action=HASH(0x27bb4b88), TestApp=HASH(0x280bbd38)) called at /home/eserte/var/ctps/51911/install/perl-5.18.2/lib/site_perl/5.18.2/Catalyst/Dispatcher.pm line 258
	Catalyst::Dispatcher::_do_forward(Catalyst::Dispatcher=HASH(0x27581948), "forward", TestApp=HASH(0x280bbd38), "_ACTION") called at /home/eserte/var/ctps/51911/install/perl-5.18.2/lib/site_perl/5.18.2/Catalyst/Dispatcher.pm line 238
	Catalyst::Dispatcher::forward(Catalyst::Dispatcher=HASH(0x27581948), TestApp=HASH(0x280bbd38), "_ACTION") called at /home/eserte/var/ctps/51911/install/perl-5.18.2/lib/site_perl/5.18.2/Catalyst.pm line 397
	Catalyst::forward(TestApp=HASH(0x280bbd38), "_ACTION") called at /home/eserte/var/ctps/51911/install/perl-5.18.2/lib/site_perl/5.18.2/Catalyst/Controller.pm line 135
	Catalyst::Controller::_DISPATCH(TestApp::Controller::Root=HASH(0x27b28bd0), TestApp=HASH(0x280bbd38)) called at /home/eserte/var/ctps/51911/install/perl-5.18.2/lib/site_perl/5.18.2/Catalyst/Action.pm line 65
	Catalyst::Action::execute(Catalyst::Action=HASH(0x27bb16a8), TestApp::Controller::Root=HASH(0x27b28bd0), TestApp=HASH(0x280bbd38)) called at /home/eserte/var/ctps/51911/install/perl-5.18.2/lib/site_perl/5.18.2/Catalyst.pm line 1734
	eval {...} called at /home/eserte/var/ctps/51911/install/perl-5.18.2/lib/site_perl/5.18.2/Catalyst.pm line 1734
	Catalyst::execute(TestApp=HASH(0x280bbd38), "TestApp::Controller::Root", Catalyst::Action=HASH(0x27bb16a8)) called at /home/eserte/var/ctps/51911/install/perl-5.18.2/lib/site_perl/5.18.2/Catalyst/Action.pm line 60
	Catalyst::Action::dispatch(Catalyst::Action=HASH(0x27bb16a8), TestApp=HASH(0x280bbd38)) called at /home/eserte/var/ctps/51911/install/perl-5.18.2/lib/site_perl/5.18.2/Catalyst/Dispatcher.pm line 258
	Catalyst::Dispatcher::_do_forward(Catalyst::Dispatcher=HASH(0x27581948), "forward", TestApp=HASH(0x280bbd38), "/root/_DISPATCH") called at /home/eserte/var/ctps/51911/install/perl-5.18.2/lib/site_perl/5.18.2/Catalyst/Dispatcher.pm line 238
	Catalyst::Dispatcher::forward(Catalyst::Dispatcher=HASH(0x27581948), TestApp=HASH(0x280bbd38), "/root/_DISPATCH") called at /home/eserte/var/ctps/51911/install/perl-5.18.2/lib/site_perl/5.18.2/Catalyst.pm line 397
	Catalyst::forward(TestApp=HASH(0x280bbd38), "/root/_DISPATCH") called at /home/eserte/var/ctps/51911/install/perl-5.18.2/lib/site_perl/5.18.2/Catalyst/Dispatcher.pm line 106
	Catalyst::Dispatcher::dispatch(Catalyst::Dispatcher=HASH(0x27581948), TestApp=HASH(0x280bbd38)) called at /home/eserte/var/ctps/51911/install/perl-5.18.2/lib/site_perl/5.18.2/Catalyst.pm line 1680
	Catalyst::dispatch(TestApp=HASH(0x280bbd38)) called at /home/eserte/var/ctps/51911/install/perl-5.18.2/lib/site_perl/5.18.2/Catalyst.pm line 2015
	Catalyst::try {...} () called at /home/eserte/var/ctps/51911/install/perl-5.18.2/lib/site_perl/5.18.2/Try/Tiny.pm line 81
	eval {...} called at /home/eserte/var/ctps/51911/install/perl-5.18.2/lib/site_perl/5.18.2/Try/Tiny.pm line 72
	Try::Tiny::try(CODE(0x280bb648), Try::Tiny::Catch=REF(0x280bb4e0)) called at /home/eserte/var/ctps/51911/install/perl-5.18.2/lib/site_perl/5.18.2/Catalyst.pm line 2024
	Catalyst::handle_request("TestApp", "env", HASH(0x2795d468), "response_cb", CODE(0x280bb540)) called at /home/eserte/var/ctps/51911/install/perl-5.18.2/lib/site_perl/5.18.2/Catalyst/Engine.pm line 797
	Catalyst::Engine::__ANON__(CODE(0x280bb540)) called at /home/eserte/var/ctps/51911/install/perl-5.18.2/lib/site_perl/5.18.2/Plack/Middleware/HTTPExceptions.pm line 32
	Plack::Middleware::HTTPExceptions::try {...} () called at /home/eserte/var/ctps/51911/install/perl-5.18.2/lib/site_perl/5.18.2/Try/Tiny.pm line 81
	eval {...} called at /home/eserte/var/ctps/51911/install/perl-5.18.2/lib/site_perl/5.18.2/Try/Tiny.pm line 72
	Try::Tiny::try(CODE(0x280bb378), Try::Tiny::Catch=REF(0x280ba978)) called at /home/eserte/var/ctps/51911/install/perl-5.18.2/lib/site_perl/5.18.2/Plack/Middleware/HTTPExceptions.pm line 41
	Plack::Middleware::HTTPExceptions::__ANON__(CODE(0x280bb270)) called at /home/eserte/var/ctps/51911/install/perl-5.18.2/lib/site_perl/5.18.2/Plack/Util.pm line 301
	Plack::Util::__ANON__(CODE(0x280bb168)) called at /home/eserte/var/ctps/51911/install/perl-5.18.2/lib/site_perl/5.18.2/Plack/Util.pm line 301
	Plack::Util::__ANON__(CODE(0x280bb060)) called at /home/eserte/var/ctps/51911/install/perl-5.18.2/lib/site_perl/5.18.2/Plack/Util.pm line 301
	Plack::Util::__ANON__(CODE(0x280bafc0)) called at /home/eserte/var/ctps/51911/install/perl-5.18.2/lib/site_perl/5.18.2/HTTP/Message/PSGI.pm line 100
	HTTP::Message::PSGI::res_from_psgi(CODE(0x280ba840)) called at /home/eserte/var/ctps/51911/install/perl-5.18.2/lib/site_perl/5.18.2/HTTP/Message/PSGI.pm line 155
	HTTP::Response::from_psgi("HTTP::Response", CODE(0x280ba840)) called at /home/eserte/var/ctps/51911/install/perl-5.18.2/lib/site_perl/5.18.2/Plack/Test/MockHTTP.pm line 24
	Plack::Test::MockHTTP::try {...} () called at /home/eserte/var/ctps/51911/install/perl-5.18.2/lib/site_perl/5.18.2/Try/Tiny.pm line 76
	eval {...} called at /home/eserte/var/ctps/51911/install/perl-5.18.2/lib/site_perl/5.18.2/Try/Tiny.pm line 72
	Try::Tiny::try(CODE(0x2794b840), Try::Tiny::Catch=REF(0x27bac570)) called at /home/eserte/var/ctps/51911/install/perl-5.18.2/lib/site_perl/5.18.2/Plack/Test/MockHTTP.pm line 27
	Plack::Test::MockHTTP::request(Plack::Test::MockHTTP=HASH(0x27bcb1f8), HTTP::Request=HASH(0x27bbdcd8)) called at /home/eserte/var/ctps/51911/install/perl-5.18.2/lib/site_perl/5.18.2/Plack/Test.pm line 38
	Plack::Test::__ANON__(HTTP::Request=HASH(0x27bbdcd8)) called at /home/eserte/var/ctps/51911/install/perl-5.18.2/lib/site_perl/5.18.2/Catalyst/Test.pm line 281
	Catalyst::Test::__ANON__(CODE(0x27bcb060)) called at /home/eserte/var/ctps/51911/install/perl-5.18.2/lib/site_perl/5.18.2/Plack/Test.pm line 38
	Plack::Test::test_psgi("mangle_response", CODE(0x2603fae0), "app", CODE(0x27bbd870), "app", CODE(0x27bc5e58), "client", CODE(0x27bc5f00)) called at /home/eserte/var/ctps/51911/install/perl-5.18.2/lib/site_perl/5.18.2/Catalyst/Test.pm line 284
	Catalyst::Test::_request(HASH(0x208136f0), "/template_email?time=1399155859") called at /home/eserte/var/ctps/51911/install/perl-5.18.2/lib/site_perl/5.18.2/Catalyst/Test.pm line 327
	Catalyst::Test::_local_request("TestApp", "/template_email?time=1399155859") called at /home/eserte/var/ctps/51911/install/perl-5.18.2/lib/site_perl/5.18.2/Catalyst/Test.pm line 32
	Catalyst::Test::__ANON__("/template_email?time=1399155859") called at t/05template.t line 18
t/05template.t .. ok
require TestApp::View::Mason was successful but the package is not defined. at /home/eserte/var/ctps/51911/install/perl-5.18.2/lib/site_perl/5.18.2/Catalyst/Utils.pm line 314.
Class::MOP::load_class is deprecated at /home/eserte/var/ctps/51911/install/perl-5.18.2/lib/site_perl/5.18.2/amd64-freebsd/Class/MOP.pm line 73.
	Class::MOP::load_class("Email::Sender::Transport::Test") called at /usr/home/eserte/.cpan/build/Catalyst-View-Email-0.33-JivS3m/blib/lib/Catalyst/View/Email.pm line 226
	Catalyst::View::Email::_build_mailer_obj(TestApp::View::Email::AppConfig=HASH(0x27b2b600)) called at accessor Catalyst::View::Email::_mailer_obj (defined at /usr/home/eserte/.cpan/build/Catalyst-View-Email-0.33-JivS3m/blib/lib/Catalyst/View/Email.pm line 21) line 10
	Catalyst::View::Email::_mailer_obj(TestApp::View::Email::AppConfig=HASH(0x27b2b600)) called at /usr/home/eserte/.cpan/build/Catalyst-View-Email-0.33-JivS3m/blib/lib/Catalyst/View/Email.pm line 299
	Catalyst::View::Email::process(TestApp::View::Email::AppConfig=HASH(0x27b2b600), TestApp=HASH(0x280bba98)) called at /home/eserte/var/ctps/51911/install/perl-5.18.2/lib/site_perl/5.18.2/Catalyst/Action.pm line 65
	Catalyst::Action::execute(Catalyst::Action=HASH(0x280bfcf0), TestApp::View::Email::AppConfig=HASH(0x27b2b600), TestApp=HASH(0x280bba98)) called at /home/eserte/var/ctps/51911/install/perl-5.18.2/lib/site_perl/5.18.2/Catalyst.pm line 1734
	eval {...} called at /home/eserte/var/ctps/51911/install/perl-5.18.2/lib/site_perl/5.18.2/Catalyst.pm line 1734
	Catalyst::execute(TestApp=HASH(0x280bba98), "TestApp::View::Email::AppConfig", Catalyst::Action=HASH(0x280bfcf0)) called at /home/eserte/var/ctps/51911/install/perl-5.18.2/lib/site_perl/5.18.2/Catalyst/Action.pm line 60
	Catalyst::Action::dispatch(Catalyst::Action=HASH(0x280bfcf0), TestApp=HASH(0x280bba98)) called at /home/eserte/var/ctps/51911/install/perl-5.18.2/lib/site_perl/5.18.2/Catalyst/Dispatcher.pm line 258
	Catalyst::Dispatcher::_do_forward(Catalyst::Dispatcher=HASH(0x27580750), "forward", TestApp=HASH(0x280bba98), "TestApp::View::Email::AppConfig") called at /home/eserte/var/ctps/51911/install/perl-5.18.2/lib/site_perl/5.18.2/Catalyst/Dispatcher.pm line 238
	Catalyst::Dispatcher::forward(Catalyst::Dispatcher=HASH(0x27580750), TestApp=HASH(0x280bba98), "TestApp::View::Email::AppConfig") called at /home/eserte/var/ctps/51911/install/perl-5.18.2/lib/site_perl/5.18.2/Catalyst.pm line 397
	Catalyst::forward(TestApp=HASH(0x280bba98), "TestApp::View::Email::AppConfig") called at /usr/home/eserte/.cpan/build/Catalyst-View-Email-0.33-JivS3m/t/lib/TestApp/Controller/Root.pm line 48
	TestApp::Controller::Root::email_app_config(TestApp::Controller::Root=HASH(0x27b28a38), TestApp=HASH(0x280bba98)) called at /home/eserte/var/ctps/51911/install/perl-5.18.2/lib/site_perl/5.18.2/Catalyst/Action.pm line 65
	Catalyst::Action::execute(Catalyst::Action=HASH(0x27bb9438), TestApp::Controller::Root=HASH(0x27b28a38), TestApp=HASH(0x280bba98)) called at /home/eserte/var/ctps/51911/install/perl-5.18.2/lib/site_perl/5.18.2/Catalyst.pm line 1734
	eval {...} called at /home/eserte/var/ctps/51911/install/perl-5.18.2/lib/site_perl/5.18.2/Catalyst.pm line 1734
	Catalyst::execute(TestApp=HASH(0x280bba98), "TestApp::Controller::Root", Catalyst::Action=HASH(0x27bb9438)) called at /home/eserte/var/ctps/51911/install/perl-5.18.2/lib/site_perl/5.18.2/Catalyst/Action.pm line 60
	Catalyst::Action::dispatch(Catalyst::Action=HASH(0x27bb9438), TestApp=HASH(0x280bba98)) called at /home/eserte/var/ctps/51911/install/perl-5.18.2/lib/site_perl/5.18.2/Catalyst/Controller.pm line 161
	Catalyst::Controller::_ACTION(TestApp::Controller::Root=HASH(0x27b28a38), TestApp=HASH(0x280bba98)) called at /home/eserte/var/ctps/51911/install/perl-5.18.2/lib/site_perl/5.18.2/Catalyst/Action.pm line 65
	Catalyst::Action::execute(Catalyst::Action=HASH(0x27bb58e8), TestApp::Controller::Root=HASH(0x27b28a38), TestApp=HASH(0x280bba98)) called at /home/eserte/var/ctps/51911/install/perl-5.18.2/lib/site_perl/5.18.2/Catalyst.pm line 1734
	eval {...} called at /home/eserte/var/ctps/51911/install/perl-5.18.2/lib/site_perl/5.18.2/Catalyst.pm line 1734
	Catalyst::execute(TestApp=HASH(0x280bba98), "TestApp::Controller::Root", Catalyst::Action=HASH(0x27bb58e8)) called at /home/eserte/var/ctps/51911/install/perl-5.18.2/lib/site_perl/5.18.2/Catalyst/Action.pm line 60
	Catalyst::Action::dispatch(Catalyst::Action=HASH(0x27bb58e8), TestApp=HASH(0x280bba98)) called at /home/eserte/var/ctps/51911/install/perl-5.18.2/lib/site_perl/5.18.2/Catalyst/Dispatcher.pm line 258
	Catalyst::Dispatcher::_do_forward(Catalyst::Dispatcher=HASH(0x27580750), "forward", TestApp=HASH(0x280bba98), "_ACTION") called at /home/eserte/var/ctps/51911/install/perl-5.18.2/lib/site_perl/5.18.2/Catalyst/Dispatcher.pm line 238
	Catalyst::Dispatcher::forward(Catalyst::Dispatcher=HASH(0x27580750), TestApp=HASH(0x280bba98), "_ACTION") called at /home/eserte/var/ctps/51911/install/perl-5.18.2/lib/site_perl/5.18.2/Catalyst.pm line 397
	Catalyst::forward(TestApp=HASH(0x280bba98), "_ACTION") called at /home/eserte/var/ctps/51911/install/perl-5.18.2/lib/site_perl/5.18.2/Catalyst/Controller.pm line 135
	Catalyst::Controller::_DISPATCH(TestApp::Controller::Root=HASH(0x27b28a38), TestApp=HASH(0x280bba98)) called at /home/eserte/var/ctps/51911/install/perl-5.18.2/lib/site_perl/5.18.2/Catalyst/Action.pm line 65
	Catalyst::Action::execute(Catalyst::Action=HASH(0x27bb1bb8), TestApp::Controller::Root=HASH(0x27b28a38), TestApp=HASH(0x280bba98)) called at /home/eserte/var/ctps/51911/install/perl-5.18.2/lib/site_perl/5.18.2/Catalyst.pm line 1734
	eval {...} called at /home/eserte/var/ctps/51911/install/perl-5.18.2/lib/site_perl/5.18.2/Catalyst.pm line 1734
	Catalyst::execute(TestApp=HASH(0x280bba98), "TestApp::Controller::Root", Catalyst::Action=HASH(0x27bb1bb8)) called at /home/eserte/var/ctps/51911/install/perl-5.18.2/lib/site_perl/5.18.2/Catalyst/Action.pm line 60
	Catalyst::Action::dispatch(Catalyst::Action=HASH(0x27bb1bb8), TestApp=HASH(0x280bba98)) called at /home/eserte/var/ctps/51911/install/perl-5.18.2/lib/site_perl/5.18.2/Catalyst/Dispatcher.pm line 258
	Catalyst::Dispatcher::_do_forward(Catalyst::Dispatcher=HASH(0x27580750), "forward", TestApp=HASH(0x280bba98), "/root/_DISPATCH") called at /home/eserte/var/ctps/51911/install/perl-5.18.2/lib/site_perl/5.18.2/Catalyst/Dispatcher.pm line 238
	Catalyst::Dispatcher::forward(Catalyst::Dispatcher=HASH(0x27580750), TestApp=HASH(0x280bba98), "/root/_DISPATCH") called at /home/eserte/var/ctps/51911/install/perl-5.18.2/lib/site_perl/5.18.2/Catalyst.pm line 397
	Catalyst::forward(TestApp=HASH(0x280bba98), "/root/_DISPATCH") called at /home/eserte/var/ctps/51911/install/perl-5.18.2/lib/site_perl/5.18.2/Catalyst/Dispatcher.pm line 106
	Catalyst::Dispatcher::dispatch(Catalyst::Dispatcher=HASH(0x27580750), TestApp=HASH(0x280bba98)) called at /home/eserte/var/ctps/51911/install/perl-5.18.2/lib/site_perl/5.18.2/Catalyst.pm line 1680
	Catalyst::dispatch(TestApp=HASH(0x280bba98)) called at /home/eserte/var/ctps/51911/install/perl-5.18.2/lib/site_perl/5.18.2/Catalyst.pm line 2015
	Catalyst::try {...} () called at /home/eserte/var/ctps/51911/install/perl-5.18.2/lib/site_perl/5.18.2/Try/Tiny.pm line 81
	eval {...} called at /home/eserte/var/ctps/51911/install/perl-5.18.2/lib/site_perl/5.18.2/Try/Tiny.pm line 72
	Try::Tiny::try(CODE(0x280bb3a8), Try::Tiny::Catch=REF(0x280bb240)) called at /home/eserte/var/ctps/51911/install/perl-5.18.2/lib/site_perl/5.18.2/Catalyst.pm line 2024
	Catalyst::handle_request("TestApp", "env", HASH(0x2778a390), "response_cb", CODE(0x280bb2a0)) called at /home/eserte/var/ctps/51911/install/perl-5.18.2/lib/site_perl/5.18.2/Catalyst/Engine.pm line 797
	Catalyst::Engine::__ANON__(CODE(0x280bb2a0)) called at /home/eserte/var/ctps/51911/install/perl-5.18.2/lib/site_perl/5.18.2/Plack/Middleware/HTTPExceptions.pm line 32
	Plack::Middleware::HTTPExceptions::try {...} () called at /home/eserte/var/ctps/51911/install/perl-5.18.2/lib/site_perl/5.18.2/Try/Tiny.pm line 81
	eval {...} called at /home/eserte/var/ctps/51911/install/perl-5.18.2/lib/site_perl/5.18.2/Try/Tiny.pm line 72
	Try::Tiny::try(CODE(0x280bb0d8), Try::Tiny::Catch=REF(0x280ba6d8)) called at /home/eserte/var/ctps/51911/install/perl-5.18.2/lib/site_perl/5.18.2/Plack/Middleware/HTTPExceptions.pm line 41
	Plack::Middleware::HTTPExceptions::__ANON__(CODE(0x280bafa8)) called at /home/eserte/var/ctps/51911/install/perl-5.18.2/lib/site_perl/5.18.2/Plack/Util.pm line 301
	Plack::Util::__ANON__(CODE(0x280baea0)) called at /home/eserte/var/ctps/51911/install/perl-5.18.2/lib/site_perl/5.18.2/Plack/Util.pm line 301
	Plack::Util::__ANON__(CODE(0x280bad98)) called at /home/eserte/var/ctps/51911/install/perl-5.18.2/lib/site_perl/5.18.2/Plack/Util.pm line 301
	Plack::Util::__ANON__(CODE(0x280bad20)) called at /home/eserte/var/ctps/51911/install/perl-5.18.2/lib/site_perl/5.18.2/HTTP/Message/PSGI.pm line 100
	HTTP::Message::PSGI::res_from_psgi(CODE(0x280ba5a0)) called at /home/eserte/var/ctps/51911/install/perl-5.18.2/lib/site_perl/5.18.2/HTTP/Message/PSGI.pm line 155
	HTTP::Response::from_psgi("HTTP::Response", CODE(0x280ba5a0)) called at /home/eserte/var/ctps/51911/install/perl-5.18.2/lib/site_perl/5.18.2/Plack/Test/MockHTTP.pm line 24
	Plack::Test::MockHTTP::try {...} () called at /home/eserte/var/ctps/51911/install/perl-5.18.2/lib/site_perl/5.18.2/Try/Tiny.pm line 76
	eval {...} called at /home/eserte/var/ctps/51911/install/perl-5.18.2/lib/site_perl/5.18.2/Try/Tiny.pm line 72
	Try::Tiny::try(CODE(0x2778db58), Try::Tiny::Catch=REF(0x27bac2b8)) called at /home/eserte/var/ctps/51911/install/perl-5.18.2/lib/site_perl/5.18.2/Plack/Test/MockHTTP.pm line 27
	Plack::Test::MockHTTP::request(Plack::Test::MockHTTP=HASH(0x27bc5f30), HTTP::Request=HASH(0x27bbda38)) called at /home/eserte/var/ctps/51911/install/perl-5.18.2/lib/site_perl/5.18.2/Plack/Test.pm line 38
	Plack::Test::__ANON__(HTTP::Request=HASH(0x27bbda38)) called at /home/eserte/var/ctps/51911/install/perl-5.18.2/lib/site_perl/5.18.2/Catalyst/Test.pm line 281
	Catalyst::Test::__ANON__(CODE(0x27bc5d98)) called at /home/eserte/var/ctps/51911/install/perl-5.18.2/lib/site_perl/5.18.2/Plack/Test.pm line 38
	Plack::Test::test_psgi("mangle_response", CODE(0x26041828), "app", CODE(0x27bbd5d0), "app", CODE(0x27bc5bb8), "client", CODE(0x27bc5c60)) called at /home/eserte/var/ctps/51911/install/perl-5.18.2/lib/site_perl/5.18.2/Catalyst/Test.pm line 284
	Catalyst::Test::_request(HASH(0x208136f0), "/email_app_config?time=1399155863") called at /home/eserte/var/ctps/51911/install/perl-5.18.2/lib/site_perl/5.18.2/Catalyst/Test.pm line 327
	Catalyst::Test::_local_request("TestApp", "/email_app_config?time=1399155863") called at /home/eserte/var/ctps/51911/install/perl-5.18.2/lib/site_perl/5.18.2/Catalyst/Test.pm line 32
	Catalyst::Test::__ANON__("/email_app_config?time=1399155863") called at t/06config.t line 21
t/06config.t .... ok
t/07mason.t ..... skipped: Test requires module 'Catalyst::View::Mason' but it's not found
All tests successful.
Files=6, Tests=34, 21 wallclock secs ( 0.06 usr  0.02 sys +  6.71 cusr  0.91 csys =  7.70 CPU)
Result: PASS

------------------------------
PREREQUISITES
------------------------------

Prerequisite modules loaded:

requires:

    Module                Need     Have    
    --------------------- -------- --------
    Authen::SASL          2.13     2.16    
    Catalyst              5.7      5.90062 
    Email::MIME           1.859    1.926   
    Email::MIME::Creator  1.455    1.926   
    Email::Sender::Simple 0.100110 1.300011
    MIME::Base64          3.08     3.14    
    Moose                 0.93     2.1205  
    parent                0.223    0.228   
    Test::More            0.88     1.001003
    Test::Requires        0        0.07    

build_requires:

    Module                Need     Have    
    --------------------- -------- --------
    ExtUtils::MakeMaker   6.36     6.96    
    Test::More            0        1.001003
    Test::Requires        0        0.07    

configure_requires:

    Module                Need     Have    
    --------------------- -------- --------
    ExtUtils::MakeMaker   6.36     6.96    


------------------------------
ENVIRONMENT AND OTHER CONTEXT
------------------------------

Environment variables:

    DBIC_NO_WARN_BAD_PERL = 1
    PATH = /usr/local/bin:/usr/bin:/bin:/usr/local/sbin:/usr/sbin:/sbin:/home/eserte/bin/freebsd9.1:/home/eserte/bin/sh:/home/eserte/bin:/usr/games:/home/eserte/devel:/usr/home/eserte/src/cpan-testers-parallelsmoker/utils
    PERL5LIB = 
    PERL5OPT = 
    PERL5_CPANPLUS_IS_RUNNING = 65195
    PERL5_CPAN_IS_RUNNING = 65195
    PERL5_CPAN_IS_RUNNING_IN_RECURSION = 55440,65195
    PERLDOC = -MPod::Perldoc::ToTextOverstrike
    PERL_BATCH = yes
    PERL_CPAN_REPORTER_DIR = /home/eserte/var/ctps/51911/config/perl-5.18.2/cpanreporter
    PERL_EXTUTILS_AUTOINSTALL = --defaultdeps
    PERL_HTML_DISPLAY_CLASS = HTML::Display::Mozilla
    PERL_PARALLEL_SMOKER = yes
    PERL_TEST_UNPATCHED = 1
    PERL_TEST_UNPATCHED = 1
    SHELL = /usr/local/bin/zsh
    TERM = xterm
    TMPDIR = /var/tmp/cpansmoker-1000

Perl special variables (and OS-specific diagnostics, for MSWin32):

    $^X = /usr/home/eserte/var/ctps/51911/install/perl-5.18.2/bin/perl5.18.2
    $UID/$EUID = 1000 / 1000
    $GID = 1000 1000 0 5
    $EGID = 1000 1000 0 5

Perl module toolchain versions installed:

    Module              Have    
    ------------------- --------
    CPAN                2.05    
    CPAN::Meta          2.141170
    Cwd                 3.40    
    ExtUtils::CBuilder  0.280216
    ExtUtils::Command   1.18    
    ExtUtils::Install   1.67    
    ExtUtils::MakeMaker 6.96    
    ExtUtils::Manifest  1.63    
    ExtUtils::ParseXS   3.24    
    File::Spec          3.40    
    JSON                2.90    
    JSON::PP            2.27203 
    Module::Build       0.4205  
    Module::Signature   0.73    
    Parse::CPAN::Meta   1.4414  
    Test::Harness       3.30    
    Test::More          1.001003
    YAML                0.90    
    YAML::Syck          1.27    
    version             0.9908  


--

Summary of my perl5 (revision 5 version 18 subversion 2) configuration:
   
  Platform:
    osname=freebsd, osvers=9.2-release, archname=amd64-freebsd
    uname='freebsd cvrsnica-freebsd-92-ctps-51911.herceg.de 9.2-release freebsd 9.2-release #0 r255898: thu sep 26 22:50:31 utc 2013 root@bake.isc.freebsd.org:usrobjusrsrcsysgeneric amd64 '
    config_args='-ds -e -Uversiononly -Dinstallusrbinperl=n -Dusedevel -Dprefix=/home/eserte/var/ctps/51911/install/perl-5.18.2'
    hint=recommended, useposix=true, d_sigaction=define
    useithreads=undef, usemultiplicity=undef
    useperlio=define, d_sfio=undef, uselargefiles=define, usesocks=undef
    use64bitint=define, use64bitall=define, uselongdouble=undef
    usemymalloc=n, bincompat5005=undef
  Compiler:
    cc='cc', ccflags ='-DHAS_FPSETMASK -DHAS_FLOATINGPOINT_H -fno-strict-aliasing -pipe -fstack-protector -I/usr/local/include',
    optimize='-O',
    cppflags='-DHAS_FPSETMASK -DHAS_FLOATINGPOINT_H -fno-strict-aliasing -pipe -fstack-protector -I/usr/local/include'
    ccversion='', gccversion='4.2.1 20070831 patched [FreeBSD]', gccosandvers=''
    intsize=4, longsize=8, ptrsize=8, doublesize=8, byteorder=12345678
    d_longlong=define, longlongsize=8, d_longdbl=define, longdblsize=16
    ivtype='long', ivsize=8, nvtype='double', nvsize=8, Off_t='off_t', lseeksize=8
    alignbytes=8, prototype=define
  Linker and Libraries:
    ld='cc', ldflags ='-Wl,-E  -fstack-protector -L/usr/local/lib'
    libpth=/usr/lib /usr/local/lib
    libs=-lgdbm -lm -lcrypt -lutil -lc
    perllibs=-lm -lcrypt -lutil -lc
    libc=, so=so, useshrplib=false, libperl=libperl.a
    gnulibc_version=''
  Dynamic Linking:
    dlsrc=dl_dlopen.xs, dlext=so, d_dlsymun=undef, ccdlflags=' '
    cccdlflags='-DPIC -fPIC', lddlflags='-shared  -L/usr/local/lib -fstack-protector'


Characteristics of this binary (from libperl): 
  Compile-time options: HAS_TIMES PERLIO_LAYERS PERL_DONT_CREATE_GVSV
                        PERL_HASH_FUNC_ONE_AT_A_TIME_HARD PERL_MALLOC_WRAP
                        PERL_PRESERVE_IVUV PERL_SAWAMPERSAND PERL_USE_DEVEL
                        USE_64_BIT_ALL USE_64_BIT_INT USE_LARGE_FILES
                        USE_LOCALE USE_LOCALE_COLLATE USE_LOCALE_CTYPE
                        USE_LOCALE_NUMERIC USE_PERLIO USE_PERL_ATOF
  Built under freebsd
  Compiled at Apr 25 2014 08:12:08
  %ENV:
    PERL5LIB=""
    PERL5OPT=""
    PERL5_CPANPLUS_IS_RUNNING="65195"
    PERL5_CPAN_IS_RUNNING="65195"
    PERL5_CPAN_IS_RUNNING_IN_RECURSION="55440,65195"
    PERLDOC="-MPod::Perldoc::ToTextOverstrike"
    PERL_BATCH="yes"
    PERL_CPAN_REPORTER_DIR="/home/eserte/var/ctps/51911/config/perl-5.18.2/cpanreporter"
    PERL_EXTUTILS_AUTOINSTALL="--defaultdeps"
    PERL_HTML_DISPLAY_CLASS="HTML::Display::Mozilla"
    PERL_PARALLEL_SMOKER="yes"
    PERL_TEST_UNPATCHED="1"
  @INC:
    /home/eserte/var/ctps/51911/install/perl-5.18.2/lib/site_perl/5.18.2/amd64-freebsd
    /home/eserte/var/ctps/51911/install/perl-5.18.2/lib/site_perl/5.18.2
    /home/eserte/var/ctps/51911/install/perl-5.18.2/lib/5.18.2/amd64-freebsd
    /home/eserte/var/ctps/51911/install/perl-5.18.2/lib/5.18.2
    .