MooseX-Role-BuildInstanceOf v0.08 Perl 5 v5.39.7 x86_64-linux-thread-multi-ld
- Status
- Pass
- From
- Andreas J. König (ANDK)
- Dist
-
MooseX-Role-BuildInstanceOf v0.08
- Platform
- Perl 5 v5.39.7 x86_64-linux-thread-multi-ld
- Date
- 2024-02-19 22:40:03
- ID
- d26d1e10-cf77-11ee-988d-373be9fa32e4
This distribution has been tested as part of the CPAN Testers
project, supporting the Perl programming language. See
http://wiki.cpantesters.org/ for more information or email
questions to cpan-testers-discuss@perl.org
--
Dear John Napiorkowski,
This is a computer-generated report for MooseX-Role-BuildInstanceOf-0.08
on perl 5.39.7, created by CPAN-Reporter-1.2019.
Thank you for uploading your work to CPAN. Congratulations!
All tests were successful.
Sections of this report:
* Tester comments
* Program output
* Prerequisites
* Environment and other context
------------------------------
TESTER COMMENTS
------------------------------
Additional comments from tester:
this report is from an automated smoke testing program
and was not reviewed by a human for accuracy
------------------------------
PROGRAM OUTPUT
------------------------------
Output from '/usr/bin/make test':
PERL_DL_NONLAZY=1 "/tmp/basesmoker-reloperl-jG7_/bin/perl" "-MExtUtils::Command::MM" "-MTest::Harness" "-e" "undef *Test::Harness::Switches; test_harness(0, 'blib/lib', 'blib/arch')" t/*.t
t/01-load.t ............... ok
Attempt to call undefined import method with arguments ("No trouble loading the Album class") via package "Album" (Perhaps you forgot to load the package?) at t/02-basic.t line 6.
Class::MOP::load_class is deprecated at /home/sand/src/perl/repoperls/installed-perls/host/k93focal/v5.39.7/e463/lib/site_perl/5.39.7/x86_64-linux-thread-multi-ld/Class/MOP.pm line 69.
Class::MOP::load_class("Album::Storage::File") called at /tmp/loop_over_bdir-2802-qxm3c3/MooseX-Role-BuildInstanceOf-0.08-0/blib/lib/MooseX/Role/BuildInstanceOf.pm line 15
MooseX::Role::BuildInstanceOf::__ANON__("Album::Storage::File") called at /home/sand/src/perl/repoperls/installed-perls/host/k93focal/v5.39.7/e463/lib/site_perl/5.39.7/x86_64-linux-thread-multi-ld/Moose/Meta/TypeCoercion.pm line 65
Moose::Meta::TypeCoercion::__ANON__("Album::Storage::File") called at /home/sand/src/perl/repoperls/installed-perls/host/k93focal/v5.39.7/e463/lib/site_perl/5.39.7/x86_64-linux-thread-multi-ld/Moose/Meta/TypeCoercion.pm line 100
Moose::Meta::TypeCoercion::coerce(Moose::Meta::TypeCoercion=HASH(0x55e101971e50), "Album::Storage::File") called at /home/sand/src/perl/repoperls/installed-perls/host/k93focal/v5.39.7/e463/lib/site_perl/5.39.7/x86_64-linux-thread-multi-ld/Moose/Meta/TypeConstraint.pm line 145
Moose::Meta::TypeConstraint::coerce(Moose::Meta::TypeConstraint=HASH(0x55e10196db50), "Album::Storage::File") called at /home/sand/src/perl/repoperls/installed-perls/host/k93focal/v5.39.7/e463/lib/site_perl/5.39.7/x86_64-linux-thread-multi-ld/Moose/Meta/Attribute.pm line 1315
Moose::Meta::Attribute::_coerce_and_verify(Moose::Meta::Attribute=HASH(0x55e1019e2910), "Album::Storage::File", Album=HASH(0x55e100237220)) called at /home/sand/src/perl/repoperls/installed-perls/host/k93focal/v5.39.7/e463/lib/site_perl/5.39.7/x86_64-linux-thread-multi-ld/Moose/Meta/Attribute.pm line 517
Moose::Meta::Attribute::initialize_instance_slot(Moose::Meta::Attribute=HASH(0x55e1019e2910), Moose::Meta::Instance=HASH(0x55e101a9db40), Album=HASH(0x55e100237220), HASH(0x55e100229f60)) called at /home/sand/src/perl/repoperls/installed-perls/host/k93focal/v5.39.7/e463/lib/site_perl/5.39.7/x86_64-linux-thread-multi-ld/Class/MOP/Class.pm line 526
Class::MOP::Class::_construct_instance(Moose::Meta::Class=HASH(0x55e10166e030), HASH(0x55e100229f60)) called at /home/sand/src/perl/repoperls/installed-perls/host/k93focal/v5.39.7/e463/lib/site_perl/5.39.7/x86_64-linux-thread-multi-ld/Class/MOP/Class.pm line 496
Class::MOP::Class::new_object(Moose::Meta::Class=HASH(0x55e10166e030), HASH(0x55e100229f60)) called at /home/sand/src/perl/repoperls/installed-perls/host/k93focal/v5.39.7/e463/lib/site_perl/5.39.7/x86_64-linux-thread-multi-ld/Moose/Meta/Class.pm line 275
Moose::Meta::Class::new_object(Moose::Meta::Class=HASH(0x55e10166e030), HASH(0x55e100229f60)) called at /home/sand/src/perl/repoperls/installed-perls/host/k93focal/v5.39.7/e463/lib/site_perl/5.39.7/x86_64-linux-thread-multi-ld/Moose/Object.pm line 24
Moose::Object::new("Album", "storage_args", ARRAY(0x55e10021ff20), "storage_class", "Album::Storage::File") called at t/02-basic.t line 9
Class::MOP::load_class is deprecated at /home/sand/src/perl/repoperls/installed-perls/host/k93focal/v5.39.7/e463/lib/site_perl/5.39.7/x86_64-linux-thread-multi-ld/Class/MOP.pm line 69.
Class::MOP::load_class("Album::Image") called at t/lib/Album/ResourceTypes.pm line 18
Album::ResourceTypes::__ANON__(ARRAY(0x55e1007fcfa0)) called at /home/sand/src/perl/repoperls/installed-perls/host/k93focal/v5.39.7/e463/lib/site_perl/5.39.7/x86_64-linux-thread-multi-ld/Moose/Meta/TypeCoercion.pm line 65
Moose::Meta::TypeCoercion::__ANON__(ARRAY(0x55e1007fcfa0)) called at /home/sand/src/perl/repoperls/installed-perls/host/k93focal/v5.39.7/e463/lib/site_perl/5.39.7/x86_64-linux-thread-multi-ld/Moose/Meta/TypeCoercion.pm line 100
Moose::Meta::TypeCoercion::coerce(Moose::Meta::TypeCoercion=HASH(0x55e102276cf0), ARRAY(0x55e1007fcfa0)) called at /home/sand/src/perl/repoperls/installed-perls/host/k93focal/v5.39.7/e463/lib/site_perl/5.39.7/x86_64-linux-thread-multi-ld/Moose/Meta/TypeConstraint.pm line 145
Moose::Meta::TypeConstraint::coerce(Moose::Meta::TypeConstraint::Parameterizable=HASH(0x55e1021600b8), ARRAY(0x55e1007fcfa0)) called at /home/sand/src/perl/repoperls/installed-perls/host/k93focal/v5.39.7/e463/lib/site_perl/5.39.7/x86_64-linux-thread-multi-ld/Moose/Meta/Attribute.pm line 1315
Moose::Meta::Attribute::_coerce_and_verify(Moose::Meta::Attribute=HASH(0x55e1022885b0), ARRAY(0x55e1007fcfa0), Album::ResourceTypes=HASH(0x55e1020d3898)) called at /home/sand/src/perl/repoperls/installed-perls/host/k93focal/v5.39.7/e463/lib/site_perl/5.39.7/x86_64-linux-thread-multi-ld/Moose/Meta/Attribute.pm line 517
Moose::Meta::Attribute::initialize_instance_slot(Moose::Meta::Attribute=HASH(0x55e1022885b0), Moose::Meta::Instance=HASH(0x55e10228b808), Album::ResourceTypes=HASH(0x55e1020d3898), HASH(0x55e10022a920)) called at /home/sand/src/perl/repoperls/installed-perls/host/k93focal/v5.39.7/e463/lib/site_perl/5.39.7/x86_64-linux-thread-multi-ld/Class/MOP/Class.pm line 526
Class::MOP::Class::_construct_instance(Moose::Meta::Class=HASH(0x55e1001fdb08), HASH(0x55e10022a920)) called at /home/sand/src/perl/repoperls/installed-perls/host/k93focal/v5.39.7/e463/lib/site_perl/5.39.7/x86_64-linux-thread-multi-ld/Class/MOP/Class.pm line 496
Class::MOP::Class::new_object(Moose::Meta::Class=HASH(0x55e1001fdb08), HASH(0x55e10022a920)) called at /home/sand/src/perl/repoperls/installed-perls/host/k93focal/v5.39.7/e463/lib/site_perl/5.39.7/x86_64-linux-thread-multi-ld/Moose/Meta/Class.pm line 275
Moose::Meta::Class::new_object(Moose::Meta::Class=HASH(0x55e1001fdb08), HASH(0x55e10022a920)) called at /home/sand/src/perl/repoperls/installed-perls/host/k93focal/v5.39.7/e463/lib/site_perl/5.39.7/x86_64-linux-thread-multi-ld/Moose/Object.pm line 24
Moose::Object::new("Album::ResourceTypes", "resources", ARRAY(0x55e1007fcfa0)) called at inline delegation in Album for resource_types_class->new (attribute declared in /tmp/loop_over_bdir-2802-qxm3c3/MooseX-Role-BuildInstanceOf-0.08-0/blib/lib/MooseX/Role/BuildInstanceOf.pm at line 93) line 18
Album::create_resource_types(Album=HASH(0x55e100237220), "resources", ARRAY(0x55e1007fcfa0)) called at /tmp/loop_over_bdir-2802-qxm3c3/MooseX-Role-BuildInstanceOf-0.08-0/blib/lib/MooseX/Role/BuildInstanceOf.pm line 196
MooseX::Role::BuildInstanceOf::__ANON__::SERIAL::3::_build_resource_types(Album=HASH(0x55e100237220)) called at reader Album::resource_types (defined at /tmp/loop_over_bdir-2802-qxm3c3/MooseX-Role-BuildInstanceOf-0.08-0/blib/lib/MooseX/Role/BuildInstanceOf.pm line 176) line 8
Album::resource_types(Album=HASH(0x55e100237220)) called at t/02-basic.t line 17
t/02-basic.t .............. ok
Class::MOP::load_class is deprecated at /home/sand/src/perl/repoperls/installed-perls/host/k93focal/v5.39.7/e463/lib/site_perl/5.39.7/x86_64-linux-thread-multi-ld/Class/MOP.pm line 69.
Class::MOP::load_class("Foo::Bar") called at /tmp/loop_over_bdir-2802-qxm3c3/MooseX-Role-BuildInstanceOf-0.08-0/blib/lib/MooseX/Role/BuildInstanceOf.pm line 15
MooseX::Role::BuildInstanceOf::__ANON__("Foo::Bar") called at /home/sand/src/perl/repoperls/installed-perls/host/k93focal/v5.39.7/e463/lib/site_perl/5.39.7/x86_64-linux-thread-multi-ld/Moose/Meta/TypeCoercion.pm line 65
Moose::Meta::TypeCoercion::__ANON__("Foo::Bar") called at reader Foo::bar_class (defined at /tmp/loop_over_bdir-2802-qxm3c3/MooseX-Role-BuildInstanceOf-0.08-0/blib/lib/MooseX/Role/BuildInstanceOf.pm line 93) line 15
Foo::bar_class(Foo=HASH(0x55e6fa8bbd00)) called at inline delegation in Foo for bar_class->new (attribute declared in /tmp/loop_over_bdir-2802-qxm3c3/MooseX-Role-BuildInstanceOf-0.08-0/blib/lib/MooseX/Role/BuildInstanceOf.pm at line 93) line 4
Foo::create_bar(Foo=HASH(0x55e6fa8bbd00), "parent", Foo=HASH(0x55e6fa8bbd00), "thingy", "toaster", "that", "stuff") called at /tmp/loop_over_bdir-2802-qxm3c3/MooseX-Role-BuildInstanceOf-0.08-0/blib/lib/MooseX/Role/BuildInstanceOf.pm line 196
MooseX::Role::BuildInstanceOf::__ANON__::SERIAL::1::_build_bar(Foo=HASH(0x55e6fa8bbd00)) called at reader Foo::bar (defined at /tmp/loop_over_bdir-2802-qxm3c3/MooseX-Role-BuildInstanceOf-0.08-0/blib/lib/MooseX/Role/BuildInstanceOf.pm line 176) line 8
Foo::bar(Foo=HASH(0x55e6fa8bbd00)) called at t/inherit-arguments.t line 15
t/inherit-arguments.t ..... ok
t/release-eol.t ........... skipped: these tests are for release candidate testing
t/release-no-tabs.t ....... skipped: these tests are for release candidate testing
t/release-pod-coverage.t .. skipped: these tests are for release candidate testing
t/release-pod-syntax.t .... skipped: these tests are for release candidate testing
All tests successful.
Files=7, Tests=13, 1 wallclock secs ( 0.03 usr 0.01 sys + 1.44 cusr 0.18 csys = 1.66 CPU)
Result: PASS
------------------------------
PREREQUISITES
------------------------------
Prerequisite modules loaded:
requires:
Module Need Have
---------------------------- ---- --------
Moose::Util::TypeConstraints 0 2.2207
MooseX::Role::Parameterized 0.13 1.11
build_requires:
Module Need Have
---------------------------- ---- --------
Class::MOP 0 2.2207
List::MoreUtils 0 0.430
List::Util 0 1.63
Moose 0 2.2207
Moose::Role 0 2.2207
MooseX::Iterator 0 0.11
MooseX::Types::Path::Class 0 0.09
Perl6::Junction 0 1.60000
Scalar::Util 0 1.63
strict 0 1.13
Test::More 0 1.302198
warnings 0 1.67
configure_requires:
Module Need Have
---------------------------- ---- --------
ExtUtils::MakeMaker 6.30 7.70
------------------------------
ENVIRONMENT AND OTHER CONTEXT
------------------------------
Environment variables:
AUTOMATED_TESTING = 1
LANG = en_US.UTF-8
PATH = /home/sand/bin:/usr/local/bin:/usr/local/sbin:/usr/sbin:/usr/bin:/sbin:/bin:/usr/games:/usr/local/games:/snap/bin:/usr/local/perl/bin:/usr/X11/bin
PERL = /tmp/basesmoker-reloperl-jG7_/bin/perl
PERL5LIB = /tmp/loop_over_bdir-2802-qxm3c3/App-oo_modulino_zsh_completion_helper-0.04-0/blib/arch:/tmp/loop_over_bdir-2802-qxm3c3/App-oo_modulino_zsh_completion_helper-0.04-0/blib/lib:/tmp/loop_over_bdir-2802-qxm3c3/CORBA-Python-2.66-0/blib/arch:/tmp/loop_over_bdir-2802-qxm3c3/CORBA-Python-2.66-0/blib/lib:/tmp/loop_over_bdir-2802-qxm3c3/dta-tokwrap-0.98-0/blib/arch:/tmp/loop_over_bdir-2802-qxm3c3/dta-tokwrap-0.98-0/blib/lib:/tmp/loop_over_bdir-2802-qxm3c3/LCFG-Build-Tools-0.9.30-0/blib/arch:/tmp/loop_over_bdir-2802-qxm3c3/LCFG-Build-Tools-0.9.30-0/blib/lib:/tmp/loop_over_bdir-2802-qxm3c3/Linux-InitFS-0.2-0/blib/arch:/tmp/loop_over_bdir-2802-qxm3c3/Linux-InitFS-0.2-0/blib/lib:/tmp/loop_over_bdir-2802-qxm3c3/Sysync-0.35-0/blib/arch:/tmp/loop_over_bdir-2802-qxm3c3/Sysync-0.35-0/blib/lib:/tmp/loop_over_bdir-2802-qxm3c3/Devel-Required-0.16-0/blib/arch:/tmp/loop_over_bdir-2802-qxm3c3/Devel-Required-0.16-0/blib/lib:/tmp/loop_over_bdir-2802-qxm3c3/Lingua-BioYaTeA-0.11-0/blib/arch:/tmp/loop_over_bdir-2802-qxm3c3/Lingua-BioYaTeA-0.11-0/blib/lib:/tmp/loop_over_bdir-2802-qxm3c3/RDF-NLP-SPARQLQuery-0.1-0/blib/arch:/tmp/loop_over_bdir-2802-qxm3c3/RDF-NLP-SPARQLQuery-0.1-0/blib/lib:/tmp/loop_over_bdir-2802-qxm3c3/Lingua-YaTeA-0.626-0/blib/arch:/tmp/loop_over_bdir-2802-qxm3c3/Lingua-YaTeA-0.626-0/blib/lib
PERL5OPT =
PERL5_CPANPLUS_IS_RUNNING = 2811
PERL5_CPAN_IS_RUNNING = 2811
PERL_CANARY_STABILITY_NOPROMPT = 1
PERL_MM_USE_DEFAULT = 1
PERL_USE_UNSAFE_INC = 1
SHELL = /usr/bin/zsh
TERM = screen
Perl special variables (and OS-specific diagnostics, for MSWin32):
$^X = /tmp/basesmoker-reloperl-jG7_/bin/perl
$UID/$EUID = 1005 / 1005
$GID = 1005 1005
$EGID = 1005 1005
Perl module toolchain versions installed:
Module Have
------------------- --------
CPAN 2.36
CPAN::Meta 2.150010
Cwd 3.90
ExtUtils::CBuilder 0.280240
ExtUtils::Command 7.70
ExtUtils::Install 2.22
ExtUtils::MakeMaker 7.70
ExtUtils::Manifest 1.75
ExtUtils::ParseXS 3.51
File::Spec 3.90
JSON 4.10
JSON::PP 4.16
Module::Build 0.4234
Module::Signature 0.88
Parse::CPAN::Meta 2.150010
Test2 1.302198
Test::Harness 3.48
Test::More 1.302198
YAML 1.31
YAML::Syck 1.34
version 0.9930
--
Summary of my perl5 (revision 5 version 39 subversion 7) configuration:
Commit id: 96559478fdc3f2fe9c51cad02ebbae0c950b7b68
Platform:
osname=linux
osvers=5.4.0-169-generic
archname=x86_64-linux-thread-multi-ld
uname='linux k93focal 5.4.0-169-generic #187-ubuntu smp thu nov 23 14:52:28 utc 2023 x86_64 x86_64 x86_64 gnulinux '
config_args='-Dprefix=/home/sand/src/perl/repoperls/installed-perls/host/k93focal/v5.39.7/e463 -Dmyhostname=k93focal -Dinstallusrbinperl=n -Uversiononly -Dusedevel -des -Ui_db -Dlibswanted=cl pthread socket inet nsl gdbm dbm malloc dl ld sun m crypt sec util c cposix posix ucb BSD gdbm_compat -Duseithreads -Duselongdouble -DEBUGGING=both'
hint=recommended
useposix=true
d_sigaction=define
useithreads=define
usemultiplicity=define
use64bitint=define
use64bitall=define
uselongdouble=define
usemymalloc=n
default_inc_excludes_dot=define
Compiler:
cc='cc'
ccflags ='-D_REENTRANT -D_GNU_SOURCE -fwrapv -DDEBUGGING -fno-strict-aliasing -pipe -fstack-protector-strong -I/usr/local/include -D_LARGEFILE_SOURCE -D_FILE_OFFSET_BITS=64'
optimize='-O2 -g'
cppflags='-D_REENTRANT -D_GNU_SOURCE -fwrapv -DDEBUGGING -fno-strict-aliasing -pipe -fstack-protector-strong -I/usr/local/include'
ccversion=''
gccversion='9.4.0'
gccosandvers=''
intsize=4
longsize=8
ptrsize=8
doublesize=8
byteorder=12345678
doublekind=3
d_longlong=define
longlongsize=8
d_longdbl=define
longdblsize=16
longdblkind=3
ivtype='long'
ivsize=8
nvtype='long double'
nvsize=16
Off_t='off_t'
lseeksize=8
alignbytes=16
prototype=define
Linker and Libraries:
ld='cc'
ldflags =' -fstack-protector-strong -L/usr/local/lib'
libpth=/usr/local/lib /usr/lib/x86_64-linux-gnu /usr/lib /usr/lib64
libs=-lpthread -lnsl -ldl -lm -lcrypt -lutil -lc
perllibs=-lpthread -lnsl -ldl -lm -lcrypt -lutil -lc
libc=libc-2.31.so
so=so
useshrplib=false
libperl=libperl.a
gnulibc_version='2.31'
Dynamic Linking:
dlsrc=dl_dlopen.xs
dlext=so
d_dlsymun=undef
ccdlflags='-Wl,-E'
cccdlflags='-fPIC'
lddlflags='-shared -O2 -g -L/usr/local/lib -fstack-protector-strong'
Characteristics of this binary (from libperl):
Compile-time options:
DEBUGGING
HAS_LONG_DOUBLE
HAS_STRTOLD
HAS_TIMES
MULTIPLICITY
PERLIO_LAYERS
PERL_COPY_ON_WRITE
PERL_DONT_CREATE_GVSV
PERL_HASH_FUNC_SIPHASH13
PERL_HASH_USE_SBOX32
PERL_MALLOC_WRAP
PERL_OP_PARENT
PERL_PRESERVE_IVUV
PERL_TRACK_MEMPOOL
PERL_USE_DEVEL
PERL_USE_SAFE_PUTENV
USE_64_BIT_ALL
USE_64_BIT_INT
USE_ITHREADS
USE_LARGE_FILES
USE_LOCALE
USE_LOCALE_COLLATE
USE_LOCALE_CTYPE
USE_LOCALE_NUMERIC
USE_LOCALE_TIME
USE_LONG_DOUBLE
USE_PERLIO
USE_PERL_ATOF
USE_REENTRANT_API
USE_THREAD_SAFE_LOCALE
Built under linux
Compiled at Jan 20 2024 15:23:25
%ENV:
PERL="/tmp/basesmoker-reloperl-jG7_/bin/perl"
PERL5LIB="/tmp/loop_over_bdir-2802-qxm3c3/App-oo_modulino_zsh_completion_helper-0.04-0/blib/arch:/tmp/loop_over_bdir-2802-qxm3c3/App-oo_modulino_zsh_completion_helper-0.04-0/blib/lib:/tmp/loop_over_bdir-2802-qxm3c3/CORBA-Python-2.66-0/blib/arch:/tmp/loop_over_bdir-2802-qxm3c3/CORBA-Python-2.66-0/blib/lib:/tmp/loop_over_bdir-2802-qxm3c3/dta-tokwrap-0.98-0/blib/arch:/tmp/loop_over_bdir-2802-qxm3c3/dta-tokwrap-0.98-0/blib/lib:/tmp/loop_over_bdir-2802-qxm3c3/LCFG-Build-Tools-0.9.30-0/blib/arch:/tmp/loop_over_bdir-2802-qxm3c3/LCFG-Build-Tools-0.9.30-0/blib/lib:/tmp/loop_over_bdir-2802-qxm3c3/Linux-InitFS-0.2-0/blib/arch:/tmp/loop_over_bdir-2802-qxm3c3/Linux-InitFS-0.2-0/blib/lib:/tmp/loop_over_bdir-2802-qxm3c3/Sysync-0.35-0/blib/arch:/tmp/loop_over_bdir-2802-qxm3c3/Sysync-0.35-0/blib/lib:/tmp/loop_over_bdir-2802-qxm3c3/Devel-Required-0.16-0/blib/arch:/tmp/loop_over_bdir-2802-qxm3c3/Devel-Required-0.16-0/blib/lib:/tmp/loop_over_bdir-2802-qxm3c3/Lingua-BioYaTeA-0.11-0/blib/arch:/tmp/loop_over_bdir-2802-qxm3c3/Lingua-BioYaTeA-0.11-0/blib/lib:/tmp/loop_over_bdir-2802-qxm3c3/RDF-NLP-SPARQLQuery-0.1-0/blib/arch:/tmp/loop_over_bdir-2802-qxm3c3/RDF-NLP-SPARQLQuery-0.1-0/blib/lib:/tmp/loop_over_bdir-2802-qxm3c3/Lingua-YaTeA-0.626-0/blib/arch:/tmp/loop_over_bdir-2802-qxm3c3/Lingua-YaTeA-0.626-0/blib/lib"
PERL5OPT=""
PERL5_CPANPLUS_IS_RUNNING="2811"
PERL5_CPAN_IS_RUNNING="2811"
PERL_CANARY_STABILITY_NOPROMPT="1"
PERL_MM_USE_DEFAULT="1"
PERL_USE_UNSAFE_INC="1"
@INC:
/tmp/loop_over_bdir-2802-qxm3c3/App-oo_modulino_zsh_completion_helper-0.04-0/blib/arch
/tmp/loop_over_bdir-2802-qxm3c3/App-oo_modulino_zsh_completion_helper-0.04-0/blib/lib
/tmp/loop_over_bdir-2802-qxm3c3/CORBA-Python-2.66-0/blib/arch
/tmp/loop_over_bdir-2802-qxm3c3/CORBA-Python-2.66-0/blib/lib
/tmp/loop_over_bdir-2802-qxm3c3/dta-tokwrap-0.98-0/blib/arch
/tmp/loop_over_bdir-2802-qxm3c3/dta-tokwrap-0.98-0/blib/lib
/tmp/loop_over_bdir-2802-qxm3c3/LCFG-Build-Tools-0.9.30-0/blib/arch
/tmp/loop_over_bdir-2802-qxm3c3/LCFG-Build-Tools-0.9.30-0/blib/lib
/tmp/loop_over_bdir-2802-qxm3c3/Linux-InitFS-0.2-0/blib/arch
/tmp/loop_over_bdir-2802-qxm3c3/Linux-InitFS-0.2-0/blib/lib
/tmp/loop_over_bdir-2802-qxm3c3/Sysync-0.35-0/blib/arch
/tmp/loop_over_bdir-2802-qxm3c3/Sysync-0.35-0/blib/lib
/tmp/loop_over_bdir-2802-qxm3c3/Devel-Required-0.16-0/blib/arch
/tmp/loop_over_bdir-2802-qxm3c3/Devel-Required-0.16-0/blib/lib
/tmp/loop_over_bdir-2802-qxm3c3/Lingua-BioYaTeA-0.11-0/blib/arch
/tmp/loop_over_bdir-2802-qxm3c3/Lingua-BioYaTeA-0.11-0/blib/lib
/tmp/loop_over_bdir-2802-qxm3c3/RDF-NLP-SPARQLQuery-0.1-0/blib/arch
/tmp/loop_over_bdir-2802-qxm3c3/RDF-NLP-SPARQLQuery-0.1-0/blib/lib
/tmp/loop_over_bdir-2802-qxm3c3/Lingua-YaTeA-0.626-0/blib/arch
/tmp/loop_over_bdir-2802-qxm3c3/Lingua-YaTeA-0.626-0/blib/lib
/home/sand/src/perl/repoperls/installed-perls/host/k93focal/v5.39.7/e463/lib/site_perl/5.39.7/x86_64-linux-thread-multi-ld
/home/sand/src/perl/repoperls/installed-perls/host/k93focal/v5.39.7/e463/lib/site_perl/5.39.7
/home/sand/src/perl/repoperls/installed-perls/host/k93focal/v5.39.7/e463/lib/5.39.7/x86_64-linux-thread-multi-ld
/home/sand/src/perl/repoperls/installed-perls/host/k93focal/v5.39.7/e463/lib/5.39.7
.