Report for HTML-Format-2.11

Back
From: metabase:user:d49cdc72-1559-11e3-9efd-e82414baadac
Subject: PASS HTML-Format-2.11 v5.21.1 GNU/Linux
Date: 2014-06-24T19:22:03Z

This distribution has been tested as part of the CPAN Testers
project, supporting the Perl programming language.  See
http://wiki.cpantesters.org/ for more information or email
questions to cpan-testers-discuss@perl.org


--
Dear NIGELM,

This is a computer-generated report for HTML-Format-2.11
on perl 5.21.1, created by App::cpanminus::reporter 0.10 (1.7004).

Thank you for uploading your work to CPAN.  Congratulations!
All tests were successful.

Sections of this report:

    * Tester comments
    * Program output
    * Prerequisites
    * Environment and other context

------------------------------
TESTER COMMENTS
------------------------------

Additional comments from tester:

none provided

------------------------------
PROGRAM OUTPUT
------------------------------

Output from '':

Building and testing HTML-Format-2.11
Building HTML-Format
t/00-compile.t ............... ok
# Testing with Perl 5.021001, /home/kent/perl5/perlbrew/perls/5.21.1-sdbm/bin/perl5.21.1
#     Carp version is 1.34
#     Data::Dumper version is 2.152
#     Encode version is 2.62
#     File::Slurp version is 9999.19
#     File::Spec version is 3.48
#     Font::Metrics::Courier version is undefined
#     Font::Metrics::CourierBold version is undefined
#     Font::Metrics::CourierBoldOblique version is undefined
#     Font::Metrics::CourierOblique version is undefined
#     Font::Metrics::Helvetica version is undefined
#     Font::Metrics::HelveticaBold version is undefined
#     Font::Metrics::HelveticaBoldOblique version is undefined
#     Font::Metrics::HelveticaOblique version is undefined
#     Font::Metrics::TimesBold version is undefined
#     Font::Metrics::TimesBoldItalic version is undefined
#     Font::Metrics::TimesItalic version is undefined
#     Font::Metrics::TimesRoman version is undefined
#     HTML::Element version is 5.03
#     HTML::TreeBuilder version is 5.03
#     IO::File version is 1.16
#     IO::Handle version is 1.35
#     IPC::Open3 version is 1.16
#     Module::Build version is 0.4205
#     Scalar::Util version is 1.39
#     Test::More version is 1.001003
#     base version is 2.22
#     bytes version is 1.04
#     integer version is 1.01
#     parent version is 0.228
#     strict version is 1.08
#     utf8 version is 1.14
#     warnings version is 1.24
t/000-report-versions.t ...... ok
t/01_ps.t .................... ok
t/02_rtf.t ................... ok
t/03_text.t .................. ok
t/04_md.t .................... ok
t/author-critic.t ............ skipped: these tests are for testing by the author
t/author-pod-spell.t ......... skipped: these tests are for testing by the author
t/release-dist-manifest.t .... skipped: these tests are for release candidate testing
t/release-distmeta.t ......... skipped: these tests are for release candidate testing
t/release-eol.t .............. skipped: these tests are for release candidate testing
t/release-has-version.t ...... skipped: these tests are for release candidate testing
t/release-minimum-version.t .. skipped: these tests are for release candidate testing
t/release-no-tabs.t .......... skipped: these tests are for release candidate testing
t/release-pod-syntax.t ....... skipped: these tests are for release candidate testing
t/release-portability.t ...... skipped: these tests are for release candidate testing
t/release-synopsis.t ......... skipped: these tests are for release candidate testing
t/release-unused-vars.t ...... skipped: these tests are for release candidate testing
t/rt69426.t .................. ok
All tests successful.
Files=19, Tests=103,  2 wallclock secs ( 0.09 usr  0.05 sys +  1.05 cusr  0.32 csys =  1.51 CPU)
Result: PASS

------------------------------
PREREQUISITES
------------------------------

Prerequisite modules loaded:

    No requirements found

------------------------------
ENVIRONMENT AND OTHER CONTEXT
------------------------------

Environment variables:

    LC_CTYPE = en_NZ.UTF8
    PATH = /home/kent/perl5/perlbrew/bin:/home/kent/perl5/perlbrew/perls/5.21.1-sdbm/bin:/home/kent/.perl6/2013.04/bin:/home/kent/.gem/ruby/1.8/bin/:/usr/local/bin:/usr/bin:/bin:/opt/bin:/usr/x86_64-pc-linux-gnu/gcc-bin/4.8.3:/usr/games/bin
    PERLBREW_BASHRC_VERSION = 0.69
    PERLBREW_HOME = /home/kent/.perlbrew
    PERLBREW_MANPATH = /home/kent/perl5/perlbrew/perls/5.21.1-sdbm/man
    PERLBREW_PATH = /home/kent/perl5/perlbrew/bin:/home/kent/perl5/perlbrew/perls/5.21.1-sdbm/bin
    PERLBREW_PERL = 5.21.1-sdbm
    PERLBREW_ROOT = /home/kent/perl5/perlbrew
    PERLBREW_VERSION = 0.69
    PERL_CPANM_OPT =  --prompt --interactive --verify
    SHELL = /bin/bash
    TERM = rxvt-unicode-256color

Perl special variables (and OS-specific diagnostics, for MSWin32):

    EGID = 1000 4 6 10 16 18 19 27 35 78 80 85 100 102 103 104 105 114 115 116 117 118 250 994 1000
    EUID = 1000
    EXECUTABLE_NAME = /home/kent/perl5/perlbrew/perls/5.21.1-sdbm/bin/perl5.21.1
    GID = 1000 4 6 10 16 18 19 27 35 78 80 85 100 102 103 104 105 114 115 116 117 118 250 994 1000
    UID = 1000

Perl module toolchain versions installed:

    Module              Have    
    ------------------- --------
    CPAN                2.05    
    CPAN::Meta          2.141520
    Cwd                 3.48    
    ExtUtils::CBuilder  0.280216
    ExtUtils::Command   1.18    
    ExtUtils::Install   1.68    
    ExtUtils::MakeMaker 6.98    
    ExtUtils::Manifest  1.63    
    ExtUtils::ParseXS   3.25    
    File::Spec          3.48    
    JSON                2.90    
    JSON::PP            2.27203 
    Module::Build       0.4205  
    Module::Signature   0.73    
    Parse::CPAN::Meta   1.4414  
    Test::Harness       3.32    
    Test::More          1.001003
    YAML                0.95    
    YAML::Syck          1.27    
    version             0.9908  


--

Summary of my perl5 (revision 5 version 21 subversion 1) configuration:
   
  Platform:
    osname=linux, osvers=3.15.0-gentoo-r1, archname=x86_64-linux
    uname='linux katipo2 3.15.0-gentoo-r1 #4 smp preempt sat jun 21 04:26:28 nzst 2014 x86_64 intel(r) core(tm) i5-2410m cpu @ 2.30ghz genuineintel gnulinux '
    config_args='-de -Dprefix=/home/kent/perl5/perlbrew/perls/5.21.1-sdbm -Dusecbacktrace -Doptimize=-O3 -march=native -mtune=native -g -ggdb3 -Dusedevel -Accflags=-DPERL_HASH_FUNC_SDBM -DUSE_C_BACKTRACE_ON_ERROR -Aldflags=-lbfd -Aeval:scriptdir=/home/kent/perl5/perlbrew/perls/5.21.1-sdbm/bin'
    hint=recommended, useposix=true, d_sigaction=define
    useithreads=undef, usemultiplicity=undef
    use64bitint=define, use64bitall=define, uselongdouble=undef
    usemymalloc=n, bincompat5005=undef
  Compiler:
    cc='cc', ccflags ='-DPERL_HASH_FUNC_SDBM -DUSE_C_BACKTRACE_ON_ERROR -fwrapv -fno-strict-aliasing -pipe -fstack-protector -DUSE_C_BACKTRACE -g -D_LARGEFILE_SOURCE -D_FILE_OFFSET_BITS=64',
    optimize='-O3 -march=native -mtune=native -g -ggdb3',
    cppflags='-DPERL_HASH_FUNC_SDBM -DUSE_C_BACKTRACE_ON_ERROR -fwrapv -fno-strict-aliasing -pipe -fstack-protector'
    ccversion='', gccversion='4.8.3', gccosandvers=''
    intsize=4, longsize=8, ptrsize=8, doublesize=8, byteorder=12345678
    d_longlong=define, longlongsize=8, d_longdbl=define, longdblsize=16
    ivtype='long', ivsize=8, nvtype='double', nvsize=8, Off_t='off_t', lseeksize=8
    alignbytes=8, prototype=define
  Linker and Libraries:
    ld='cc', ldflags =' -lbfd -fstack-protector'
    libpth=/usr/lib/gcc/x86_64-pc-linux-gnu/4.8.3/include-fixed /usr/lib /lib/../lib64 /usr/lib/../lib64 /lib /lib64 /usr/lib64
    libs=-lnsl -lgdbm -ldb -ldl -lm -lcrypt -lutil -lc -lgdbm_compat
    perllibs=-lnsl -ldl -lm -lcrypt -lutil -lc
    libc=libc-2.19.so, so=so, useshrplib=false, libperl=libperl.a
    gnulibc_version='2.19'
  Dynamic Linking:
    dlsrc=dl_dlopen.xs, dlext=so, d_dlsymun=undef, ccdlflags='-Wl,-E'
    cccdlflags='-fPIC', lddlflags='-shared -O3 -march=native -mtune=native -g -ggdb3 -fstack-protector'


Characteristics of this binary (from libperl): 
  Compile-time options: HAS_TIMES PERLIO_LAYERS PERL_DONT_CREATE_GVSV
                        PERL_HASH_FUNC_SDBM PERL_MALLOC_WRAP
                        PERL_NEW_COPY_ON_WRITE PERL_PRESERVE_IVUV
                        PERL_USE_DEVEL USE_64_BIT_ALL USE_64_BIT_INT
                        USE_LARGE_FILES USE_LOCALE USE_LOCALE_COLLATE
                        USE_LOCALE_CTYPE USE_LOCALE_NUMERIC USE_PERLIO
                        USE_PERL_ATOF
  Built under linux
  Compiled at Jun 24 2014 23:46:06
  %ENV:
    PERLBREW_BASHRC_VERSION="0.69"
    PERLBREW_HOME="/home/kent/.perlbrew"
    PERLBREW_MANPATH="/home/kent/perl5/perlbrew/perls/5.21.1-sdbm/man"
    PERLBREW_PATH="/home/kent/perl5/perlbrew/bin:/home/kent/perl5/perlbrew/perls/5.21.1-sdbm/bin"
    PERLBREW_PERL="5.21.1-sdbm"
    PERLBREW_ROOT="/home/kent/perl5/perlbrew"
    PERLBREW_VERSION="0.69"
    PERL_CPANM_OPT=" --prompt --interactive --verify"
  @INC:
    /home/kent/perl5/perlbrew/perls/5.21.1-sdbm/lib/site_perl/5.21.1/x86_64-linux
    /home/kent/perl5/perlbrew/perls/5.21.1-sdbm/lib/site_perl/5.21.1
    /home/kent/perl5/perlbrew/perls/5.21.1-sdbm/lib/5.21.1/x86_64-linux
    /home/kent/perl5/perlbrew/perls/5.21.1-sdbm/lib/5.21.1
    .