Report for Dist-Zilla-Plugin-CheckChangesHasContent-0.009

Back
From: metabase:user:320bfe00-2aae-11df-837a-5e0a49663a4f
Subject: PASS Dist-Zilla-Plugin-CheckChangesHasContent-0.009 v5.16.3 GNU/Linux
Date: 2016-05-25T10:02:42Z

This distribution has been tested as part of the CPAN Testers
project, supporting the Perl programming language.  See
http://wiki.cpantesters.org/ for more information or email
questions to cpan-testers-discuss@perl.org


--
Dear David Golden,

This is a computer-generated report for Dist-Zilla-Plugin-CheckChangesHasContent-0.009
on perl 5.16.3, created by CPAN-Reporter-1.2015.

Thank you for uploading your work to CPAN.  Congratulations!
All tests were successful.

Sections of this report:

    * Tester comments
    * Program output
    * Prerequisites
    * Environment and other context

------------------------------
TESTER COMMENTS
------------------------------

Additional comments from tester:

this report is from an automated smoke testing program
and was not reviewed by a human for accuracy

------------------------------
PROGRAM OUTPUT
------------------------------

Output from '/usr/bin/make test':

PERL_DL_NONLAZY=1 "/home/sand/src/perl/repoperls/installed-perls/perl/v5.16.3/79cc/bin/perl" "-MExtUtils::Command::MM" "-MTest::Harness" "-e" "undef *Test::Harness::Switches; test_harness(0, 'blib/lib', 'blib/arch')" t/*.t
# 
# Versions for all modules listed in MYMETA.json (including optional ones):
# 
# === Configure Requires ===
# 
#     Module              Want Have
#     ------------------- ---- ----
#     ExtUtils::MakeMaker 6.17 7.18
# 
# === Build Requires ===
# 
#     Module              Want Have
#     ------------------- ---- ----
#     ExtUtils::MakeMaker  any 7.18
# 
# === Test Requires ===
# 
#     Module                            Want     Have
#     -------------------------------- ----- --------
#     Capture::Tiny                      any     0.41
#     Cwd                                any     3.62
#     Dist::Zilla::Plugin::NextRelease 6.005    6.005
#     Dist::Zilla::Tester                any    6.005
#     ExtUtils::MakeMaker                any     7.18
#     File::Spec                         any     3.62
#     Path::Tiny                         any    0.088
#     Test::Harness                      any     3.36
#     Test::More                        0.88 1.302021
#     Try::Tiny                          any     0.26
# 
# === Test Recommends ===
# 
#     Module         Want     Have
#     ---------- -------- --------
#     CPAN::Meta 2.120900 2.150005
# 
# === Runtime Requires ===
# 
#     Module                               Want     Have
#     -------------------------------- -------- --------
#     Data::Section                    0.200002 0.200006
#     Dist::Zilla                      2.100950    6.005
#     Dist::Zilla::File::InMemory           any    6.005
#     Dist::Zilla::Role::BeforeRelease      any    6.005
#     Dist::Zilla::Role::FileGatherer       any    6.005
#     Dist::Zilla::Role::FileMunger         any    6.005
#     Dist::Zilla::Role::TextTemplate       any    6.005
#     File::pushd                           any    1.009
#     Moose                                0.99   2.1802
#     Moose::Util::TypeConstraints          any   2.1802
#     Sub::Exporter::ForMethods             any 0.100052
#     autodie                              2.00     2.29
#     namespace::autoclean                 0.09     0.28
#     strict                                any     1.07
#     warnings                              any     1.13
# 
t/00-report-prereqs.t ....... ok
t/checkhascontent.t ......... ok
t/test_changeshascontent.t .. ok
All tests successful.
Files=3, Tests=37,  4 wallclock secs ( 0.02 usr  0.02 sys +  2.70 cusr  0.57 csys =  3.31 CPU)
Result: PASS

------------------------------
PREREQUISITES
------------------------------

Prerequisite modules loaded:

requires:

    Module                           Need     Have    
    -------------------------------- -------- --------
    autodie                          2.00     2.29    
    Data::Section                    0.200002 0.200006
    Dist::Zilla                      2.100950 6.005   
    Dist::Zilla::File::InMemory      0        6.005   
    Dist::Zilla::Role::BeforeRelease 0        6.005   
    Dist::Zilla::Role::FileGatherer  0        6.005   
    Dist::Zilla::Role::FileMunger    0        6.005   
    Dist::Zilla::Role::TextTemplate  0        6.005   
    File::pushd                      0        1.009   
    Moose                            0.99     2.1802  
    Moose::Util::TypeConstraints     0        2.1802  
    namespace::autoclean             0.09     0.28    
    perl                             5.006    5.016003
    strict                           0        1.07    
    Sub::Exporter::ForMethods        0        0.100052
    warnings                         0        1.13    

build_requires:

    Module                           Need     Have    
    -------------------------------- -------- --------
    Capture::Tiny                    0        0.41    
    Cwd                              0        3.62    
    Dist::Zilla::Plugin::NextRelease 6.005    6.005   
    Dist::Zilla::Tester              0        6.005   
    ExtUtils::MakeMaker              0        7.18    
    File::Spec                       0        3.62    
    Path::Tiny                       0        0.088   
    Test::Harness                    0        3.36    
    Test::More                       0.88     1.302021
    Try::Tiny                        0        0.26    

configure_requires:

    Module                           Need     Have    
    -------------------------------- -------- --------
    ExtUtils::MakeMaker              6.17     7.18    
    perl                             5.006    5.016003


------------------------------
ENVIRONMENT AND OTHER CONTEXT
------------------------------

Environment variables:

    AUTOMATED_TESTING = 1
    LANG = en_US.UTF-8
    LANGUAGE = en_US:en
    PATH = /usr/lib/ccache:/home/sand/bin:/usr/local/bin:/usr/bin:/bin:/usr/games:/usr/local/perl/bin:/usr/X11/bin:/sbin:/usr/sbin
    PERL5LIB = 
    PERL5OPT = 
    PERL5_CPANPLUS_IS_RUNNING = 4513
    PERL5_CPAN_IS_RUNNING = 4513
    PERL_CANARY_STABILITY_NOPROMPT = 1
    PERL_MM_USE_DEFAULT = 1
    SHELL = /usr/bin/zsh
    TERM = screen

Perl special variables (and OS-specific diagnostics, for MSWin32):

    $^X = /home/sand/src/perl/repoperls/installed-perls/perl/v5.16.3/79cc/bin/perl
    $UID/$EUID = 1005 / 1005
    $GID = 1005 1005
    $EGID = 1005 1005

Perl module toolchain versions installed:

    Module              Have    
    ------------------- --------
    CPAN                2.13    
    CPAN::Meta          2.150005
    Cwd                 3.62    
    ExtUtils::CBuilder  0.280224
    ExtUtils::Command   7.18    
    ExtUtils::Install   1.58    
    ExtUtils::MakeMaker 7.18    
    ExtUtils::Manifest  1.70    
    ExtUtils::ParseXS   3.30    
    File::Spec          3.62    
    JSON                2.90    
    JSON::PP            2.27400 
    Module::Build       0.4218  
    Module::Signature   0.79    
    Parse::CPAN::Meta   1.4419  
    Test::Harness       3.36    
    Test::More          1.302021
    YAML                1.15    
    YAML::Syck          1.29    
    version             0.9916  


--

Summary of my perl5 (revision 5 version 16 subversion 3) configuration:
  Derived from: fd04d42d38f4751b981eb6e9213ee1ab8ef11ea6
  Platform:
    osname=linux, osvers=4.3.0-1-amd64, archname=x86_64-linux
    uname='linux k83 4.3.0-1-amd64 #1 smp debian 4.3.3-7 (2016-01-19) x86_64 gnulinux '
    config_args='-Dprefix=/home/sand/src/perl/repoperls/installed-perls/perl/v5.16.3/79cc -Dmyhostname=k83 -Dinstallusrbinperl=n -Uversiononly -Dusedevel -des -Ui_db -Dlibswanted=cl pthread socket inet nsl gdbm dbm malloc dl ld sun m crypt sec util c cposix posix ucb BSD gdbm_compat -Uuseithreads -Uuselongdouble -DDEBUGGING=-g'
    hint=recommended, useposix=true, d_sigaction=define
    useithreads=undef, usemultiplicity=undef
    useperlio=define, d_sfio=undef, uselargefiles=define, usesocks=undef
    use64bitint=define, use64bitall=define, uselongdouble=undef
    usemymalloc=n, bincompat5005=undef
  Compiler:
    cc='cc', ccflags ='-fno-strict-aliasing -pipe -fstack-protector -I/usr/local/include -D_LARGEFILE_SOURCE -D_FILE_OFFSET_BITS=64',
    optimize='-O2 -g',
    cppflags='-fno-strict-aliasing -pipe -fstack-protector -I/usr/local/include'
    ccversion='', gccversion='5.3.1 20160121', gccosandvers=''
    intsize=4, longsize=8, ptrsize=8, doublesize=8, byteorder=12345678
    d_longlong=define, longlongsize=8, d_longdbl=define, longdblsize=16
    ivtype='long', ivsize=8, nvtype='double', nvsize=8, Off_t='off_t', lseeksize=8
    alignbytes=8, prototype=define
  Linker and Libraries:
    ld='cc', ldflags =' -fstack-protector -L/usr/local/lib'
    libpth=/usr/local/lib /lib/x86_64-linux-gnu /lib/../lib /usr/lib/x86_64-linux-gnu /usr/lib/../lib /lib /usr/lib
    libs=-lpthread -lnsl -lgdbm -ldl -lm -lcrypt -lutil -lc -lgdbm_compat
    perllibs=-lpthread -lnsl -ldl -lm -lcrypt -lutil -lc
    libc=libc-2.21.so, so=so, useshrplib=false, libperl=libperl.a
    gnulibc_version='2.21'
  Dynamic Linking:
    dlsrc=dl_dlopen.xs, dlext=so, d_dlsymun=undef, ccdlflags='-Wl,-E'
    cccdlflags='-fPIC', lddlflags='-shared -O2 -g -L/usr/local/lib -fstack-protector'


Characteristics of this binary (from libperl): 
  Compile-time options: HAS_TIMES PERLIO_LAYERS PERL_DONT_CREATE_GVSV
                        PERL_MALLOC_WRAP PERL_PRESERVE_IVUV PERL_USE_DEVEL
                        USE_64_BIT_ALL USE_64_BIT_INT USE_LARGE_FILES
                        USE_LOCALE USE_LOCALE_COLLATE USE_LOCALE_CTYPE
                        USE_LOCALE_NUMERIC USE_PERLIO USE_PERL_ATOF
  Locally applied patches:
	uncommitted-changes
	Devel::PatchPerl 1.40
  Built under linux
  Compiled at Feb 17 2016 08:19:44
  %ENV:
    PERL5LIB=""
    PERL5OPT=""
    PERL5_CPANPLUS_IS_RUNNING="4513"
    PERL5_CPAN_IS_RUNNING="4513"
    PERL_CANARY_STABILITY_NOPROMPT="1"
    PERL_MM_USE_DEFAULT="1"
  @INC:
    /home/sand/src/perl/repoperls/installed-perls/perl/v5.16.3/79cc/lib/site_perl/5.16.3/x86_64-linux
    /home/sand/src/perl/repoperls/installed-perls/perl/v5.16.3/79cc/lib/site_perl/5.16.3
    /home/sand/src/perl/repoperls/installed-perls/perl/v5.16.3/79cc/lib/5.16.3/x86_64-linux
    /home/sand/src/perl/repoperls/installed-perls/perl/v5.16.3/79cc/lib/5.16.3
    .