Report for POE-Devel-Benchmarker-0.05

Back
From: metabase:user:30977d10-2aae-11df-837a-5e0a49663a4f
Subject: PASS POE-Devel-Benchmarker-0.05 v5.15.4 GNU/Linux
Date: 2011-12-17T21:48:14Z

This distribution has been tested as part of the CPAN Testers
project, supporting the Perl programming language.  See
http://wiki.cpantesters.org/ for more information or email
questions to cpan-testers-discuss@perl.org


--
Dear Apocalypse,

This is a computer-generated report for POE-Devel-Benchmarker-0.05
on perl 5.15.4, created by CPAN-Reporter-1.2003.

Thank you for uploading your work to CPAN.  Congratulations!
All tests were successful.

Sections of this report:

    * Tester comments
    * Program output
    * Prerequisites
    * Environment and other context

------------------------------
TESTER COMMENTS
------------------------------

Additional comments from tester:

this report is from an automated smoke testing program
and was not reviewed by a human for accuracy

------------------------------
PROGRAM OUTPUT
------------------------------

Output from '/usr/bin/make test':

PERL_DL_NONLAZY=1 /home/trushel/perl/perl5154/bin/perl "-MExtUtils::Command::MM" "-e" "test_harness(0, 'blib/lib', 'blib/arch')" t/*.t
t/1_load.t ................ ok
t/a_compile.t ............. skipped: Author test. Sent $ENV{TEST_AUTHOR} to a true value to run.
t/a_critic.t .............. skipped: Author test. Sent $ENV{TEST_AUTHOR} to a true value to run.
t/a_dependencies.t ........ skipped: Author test. Sent $ENV{TEST_AUTHOR} to a true value to run.
t/a_distribution.t ........ skipped: Author test. Sent $ENV{TEST_AUTHOR} to a true value to run.
t/a_dosnewline.t .......... skipped: Author test. Sent $ENV{TEST_AUTHOR} to a true value to run.
t/a_fixme.t ............... skipped: Author test. Sent $ENV{TEST_AUTHOR} to a true value to run.
t/a_hasversion.t .......... skipped: Author test. Sent $ENV{TEST_AUTHOR} to a true value to run.
t/a_is_prereq_outdated.t .. skipped: Author test. Sent $ENV{TEST_AUTHOR} to a true value to run.
t/a_kwalitee.t ............ skipped: Author test. Sent $ENV{TEST_AUTHOR} to a true value to run.
t/a_manifest.t ............ skipped: Author test. Sent $ENV{TEST_AUTHOR} to a true value to run.
t/a_metayml.t ............. skipped: Author test. Sent $ENV{TEST_AUTHOR} to a true value to run.
t/a_minimumversion.t ...... skipped: Author test. Sent $ENV{TEST_AUTHOR} to a true value to run.
t/a_perlmetrics.t ......... skipped: Author test. Sent $ENV{TEST_AUTHOR} to a true value to run.
t/a_pod.t ................. skipped: Author test. Sent $ENV{TEST_AUTHOR} to a true value to run.
t/a_pod_coverage.t ........ skipped: Author test. Sent $ENV{TEST_AUTHOR} to a true value to run.
t/a_pod_spelling.t ........ skipped: Author test. Sent $ENV{TEST_AUTHOR} to a true value to run.
t/a_prereq.t .............. skipped: Author test. Sent $ENV{TEST_AUTHOR} to a true value to run.
t/a_prereq_build.t ........ skipped: Author test. Sent $ENV{TEST_AUTHOR} to a true value to run.
t/a_strict.t .............. skipped: Author test. Sent $ENV{TEST_AUTHOR} to a true value to run.
All tests successful.
Files=20, Tests=7,  5 wallclock secs ( 0.05 usr  0.03 sys +  0.52 cusr  0.18 csys =  0.78 CPU)
Result: PASS

------------------------------
PREREQUISITES
------------------------------

Prerequisite modules loaded:

requires:

    Module                       Need Have  
    ---------------------------- ---- ------
    Archive::Tar                 0    1.80  
    Class::Accessor::Fast        0    0.34  
    Devel::Hide                  0    0.0008
    GD::Graph::colour            0    1.10  
    GD::Graph::lines             0    1.17  
    HTML::LinkExtor              0    3.69  
    LWP::UserAgent               0    6.03  
    Module::Pluggable            0    3.9   
    POE                          0    1.312 
    POE::Driver::SysRW           0    1.312 
    POE::Filter::Line            0    1.312 
    POE::Session                 0    1.312 
    POE::Session::AttributeBased 0    0.10  
    POE::Wheel::ReadWrite        0    1.312 
    POE::Wheel::SocketFactory    0    1.312 
    Test::More                   0.86 0.98  
    Time::HiRes                  0    1.9724
    URI::URL                     0    5.04  
    version                      0    0.93  
    YAML::Tiny                   0    1.50  

build_requires:

    Module                       Need Have  
    ---------------------------- ---- ------
    ExtUtils::MakeMaker          0    6.62  


------------------------------
ENVIRONMENT AND OTHER CONTEXT
------------------------------

Environment variables:

    AUTOMATED_TESTING = 1
    LANG = en_US.UTF-8
    PATH = /usr/local/sbin:/usr/local/bin:/usr/sbin:/usr/bin:/sbin:/bin
    PERL5LIB = 
    PERL5OPT = 
    PERL5_CPANPLUS_IS_RUNNING = 25047
    PERL5_CPAN_IS_RUNNING = 25047
    PERL5_CPAN_IS_RUNNING_IN_RECURSION = 7166,25047
    PERL_CR_SMOKER_CURRENT = POE-Devel-Benchmarker-0.05
    PERL_EXTUTILS_AUTOINSTALL = --defaultdeps
    PERL_MM_USE_DEFAULT = 1
    SHELL = /bin/bash
    TERM = xterm

Perl special variables (and OS-specific diagnostics, for MSWin32):

    $^X = /home/trushel/perl/perl5154/bin/perl
    $UID/$EUID = 138375 / 138375
    $GID = 5762 4 20 21 24 25 26 30 44 46 104 105 119 122 431 5762
    $EGID = 5762 4 20 21 24 25 26 30 44 46 104 105 119 122 431 5762

Perl module toolchain versions installed:

    Module              Have    
    ------------------- --------
    CPAN                1.9800  
    CPAN::Meta          2.112621
    Cwd                 3.37    
    ExtUtils::CBuilder  0.280204
    ExtUtils::Command   1.17    
    ExtUtils::Install   1.57    
    ExtUtils::MakeMaker 6.62    
    ExtUtils::Manifest  1.60    
    ExtUtils::ParseXS   3.05    
    File::Spec          3.34    
    JSON                2.53    
    JSON::PP            2.27200 
    Module::Build       0.39_01 
    Module::Signature   n/a     
    Parse::CPAN::Meta   1.4401  
    Test::Harness       3.23    
    Test::More          0.98    
    YAML                0.77    
    YAML::Syck          1.19    
    version             0.93    


--

Summary of my perl5 (revision 5 version 15 subversion 4) configuration:
   
  Platform:
    osname=linux, osvers=2.6.32-35-generic, archname=x86_64-linux
    uname='linux trushel-glaptop 2.6.32-35-generic #78-ubuntu smp tue oct 11 16:11:24 utc 2011 x86_64 gnulinux '
    config_args=''
    hint=recommended, useposix=true, d_sigaction=define
    useithreads=undef, usemultiplicity=undef
    useperlio=define, d_sfio=undef, uselargefiles=define, usesocks=undef
    use64bitint=define, use64bitall=define, uselongdouble=undef
    usemymalloc=n, bincompat5005=undef
  Compiler:
    cc='cc', ccflags ='-fno-strict-aliasing -pipe -fstack-protector -I/usr/local/include -D_LARGEFILE_SOURCE -D_FILE_OFFSET_BITS=64',
    optimize='-O2',
    cppflags='-fno-strict-aliasing -pipe -fstack-protector -I/usr/local/include'
    ccversion='', gccversion='4.4.3', gccosandvers=''
    intsize=4, longsize=8, ptrsize=8, doublesize=8, byteorder=12345678
    d_longlong=define, longlongsize=8, d_longdbl=define, longdblsize=16
    ivtype='long', ivsize=8, nvtype='double', nvsize=8, Off_t='off_t', lseeksize=8
    alignbytes=8, prototype=define
  Linker and Libraries:
    ld='cc', ldflags =' -fstack-protector -L/usr/local/lib'
    libpth=/usr/local/lib /lib/../lib /usr/lib/../lib /lib /usr/lib /usr/lib/x86_64-linux-gnu /lib64 /usr/lib64
    libs=-lnsl -ldb -ldl -lm -lcrypt -lutil -lc
    perllibs=-lnsl -ldl -lm -lcrypt -lutil -lc
    libc=/lib/libc-2.11.1.so, so=so, useshrplib=false, libperl=libperl.a
    gnulibc_version='2.11.1'
  Dynamic Linking:
    dlsrc=dl_dlopen.xs, dlext=so, d_dlsymun=undef, ccdlflags='-Wl,-E'
    cccdlflags='-fPIC', lddlflags='-shared -O2 -L/usr/local/lib -fstack-protector'


Characteristics of this binary (from libperl): 
  Compile-time options: HAS_TIMES PERLIO_LAYERS PERL_DONT_CREATE_GVSV
                        PERL_MALLOC_WRAP PERL_PRESERVE_IVUV USE_64_BIT_ALL
                        USE_64_BIT_INT USE_LARGE_FILES USE_LOCALE
                        USE_LOCALE_COLLATE USE_LOCALE_CTYPE
                        USE_LOCALE_NUMERIC USE_PERLIO USE_PERL_ATOF
  Built under linux
  Compiled at Dec 11 2011 11:25:39
  %ENV:
    PERL5LIB=""
    PERL5OPT=""
    PERL5_CPANPLUS_IS_RUNNING="25047"
    PERL5_CPAN_IS_RUNNING="25047"
    PERL5_CPAN_IS_RUNNING_IN_RECURSION="7166,25047"
    PERL_CR_SMOKER_CURRENT="POE-Devel-Benchmarker-0.05"
    PERL_EXTUTILS_AUTOINSTALL="--defaultdeps"
    PERL_MM_USE_DEFAULT="1"
  @INC:
    /home/trushel/perl/perl5154/lib/site_perl/5.15.4/x86_64-linux
    /home/trushel/perl/perl5154/lib/site_perl/5.15.4
    /home/trushel/perl/perl5154/lib/5.15.4/x86_64-linux
    /home/trushel/perl/perl5154/lib/5.15.4
    .