ETL-Yertl v0.039 Perl 5 v5.24.1 x86_64-linux-thread-multi

Status
Pass
From
Nigel Horne
Dist
ETL-Yertl v0.039
Platform
Perl 5 v5.24.1 x86_64-linux-thread-multi
Date
2018-08-23 07:19:07
ID
d2a1aec0-a6a4-11e8-ac4b-91e1574f9e0a
This distribution has been tested as part of the CPAN Testers
project, supporting the Perl programming language.  See
http://wiki.cpantesters.org/ for more information or email
questions to cpan-testers-discuss@perl.org


--
Dear Doug Bell,

This is a computer-generated report for ETL-Yertl-0.039
on perl 5.24.1, created by CPAN-Reporter-1.2018.

Thank you for uploading your work to CPAN.  Congratulations!
All tests were successful.

Sections of this report:

    * Tester comments
    * Program output
    * Prerequisites
    * Environment and other context

------------------------------
TESTER COMMENTS
------------------------------

Additional comments from tester:

this report is from an automated smoke testing program
and was not reviewed by a human for accuracy

------------------------------
PROGRAM OUTPUT
------------------------------

Output from '/usr/bin/make test':

PERL_DL_NONLAZY=1 "/home/njh/perl5/perlbrew/perls/perl-5.24.1/bin/perl5.24.1" "-MExtUtils::Command::MM" "-MTest::Harness" "-e" "undef *Test::Harness::Switches; test_harness(0, 'blib/lib', 'blib/arch')" t/*.t t/adapter/*.t t/bin/*.t t/command/ygrok/*.t t/command/ygrok/pattern/*.t t/command/yq/*.t t/format/*.t t/integration/*.t
t/00-compile.t ........................... ok
# 
# Versions for all modules listed in MYMETA.json (including optional ones):
# 
# === Configure Requires ===
# 
#     Module              Want Have
#     ------------------- ---- ----
#     ExtUtils::MakeMaker  any 7.34
# 
# === Build Requires ===
# 
#     Module              Want Have
#     ------------------- ---- ----
#     ExtUtils::MakeMaker  any 7.34
# 
# === Test Requires ===
# 
#     Module                  Want     Have
#     ------------------- -------- --------
#     Capture::Tiny            any     0.46
#     Dir::Self                any     0.11
#     ExtUtils::MakeMaker      any     7.34
#     File::Spec               any     3.74
#     Future                   any     0.38
#     IO::Handle               any     1.36
#     IPC::Open3               any     1.20
#     JSON::PP                 any     2.94
#     Mock::MonkeyPatch        any     0.04
#     Test::Deep               any    1.127
#     Test::Differences        any     0.64
#     Test::Exception          any     0.43
#     Test::Lib                any    0.002
#     Test::More          1.001005 1.302136
# 
# === Test Recommends ===
# 
#     Module         Want     Have
#     ---------- -------- --------
#     CPAN::Meta 2.120900 2.150010
# 
# === Runtime Requires ===
# 
#     Module                    Want       Have
#     ------------------- ---------- ----------
#     File::HomeDir              any      1.004
#     File::Spec                 any       3.74
#     Getopt::Long              2.36        2.5
#     Hash::Merge::Simple        any      0.051
#     IO::Async                 0.72       0.72
#     IO::Interactive            any      1.022
#     Import::Base             0.010      1.004
#     JSON::MaybeXS              any   1.003009
#     List::Util                 any       1.47
#     Module::Runtime            any      0.014
#     Net::Async::HTTP           any       0.42
#     Path::Tiny               0.072      0.104
#     Pod::Usage::Return         any      0.003
#     Regexp::Common      2013031301 2017060201
#     SQL::Abstract              any       1.86
#     Time::Local                any       1.25
#     Time::Piece                any       1.31
#     URI                        any       1.71
#     YAML::Tiny                 any       1.70
#     boolean                    any       0.46
# 
# === Runtime Recommends ===
# 
#     Module       Want    Have
#     ------------ ---- -------
#     DBD::SQLite   any    1.54
#     DBI           any   1.636
#     JSON::PP      any    2.94
#     JSON::XS      any    3.03
#     Text::CSV     any missing
#     Text::CSV_XS  any    1.29
#     YAML::Syck    any    1.30
#     YAML::XS      any    0.72
# 
t/00-report-prereqs.t .................... ok
Name "CORE::GLOBAL::time" used only once: possible typo at t/adapter/graphite.t line 142.
t/adapter/graphite.t ..................... ok
Name "CORE::GLOBAL::time" used only once: possible typo at t/adapter/influxdb.t line 151.
t/adapter/influxdb.t ..................... ok
t/bin/yfrom.t ............................ ok
t/bin/ygrok.t ............................ ok
t/bin/yq.t ............................... ok
t/bin/ysql.t ............................. ok
t/bin/yto.t .............................. ok
t/bin/yts.t .............................. ok
t/command/ygrok/edit_patterns.t .......... ok
t/command/ygrok/pattern/http_combined.t .. ok
t/command/ygrok/pattern/http_common.t .... ok
t/command/ygrok/pattern/linux_proc.t ..... ok
t/command/ygrok/pattern/ls-l.t ........... ok
t/command/ygrok/pattern/ps-u.t ........... ok
t/command/ygrok/pattern/ps-x.t ........... ok
t/command/ygrok/pattern/ps.t ............. ok
t/command/ygrok/pattern/syslog.t ......... ok
t/command/yq/combinator.t ................ ok
t/command/yq/comparison.t ................ ok
t/command/yq/conditional.t ............... ok
t/command/yq/filter.t .................... ok
empty does not take arguments
t/command/yq/functions.t ................. ok
t/command/yq/regression.t ................ ok
t/command/yq/values.t .................... ok
t/format/csv.t ........................... ok
Prototype mismatch: sub main::decode_json ($) vs none at /home/njh/perl5/perlbrew/perls/perl-5.24.1/lib/5.24.1/Exporter.pm line 66.
 at (eval 35) line 1.
t/format/json.t .......................... ok
t/format/yaml.t .......................... ok
t/integration/parse_apache_log.t ......... ok
All tests successful.
Files=30, Tests=102, 13 wallclock secs ( 0.19 usr  0.04 sys +  6.76 cusr  1.18 csys =  8.17 CPU)
Result: PASS

------------------------------
PREREQUISITES
------------------------------

Prerequisite modules loaded:

requires:

    Module              Need       Have      
    ------------------- ---------- ----------
    boolean             0          0.46      
    File::HomeDir       0          1.004     
    File::Spec          0          3.74      
    Getopt::Long        2.36       2.5       
    Hash::Merge::Simple 0          0.051     
    Import::Base        0.010      1.004     
    IO::Async           0.72       0.72      
    IO::Interactive     0          1.022     
    JSON::MaybeXS       0          1.003009  
    List::Util          0          1.47      
    Module::Runtime     0          0.014     
    Net::Async::HTTP    0          0.42      
    Path::Tiny          0.072      0.104     
    perl                5.010      5.024001  
    Pod::Usage::Return  0          0.003     
    Regexp::Common      2013031301 2017060201
    SQL::Abstract       0          1.86      
    Time::Local         0          1.25      
    Time::Piece         0          1.31      
    URI                 0          1.71      
    YAML::Tiny          0          1.70      

build_requires:

    Module              Need       Have      
    ------------------- ---------- ----------
    Capture::Tiny       0          0.46      
    Dir::Self           0          0.11      
    ExtUtils::MakeMaker 0          7.34      
    File::Spec          0          3.74      
    Future              0          0.38      
    IO::Handle          0          1.36      
    IPC::Open3          0          1.20      
    JSON::PP            0          2.94      
    Mock::MonkeyPatch   0          0.04      
    Test::Deep          0          1.127     
    Test::Differences   0          0.64      
    Test::Exception     0          0.43      
    Test::Lib           0          0.002     
    Test::More          1.001005   1.302136  

configure_requires:

    Module              Need       Have      
    ------------------- ---------- ----------
    ExtUtils::MakeMaker 0          7.34      


------------------------------
ENVIRONMENT AND OTHER CONTEXT
------------------------------

Environment variables:

    AUTOMATED_TESTING = 1
    LANG = en_GB.UTF-8
    LANGUAGE = en_GB:en
    PATH = /home/njh/perl5/perlbrew/bin:/home/njh/perl5/perlbrew/perls/perl-5.24.1/bin:/home/njh/perl5/perlbrew/bin:/usr/bin:/bin
    PERL5LIB = /home/njh/.cpan/build/boolean-0.46-0/blib/arch:/home/njh/.cpan/build/boolean-0.46-0/blib/lib:/home/njh/.cpan/build/Test-Lib-0.002-0/blib/arch:/home/njh/.cpan/build/Test-Lib-0.002-0/blib/lib:/home/njh/.cpan/build/SQL-Abstract-1.86-0/blib/arch:/home/njh/.cpan/build/SQL-Abstract-1.86-0/blib/lib:/home/njh/.cpan/build/Hash-Merge-0.300-0/blib/arch:/home/njh/.cpan/build/Hash-Merge-0.300-0/blib/lib:/home/njh/.cpan/build/Clone-Choose-0.010-0/blib/arch:/home/njh/.cpan/build/Clone-Choose-0.010-0/blib/lib:/home/njh/.cpan/build/Pod-Usage-Return-0.003-0/blib/arch:/home/njh/.cpan/build/Pod-Usage-Return-0.003-0/blib/lib:/home/njh/.cpan/build/Net-Async-HTTP-0.42-0/blib/arch:/home/njh/.cpan/build/Net-Async-HTTP-0.42-0/blib/lib:/home/njh/.cpan/build/Mock-MonkeyPatch-0.04-0/blib/arch:/home/njh/.cpan/build/Mock-MonkeyPatch-0.04-0/blib/lib:/home/njh/.cpan/build/Import-Base-1.004-0/blib/arch:/home/njh/.cpan/build/Import-Base-1.004-0/blib/lib:/home/njh/.cpan/build/IO-Interactive-1.022-0/blib/arch:/home/njh/.cpan/build/IO-Interactive-1.022-0/blib/lib:/home/njh/.cpan/build/IO-Async-0.72-0/blib/arch:/home/njh/.cpan/build/IO-Async-0.72-0/blib/lib:/home/njh/.cpan/build/Struct-Dumb-0.09-0/blib/arch:/home/njh/.cpan/build/Struct-Dumb-0.09-0/blib/lib:/home/njh/.cpan/build/Hash-Merge-Simple-0.051-0/blib/arch:/home/njh/.cpan/build/Hash-Merge-Simple-0.051-0/blib/lib:/home/njh/.cpan/build/Future-0.38-0/blib/arch:/home/njh/.cpan/build/Future-0.38-0/blib/lib:/home/njh/.cpan/build/Test-Refcount-0.08-0/blib/arch:/home/njh/.cpan/build/Test-Refcount-0.08-0/blib/lib:/home/njh/.cpan/build/Test-Identity-0.01-0/blib/arch:/home/njh/.cpan/build/Test-Identity-0.01-0/blib/lib:/home/njh/.cpan/build/Dir-Self-0.11-0/blib/arch:/home/njh/.cpan/build/Dir-Self-0.11-0/blib/lib
    PERL5OPT = 
    PERL5_CPANPLUS_IS_RUNNING = 31422
    PERL5_CPAN_IS_RUNNING = 31422
    PERL5_MINISMOKEBOX = 0.68
    PERLBREW_LIB = 
    PERLBREW_MANPATH = /home/njh/perl5/perlbrew/perls/perl-5.24.1/man
    PERLBREW_PATH = /home/njh/perl5/perlbrew/bin:/home/njh/perl5/perlbrew/perls/perl-5.24.1/bin
    PERLBREW_PERL = perl-5.24.1
    PERLBREW_ROOT = /home/njh/perl5/perlbrew
    PERLBREW_SHELLRC_VERSION = 0.82
    PERLBREW_VERSION = 0.82
    PERL_EXTUTILS_AUTOINSTALL = --defaultdeps
    PERL_LOCAL_LIB_ROOT = 
    PERL_MM_USE_DEFAULT = 1
    SHELL = /bin/sh
    TEMP = /tmp/user/1000
    TMPDIR = /tmp/user/1000

Perl special variables (and OS-specific diagnostics, for MSWin32):

    $^X = /home/njh/perl5/perlbrew/perls/perl-5.24.1/bin/perl5.24.1
    $UID/$EUID = 1000 / 1000
    $GID = 1000 4 24 25 29 30 44 46 108 112 1000
    $EGID = 1000 4 24 25 29 30 44 46 108 112 1000

Perl module toolchain versions installed:

    Module              Have    
    ------------------- --------
    CPAN                2.16    
    CPAN::Meta          2.150010
    Cwd                 3.74    
    ExtUtils::CBuilder  0.280225
    ExtUtils::Command   7.34    
    ExtUtils::Install   2.14    
    ExtUtils::MakeMaker 7.34    
    ExtUtils::Manifest  1.70    
    ExtUtils::ParseXS   3.31    
    File::Spec          3.74    
    JSON                2.97001 
    JSON::PP            2.94    
    Module::Build       0.4224  
    Module::Signature   n/a     
    Parse::CPAN::Meta   2.150010
    Test::Harness       3.39    
    Test::More          1.302136
    YAML                1.26    
    YAML::Syck          1.30    
    version             0.9918  


--

Summary of my perl5 (revision 5 version 24 subversion 1) configuration:
   
  Platform:
    osname=linux, osvers=4.7.0-1-amd64, archname=x86_64-linux-thread-multi
    uname='linux gateway 4.7.0-1-amd64 #1 smp debian 4.7.5-1 (2016-09-26) x86_64 gnulinux '
    config_args='-de -Dprefix=/home/njh/perl5/perlbrew/perls/perl-5.24.1 -Duseithreads -Dusemultiplicity -Dusedevel -Accflags= -Aeval:scriptdir=/home/njh/perl5/perlbrew/perls/perl-5.24.1/bin'
    hint=recommended, useposix=true, d_sigaction=define
    useithreads=define, usemultiplicity=define
    use64bitint=define, use64bitall=define, uselongdouble=undef
    usemymalloc=n, bincompat5005=undef
  Compiler:
    cc='cc', ccflags ='-D_REENTRANT -D_GNU_SOURCE -fwrapv -fno-strict-aliasing -pipe -fstack-protector-strong -I/usr/local/include -D_LARGEFILE_SOURCE -D_FILE_OFFSET_BITS=64',
    optimize='-O2',
    cppflags='-D_REENTRANT -D_GNU_SOURCE -fwrapv -fno-strict-aliasing -pipe -fstack-protector-strong -I/usr/local/include'
    ccversion='', gccversion='6.2.1 20161124', gccosandvers=''
    intsize=4, longsize=8, ptrsize=8, doublesize=8, byteorder=12345678, doublekind=3
    d_longlong=define, longlongsize=8, d_longdbl=define, longdblsize=16, longdblkind=3
    ivtype='long', ivsize=8, nvtype='double', nvsize=8, Off_t='off_t', lseeksize=8
    alignbytes=8, prototype=define
  Linker and Libraries:
    ld='cc', ldflags =' -fstack-protector-strong -L/usr/local/lib'
    libpth=/usr/local/lib /usr/lib/gcc/x86_64-linux-gnu/6/include-fixed /usr/include/x86_64-linux-gnu /usr/lib /lib/x86_64-linux-gnu /lib/../lib /usr/lib/x86_64-linux-gnu /usr/lib/../lib /lib
    libs=-lpthread -lnsl -lgdbm -ldb -ldl -lm -lcrypt -lutil -lc -lgdbm_compat
    perllibs=-lpthread -lnsl -ldl -lm -lcrypt -lutil -lc
    libc=libc-2.24.so, so=so, useshrplib=false, libperl=libperl.a
    gnulibc_version='2.24'
  Dynamic Linking:
    dlsrc=dl_dlopen.xs, dlext=so, d_dlsymun=undef, ccdlflags='-Wl,-E'
    cccdlflags='-fPIC', lddlflags='-shared -O2 -L/usr/local/lib -fstack-protector-strong'


Characteristics of this binary (from libperl): 
  Compile-time options: HAS_TIMES MULTIPLICITY PERLIO_LAYERS
                        PERL_COPY_ON_WRITE PERL_DONT_CREATE_GVSV
                        PERL_HASH_FUNC_ONE_AT_A_TIME_HARD
                        PERL_IMPLICIT_CONTEXT PERL_MALLOC_WRAP
                        PERL_PRESERVE_IVUV PERL_USE_DEVEL USE_64_BIT_ALL
                        USE_64_BIT_INT USE_ITHREADS USE_LARGE_FILES
                        USE_LOCALE USE_LOCALE_COLLATE USE_LOCALE_CTYPE
                        USE_LOCALE_NUMERIC USE_LOCALE_TIME USE_PERLIO
                        USE_PERL_ATOF USE_REENTRANT_API
  Built under linux
  Compiled at Jan 24 2017 00:39:08
  %ENV:
    PERL5LIB="/home/njh/.cpan/build/boolean-0.46-0/blib/arch:/home/njh/.cpan/build/boolean-0.46-0/blib/lib:/home/njh/.cpan/build/Test-Lib-0.002-0/blib/arch:/home/njh/.cpan/build/Test-Lib-0.002-0/blib/lib:/home/njh/.cpan/build/SQL-Abstract-1.86-0/blib/arch:/home/njh/.cpan/build/SQL-Abstract-1.86-0/blib/lib:/home/njh/.cpan/build/Hash-Merge-0.300-0/blib/arch:/home/njh/.cpan/build/Hash-Merge-0.300-0/blib/lib:/home/njh/.cpan/build/Clone-Choose-0.010-0/blib/arch:/home/njh/.cpan/build/Clone-Choose-0.010-0/blib/lib:/home/njh/.cpan/build/Pod-Usage-Return-0.003-0/blib/arch:/home/njh/.cpan/build/Pod-Usage-Return-0.003-0/blib/lib:/home/njh/.cpan/build/Net-Async-HTTP-0.42-0/blib/arch:/home/njh/.cpan/build/Net-Async-HTTP-0.42-0/blib/lib:/home/njh/.cpan/build/Mock-MonkeyPatch-0.04-0/blib/arch:/home/njh/.cpan/build/Mock-MonkeyPatch-0.04-0/blib/lib:/home/njh/.cpan/build/Import-Base-1.004-0/blib/arch:/home/njh/.cpan/build/Import-Base-1.004-0/blib/lib:/home/njh/.cpan/build/IO-Interactive-1.022-0/blib/arch:/home/njh/.cpan/build/IO-Interactive-1.022-0/blib/lib:/home/njh/.cpan/build/IO-Async-0.72-0/blib/arch:/home/njh/.cpan/build/IO-Async-0.72-0/blib/lib:/home/njh/.cpan/build/Struct-Dumb-0.09-0/blib/arch:/home/njh/.cpan/build/Struct-Dumb-0.09-0/blib/lib:/home/njh/.cpan/build/Hash-Merge-Simple-0.051-0/blib/arch:/home/njh/.cpan/build/Hash-Merge-Simple-0.051-0/blib/lib:/home/njh/.cpan/build/Future-0.38-0/blib/arch:/home/njh/.cpan/build/Future-0.38-0/blib/lib:/home/njh/.cpan/build/Test-Refcount-0.08-0/blib/arch:/home/njh/.cpan/build/Test-Refcount-0.08-0/blib/lib:/home/njh/.cpan/build/Test-Identity-0.01-0/blib/arch:/home/njh/.cpan/build/Test-Identity-0.01-0/blib/lib:/home/njh/.cpan/build/Dir-Self-0.11-0/blib/arch:/home/njh/.cpan/build/Dir-Self-0.11-0/blib/lib"
    PERL5OPT=""
    PERL5_CPANPLUS_IS_RUNNING="31422"
    PERL5_CPAN_IS_RUNNING="31422"
    PERL5_MINISMOKEBOX="0.68"
    PERLBREW_LIB=""
    PERLBREW_MANPATH="/home/njh/perl5/perlbrew/perls/perl-5.24.1/man"
    PERLBREW_PATH="/home/njh/perl5/perlbrew/bin:/home/njh/perl5/perlbrew/perls/perl-5.24.1/bin"
    PERLBREW_PERL="perl-5.24.1"
    PERLBREW_ROOT="/home/njh/perl5/perlbrew"
    PERLBREW_SHELLRC_VERSION="0.82"
    PERLBREW_VERSION="0.82"
    PERL_EXTUTILS_AUTOINSTALL="--defaultdeps"
    PERL_LOCAL_LIB_ROOT=""
    PERL_MM_USE_DEFAULT="1"
  @INC:
    /home/njh/.cpan/build/boolean-0.46-0/blib/arch
    /home/njh/.cpan/build/boolean-0.46-0/blib/lib
    /home/njh/.cpan/build/Test-Lib-0.002-0/blib/arch
    /home/njh/.cpan/build/Test-Lib-0.002-0/blib/lib
    /home/njh/.cpan/build/SQL-Abstract-1.86-0/blib/arch
    /home/njh/.cpan/build/SQL-Abstract-1.86-0/blib/lib
    /home/njh/.cpan/build/Hash-Merge-0.300-0/blib/arch
    /home/njh/.cpan/build/Hash-Merge-0.300-0/blib/lib
    /home/njh/.cpan/build/Clone-Choose-0.010-0/blib/arch
    /home/njh/.cpan/build/Clone-Choose-0.010-0/blib/lib
    /home/njh/.cpan/build/Pod-Usage-Return-0.003-0/blib/arch
    /home/njh/.cpan/build/Pod-Usage-Return-0.003-0/blib/lib
    /home/njh/.cpan/build/Net-Async-HTTP-0.42-0/blib/arch
    /home/njh/.cpan/build/Net-Async-HTTP-0.42-0/blib/lib
    /home/njh/.cpan/build/Mock-MonkeyPatch-0.04-0/blib/arch
    /home/njh/.cpan/build/Mock-MonkeyPatch-0.04-0/blib/lib
    /home/njh/.cpan/build/Import-Base-1.004-0/blib/arch
    /home/njh/.cpan/build/Import-Base-1.004-0/blib/lib
    /home/njh/.cpan/build/IO-Interactive-1.022-0/blib/arch
    /home/njh/.cpan/build/IO-Interactive-1.022-0/blib/lib
    /home/njh/.cpan/build/IO-Async-0.72-0/blib/arch
    /home/njh/.cpan/build/IO-Async-0.72-0/blib/lib
    /home/njh/.cpan/build/Struct-Dumb-0.09-0/blib/arch
    /home/njh/.cpan/build/Struct-Dumb-0.09-0/blib/lib
    /home/njh/.cpan/build/Hash-Merge-Simple-0.051-0/blib/arch
    /home/njh/.cpan/build/Hash-Merge-Simple-0.051-0/blib/lib
    /home/njh/.cpan/build/Future-0.38-0/blib/arch
    /home/njh/.cpan/build/Future-0.38-0/blib/lib
    /home/njh/.cpan/build/Test-Refcount-0.08-0/blib/arch
    /home/njh/.cpan/build/Test-Refcount-0.08-0/blib/lib
    /home/njh/.cpan/build/Test-Identity-0.01-0/blib/arch
    /home/njh/.cpan/build/Test-Identity-0.01-0/blib/lib
    /home/njh/.cpan/build/Dir-Self-0.11-0/blib/arch
    /home/njh/.cpan/build/Dir-Self-0.11-0/blib/lib
    /home/njh/perl5/perlbrew/perls/perl-5.24.1/lib/site_perl/5.24.1/x86_64-linux-thread-multi
    /home/njh/perl5/perlbrew/perls/perl-5.24.1/lib/site_perl/5.24.1
    /home/njh/perl5/perlbrew/perls/perl-5.24.1/lib/5.24.1/x86_64-linux-thread-multi
    /home/njh/perl5/perlbrew/perls/perl-5.24.1/lib/5.24.1
    .