Back
From: metabase:user:d2c9f356-b46f-11df-9a90-20a83c0b7757
Subject: PASS Test-ManyParams-0.10 v5.16.1 SunOS/Solaris
Date: 2012-09-13T22:53:24Z
This distribution has been tested as part of the CPAN Testers
project, supporting the Perl programming language. See
http://wiki.cpantesters.org/ for more information or email
questions to cpan-testers-discuss@perl.org
--
Dear Janek Schleicher,
This is a computer-generated report for Test-ManyParams-0.10
on perl 5.16.1, created by CPAN-Reporter-1.2006.
Thank you for uploading your work to CPAN. Congratulations!
All tests were successful.
Sections of this report:
* Tester comments
* Program output
* Prerequisites
* Environment and other context
------------------------------
TESTER COMMENTS
------------------------------
Additional comments from tester:
this report is from an automated smoke testing program
and was not reviewed by a human for accuracy
------------------------------
PROGRAM OUTPUT
------------------------------
Output from '/usr/local/bin/make test':
PERL_DL_NONLAZY=1 /export/home/cpant4/perl5/perlbrew/perls/perl-5.16.1/bin/perl5.16.1 "-MExtUtils::Command::MM" "-e" "test_harness(0, 'blib/lib', 'blib/arch')" t/*.t
t/1.t ...................... ok
t/all_are.t ................ ok
t/all_arent.t .............. ok
t/all_ok.t ................. ok
t/all_params_are_passed.t .. ok
t/any_is.t ................. ok
t/any_isnt.t ............... ok
t/any_ok.t ................. ok
t/implicit_var.t ........... ok
t/most_ok.t ................ ok
t/seed.t ................... ok
All tests successful.
Files=11, Tests=1550, 11 wallclock secs ( 0.41 usr 0.13 sys + 8.90 cusr 0.33 csys = 9.77 CPU)
Result: PASS
------------------------------
PREREQUISITES
------------------------------
Prerequisite modules loaded:
requires:
Module Need Have
--------------------- ---- --------
Data::Dumper 0 2.135_06
Set::CrossProduct 0 1.95
Test::Builder 0 0.98
Test::Builder::Tester 0 1.22
Test::Differences 0 0.61
Test::Exception 0 0.31
Test::More 0 0.98
build_requires:
Module Need Have
--------------------- ---- --------
ExtUtils::MakeMaker 0 6.63_02
------------------------------
ENVIRONMENT AND OTHER CONTEXT
------------------------------
Environment variables:
AUTOMATED_TESTING = 1
LANG = C
LD_LIBRARY_PATH = /usr/local/lib:
MANPATH_WITHOUT_PERLBREW =
PATH = /export/home/cpant4/perl5/perlbrew/bin:/export/home/cpant4/perl5/perlbrew/perls/perl-5.16.1/bin:/export/home/cpant4/perl5/bin:/usr/local/bin:/usr/bin
PATH_WITHOUT_PERLBREW = /export/home/cpant4/perl5/bin:/usr/local/bin:/usr/bin
PERL5LIB = /export/home/cpant4/.cpan/build/Set-CrossProduct-1.95-wkfaNS/blib/arch:/export/home/cpant4/.cpan/build/Set-CrossProduct-1.95-wkfaNS/blib/lib
PERL5OPT =
PERL5_CPANPLUS_IS_RUNNING = 6495
PERL5_CPAN_IS_RUNNING = 6495
PERL5_CPAN_IS_RUNNING_IN_RECURSION = 29337,6495
PERLBREW_BASHRC_VERSION = 0.46
PERLBREW_HOME = /export/home/cpant4/.perlbrew
PERLBREW_MANPATH = /export/home/cpant4/perl5/perlbrew/perls/perl-5.16.1/man
PERLBREW_PATH = /export/home/cpant4/perl5/perlbrew/bin:/export/home/cpant4/perl5/perlbrew/perls/perl-5.16.1/bin
PERLBREW_PERL = perl-5.16.1
PERLBREW_ROOT = /export/home/cpant4/perl5/perlbrew
PERLBREW_VERSION = 0.46
PERL_CR_SMOKER_CURRENT = Test-ManyParams-0.10
PERL_EXTUTILS_AUTOINSTALL = --defaultdeps
PERL_MM_USE_DEFAULT = 1
SHELL = /bin/bash
TERM = xterm
Perl special variables (and OS-specific diagnostics, for MSWin32):
$^X = /export/home/cpant4/perl5/perlbrew/perls/perl-5.16.1/bin/perl5.16.1
$UID/$EUID = 104 / 104
$GID = 1 1
$EGID = 1 1
Perl module toolchain versions installed:
Module Have
------------------- --------
CPAN 1.9800
CPAN::Meta 2.120921
Cwd 3.39_02
ExtUtils::CBuilder 0.280206
ExtUtils::Command 1.17
ExtUtils::Install 1.58
ExtUtils::MakeMaker 6.63_02
ExtUtils::Manifest 1.61
ExtUtils::ParseXS 3.16
File::Spec 3.39_02
JSON 2.53
JSON::PP 2.27200
Module::Build 0.4003
Module::Signature n/a
Parse::CPAN::Meta 1.4404
Test::Harness 3.25
Test::More 0.98
YAML 0.84
YAML::Syck 1.20
version 0.9901
--
Summary of my perl5 (revision 5 version 16 subversion 1) configuration:
Platform:
osname=solaris, osvers=2.10, archname=i86pc-solaris-64int
uname='sunos vmrz0046 5.10 generic_141445-09 i86pc i386 i86pc solaris '
config_args='-de -Dprefix=/export/home/cpant4/perl5/perlbrew/perls/perl-5.16.1 -Dcc=gcc -Duse64bitint -Dusedevel -Aeval:scriptdir=/export/home/cpant4/perl5/perlbrew/perls/perl-5.16.1/bin'
hint=recommended, useposix=true, d_sigaction=define
useithreads=undef, usemultiplicity=undef
useperlio=define, d_sfio=undef, uselargefiles=define, usesocks=undef
use64bitint=define, use64bitall=undef, uselongdouble=undef
usemymalloc=n, bincompat5005=undef
Compiler:
cc='gcc', ccflags ='-DPTR_IS_LONG -fno-strict-aliasing -pipe -I/usr/local/include -D_LARGEFILE_SOURCE -D_FILE_OFFSET_BITS=64 -DPERL_USE_SAFE_PUTENV',
optimize='-O',
cppflags='-DPTR_IS_LONG -fno-strict-aliasing -pipe -I/usr/local/include'
ccversion='', gccversion='3.4.6', gccosandvers='solaris2.10'
intsize=4, longsize=4, ptrsize=4, doublesize=8, byteorder=12345678
d_longlong=define, longlongsize=8, d_longdbl=define, longdblsize=12
ivtype='long long', ivsize=8, nvtype='double', nvsize=8, Off_t='off_t', lseeksize=8
alignbytes=4, prototype=define
Linker and Libraries:
ld='gcc', ldflags =' -L/usr/local/lib '
libpth=/usr/local/lib /usr/lib /usr/ccs/lib
libs=-lsocket -lnsl -lgdbm -ldl -lm -lc
perllibs=-lsocket -lnsl -ldl -lm -lc
libc=/lib/libc.so, so=so, useshrplib=false, libperl=libperl.a
gnulibc_version=''
Dynamic Linking:
dlsrc=dl_dlopen.xs, dlext=so, d_dlsymun=undef, ccdlflags=' '
cccdlflags='-fPIC', lddlflags='-G -L/usr/local/lib'
Characteristics of this binary (from libperl):
Compile-time options: HAS_TIMES PERLIO_LAYERS PERL_DONT_CREATE_GVSV
PERL_MALLOC_WRAP PERL_PRESERVE_IVUV PERL_USE_DEVEL
PERL_USE_SAFE_PUTENV USE_64_BIT_INT USE_LARGE_FILES
USE_LOCALE USE_LOCALE_COLLATE USE_LOCALE_CTYPE
USE_LOCALE_NUMERIC USE_PERLIO USE_PERL_ATOF
Built under solaris
Compiled at Aug 15 2012 12:27:50
%ENV:
PERL5LIB="/export/home/cpant4/.cpan/build/Set-CrossProduct-1.95-wkfaNS/blib/arch:/export/home/cpant4/.cpan/build/Set-CrossProduct-1.95-wkfaNS/blib/lib"
PERL5OPT=""
PERL5_CPANPLUS_IS_RUNNING="6495"
PERL5_CPAN_IS_RUNNING="6495"
PERL5_CPAN_IS_RUNNING_IN_RECURSION="29337,6495"
PERLBREW_BASHRC_VERSION="0.46"
PERLBREW_HOME="/export/home/cpant4/.perlbrew"
PERLBREW_MANPATH="/export/home/cpant4/perl5/perlbrew/perls/perl-5.16.1/man"
PERLBREW_PATH="/export/home/cpant4/perl5/perlbrew/bin:/export/home/cpant4/perl5/perlbrew/perls/perl-5.16.1/bin"
PERLBREW_PERL="perl-5.16.1"
PERLBREW_ROOT="/export/home/cpant4/perl5/perlbrew"
PERLBREW_VERSION="0.46"
PERL_CR_SMOKER_CURRENT="Test-ManyParams-0.10"
PERL_EXTUTILS_AUTOINSTALL="--defaultdeps"
PERL_MM_USE_DEFAULT="1"
@INC:
/export/home/cpant4/.cpan/build/Set-CrossProduct-1.95-wkfaNS/blib/arch
/export/home/cpant4/.cpan/build/Set-CrossProduct-1.95-wkfaNS/blib/lib
/export/home/cpant4/perl5/perlbrew/perls/perl-5.16.1/lib/site_perl/5.16.1/i86pc-solaris-64int
/export/home/cpant4/perl5/perlbrew/perls/perl-5.16.1/lib/site_perl/5.16.1
/export/home/cpant4/perl5/perlbrew/perls/perl-5.16.1/lib/5.16.1/i86pc-solaris-64int
/export/home/cpant4/perl5/perlbrew/perls/perl-5.16.1/lib/5.16.1
.