Dist-Zilla-PluginBundle-Author-LESPEA v1.008000 Perl 5 v5.20.3 x86_64-linux
- Status
- Pass
- From
- Oleg Pronin (SYBER)
- Dist
-
Dist-Zilla-PluginBundle-Author-LESPEA v1.008000
- Platform
- Perl 5 v5.20.3 x86_64-linux
- Date
- 2019-08-09 23:24:24
- ID
- d2d61904-bafc-11e9-b0f8-b3eb2958ff60
This distribution has been tested as part of the CPAN Testers
project, supporting the Perl programming language. See
http://wiki.cpantesters.org/ for more information or email
questions to cpan-testers-discuss@perl.org
--
Dear Adam Lesperance,
This is a computer-generated report for Dist-Zilla-PluginBundle-Author-LESPEA-1.008000
on perl 5.20.3, created by CPAN-Reporter-1.2018.
Thank you for uploading your work to CPAN. Congratulations!
All tests were successful.
Sections of this report:
* Tester comments
* Program output
* Prerequisites
* Environment and other context
------------------------------
TESTER COMMENTS
------------------------------
Additional comments from tester:
this report is from an automated smoke testing program
and was not reviewed by a human for accuracy
------------------------------
PROGRAM OUTPUT
------------------------------
Output from './Build test':
t/00-compile.t .................. ok
#
#
# Generated by Dist::Zilla::Plugin::ReportVersions::Tiny v1.10
# perl: 5.020003 (wanted 5.010) on linux from /home/syber/perl5/perlbrew/perls/5.20.3/bin/perl
#
# CPAN::Meta::YAML => 0.018 (want any version)
# Carp => 1.50 (want any version)
# Dist::Zilla => 6.013 (want 4.300000)
# Dist::Zilla::Plugin::ArchiveRelease => 6.000 (want any version)
# Dist::Zilla::Plugin::Authority => 1.009 (want any version)
# Dist::Zilla::Plugin::AutoMetaResources => 1.21 (want any version)
# Dist::Zilla::Plugin::AutoPrereqs => 6.013 (want any version)
# Dist::Zilla::Plugin::Bootstrap::lib => 1.001002 (want any version)
# Dist::Zilla::Plugin::ConfirmRelease => 6.013 (want any version)
# Dist::Zilla::Plugin::ConsistentVersionTest => 0.03 (want any version)
# Dist::Zilla::Plugin::CopyFilesFromBuild => 0.170880 (want any version)
# Dist::Zilla::Plugin::DualBuilders => 1.002 (want any version)
# Dist::Zilla::Plugin::ExecDir => 6.013 (want any version)
# Dist::Zilla::Plugin::ExtraTests => 6.013 (want any version)
# Dist::Zilla::Plugin::FakeRelease => 6.013 (want any version)
# Dist::Zilla::Plugin::GatherDir => 6.013 (want any version)
# Dist::Zilla::Plugin::HasVersionTests => 1.101420 (want any version)
# Dist::Zilla::Plugin::InstallGuide => 1.200013 (want any version)
# Dist::Zilla::Plugin::License => 6.013 (want any version)
# Dist::Zilla::Plugin::MakeMaker => 6.013 (want any version)
# Dist::Zilla::Plugin::Manifest => 6.013 (want any version)
# Dist::Zilla::Plugin::ManifestSkip => 6.013 (want any version)
# Dist::Zilla::Plugin::MetaConfig => 6.013 (want any version)
# Dist::Zilla::Plugin::MetaJSON => 6.013 (want any version)
# Dist::Zilla::Plugin::MetaNoIndex => 6.013 (want any version)
# Dist::Zilla::Plugin::MetaTests => 6.013 (want any version)
# Dist::Zilla::Plugin::MetaYAML => 6.013 (want any version)
# Dist::Zilla::Plugin::MinimumPerl => 1.006 (want any version)
# Dist::Zilla::Plugin::ModuleBuild => 6.013 (want any version)
# Dist::Zilla::Plugin::NextRelease => 6.013 (want any version)
# Dist::Zilla::Plugin::PkgVersion => 6.013 (want any version)
# Dist::Zilla::Plugin::PodCoverageTests => 6.013 (want any version)
# Dist::Zilla::Plugin::PodSyntaxTests => 6.013 (want any version)
# Dist::Zilla::Plugin::PodWeaver => 4.008 (want any version)
# Dist::Zilla::Plugin::PruneCruft => 6.013 (want any version)
# Dist::Zilla::Plugin::ReadmeAnyFromPod => 0.163250 (want any version)
# Dist::Zilla::Plugin::ReportVersions::Tiny => 1.12 (want any version)
# Dist::Zilla::Plugin::ShareDir => 6.013 (want any version)
# Dist::Zilla::Plugin::SpellingCommonMistakesTests => 1.001000 (want any version)
# Dist::Zilla::Plugin::Test::CPAN::Changes => 0.012 (want 0.005)
# Dist::Zilla::Plugin::Test::Compile => 2.058 (want 1.112400)
# Dist::Zilla::Plugin::Test::DistManifest => 2.000005 (want v2.0.1)
# Dist::Zilla::Plugin::Test::EOL => 0.19 (want 0.12)
# Dist::Zilla::Plugin::Test::Kwalitee => 2.12 (want any version)
# Dist::Zilla::Plugin::Test::MinimumVersion => 2.000010 (want v2.0.1)
# Dist::Zilla::Plugin::Test::NoTabs => 0.15 (want any version)
# Dist::Zilla::Plugin::Test::Perl::Critic => 3.001 (want 2.112410)
# Dist::Zilla::Plugin::Test::Portability => 2.001000 (want v2.0.1)
# Dist::Zilla::Plugin::Test::Synopsis => 2.000007 (want v2.0.1)
# Dist::Zilla::Plugin::TestRelease => 6.013 (want any version)
# Dist::Zilla::Plugin::UploadToCPAN => 6.013 (want any version)
# Dist::Zilla::Role::MintingProfile::ShareDir => 6.013 (want any version)
# Dist::Zilla::Role::PluginBundle::Easy => 6.013 (want any version)
# File::ShareDir::Install => 0.13 (want 0.03)
# File::Spec => 3.75 (want any version)
# IO::Handle => 1.39 (want any version)
# IPC::Open3 => 1.16 (want any version)
# Module::Build => 0.423 (want 0.3601)
# Moose => 2.2011 (want 2.0)
# Perl::Critic => 1.134 (want 1.118)
# Perl::Critic::Bangs => 1.12 (want 1.08)
# Perl::Critic::Lax => 0.013 (want any version)
# Perl::Critic::Pulp => 96 (want any version)
# Perl::Critic::StricterSubs => 0.05 (want any version)
# Perl::Critic::Swift => v1.0.3 (want any version)
# Perl::MinimumVersion => 1.38_01 (want any version)
# Perl::OSType => 1.010 (want any version)
# Perl::PrereqScanner => 1.023 (want any version)
# Pod::Coverage::TrustPod => 0.100005 (want any version)
# Pod::Elemental::Transformer::List => 0.102000 (want any version)
# Pod::Spell => 1.20 (want any version)
# Pod::Weaver => 4.015 (want 3.101632)
# Pod::Weaver::Config::Assembler => 4.015 (want any version)
# Pod::Weaver::Section::Installation => 1.101421 (want any version)
# Pod::Weaver::Section::SeeAlso => 1.003 (want any version)
# Pod::Weaver::Section::Support => 1.010 (want any version)
# Pod::Weaver::Section::WarrantyDisclaimer => 0.121290 (want any version)
# Test::CPAN::Meta => 0.25 (want any version)
# Test::More => 1.302164 (want 0.88)
# Test::Perl::Critic => 1.04 (want any version)
# Test::Pod::Content => 0.0.6 (want any version)
# namespace::autoclean => 0.28 (want any version)
# strict => 1.08 (want any version)
# utf8 => 1.13_01 (want any version)
# warnings => 1.23 (want any version)
#
# Thanks for using my code. I hope it works for you.
# If not, please try and include this output in the bug report.
# That will help me reproduce the issue and solve your problem.
#
t/000-report-versions-tiny.t .... ok
t/author-critic.t ............... skipped: these tests are for testing by the author
t/author-test-eol.t ............. skipped: these tests are for testing by the author
t/release-common_spelling.t ..... skipped: these tests are for release candidate testing
t/release-consistent-version.t .. skipped: these tests are for release candidate testing
t/release-cpan-changes.t ........ skipped: these tests are for release candidate testing
t/release-dist-manifest.t ....... skipped: these tests are for release candidate testing
t/release-distmeta.t ............ skipped: these tests are for release candidate testing
t/release-has-version.t ......... skipped: these tests are for release candidate testing
t/release-kwalitee.t ............ skipped: these tests are for release candidate testing
t/release-minimum-version.t ..... skipped: these tests are for release candidate testing
t/release-no-tabs.t ............. skipped: these tests are for release candidate testing
t/release-pod-coverage.t ........ skipped: these tests are for release candidate testing
t/release-pod-syntax.t .......... skipped: these tests are for release candidate testing
All tests successful.
Files=15, Tests=4, 3 wallclock secs ( 0.03 usr 0.02 sys + 2.69 cusr 0.20 csys = 2.94 CPU)
Result: PASS
------------------------------
PREREQUISITES
------------------------------
Prerequisite modules loaded:
requires:
Module Need Have
------------------------------------------------ -------- --------
Carp 0 1.50
CPAN::Meta::YAML 0 0.018
Dist::Zilla 4.300000 6.013
Dist::Zilla::Plugin::ArchiveRelease 0 6.000
Dist::Zilla::Plugin::Authority 0 1.009
Dist::Zilla::Plugin::AutoMetaResources 0 1.21
Dist::Zilla::Plugin::AutoPrereqs 0 6.013
Dist::Zilla::Plugin::ConfirmRelease 0 6.013
Dist::Zilla::Plugin::ConsistentVersionTest 0 0.03
Dist::Zilla::Plugin::CopyFilesFromBuild 0 0.170880
Dist::Zilla::Plugin::DualBuilders 0 1.002
Dist::Zilla::Plugin::ExecDir 0 6.013
Dist::Zilla::Plugin::ExtraTests 0 6.013
Dist::Zilla::Plugin::FakeRelease 0 6.013
Dist::Zilla::Plugin::GatherDir 0 6.013
Dist::Zilla::Plugin::HasVersionTests 0 1.101420
Dist::Zilla::Plugin::InstallGuide 0 1.200013
Dist::Zilla::Plugin::License 0 6.013
Dist::Zilla::Plugin::MakeMaker 0 6.013
Dist::Zilla::Plugin::Manifest 0 6.013
Dist::Zilla::Plugin::ManifestSkip 0 6.013
Dist::Zilla::Plugin::MetaConfig 0 6.013
Dist::Zilla::Plugin::MetaJSON 0 6.013
Dist::Zilla::Plugin::MetaNoIndex 0 6.013
Dist::Zilla::Plugin::MetaTests 0 6.013
Dist::Zilla::Plugin::MetaYAML 0 6.013
Dist::Zilla::Plugin::MinimumPerl 0 1.006
Dist::Zilla::Plugin::ModuleBuild 0 6.013
Dist::Zilla::Plugin::NextRelease 0 6.013
Dist::Zilla::Plugin::PkgVersion 0 6.013
Dist::Zilla::Plugin::PodCoverageTests 0 6.013
Dist::Zilla::Plugin::PodSyntaxTests 0 6.013
Dist::Zilla::Plugin::PodWeaver 0 4.008
Dist::Zilla::Plugin::PruneCruft 0 6.013
Dist::Zilla::Plugin::ReadmeAnyFromPod 0 0.163250
Dist::Zilla::Plugin::ReportVersions::Tiny 0 1.12
Dist::Zilla::Plugin::ShareDir 0 6.013
Dist::Zilla::Plugin::SpellingCommonMistakesTests 0 1.001000
Dist::Zilla::Plugin::Test::Compile 1.112400 2.058
Dist::Zilla::Plugin::Test::CPAN::Changes 0.005 0.012
Dist::Zilla::Plugin::Test::DistManifest v2.0.1 2.000005
Dist::Zilla::Plugin::Test::EOL 0.12 0.19
Dist::Zilla::Plugin::Test::Kwalitee 0 2.12
Dist::Zilla::Plugin::Test::MinimumVersion v2.0.1 2.000010
Dist::Zilla::Plugin::Test::NoTabs 0 0.15
Dist::Zilla::Plugin::Test::Perl::Critic 2.112410 3.001
Dist::Zilla::Plugin::Test::Portability v2.0.1 2.001000
Dist::Zilla::Plugin::Test::Synopsis v2.0.1 2.000007
Dist::Zilla::Plugin::TestRelease 0 6.013
Dist::Zilla::Plugin::UploadToCPAN 0 6.013
Dist::Zilla::Role::MintingProfile::ShareDir 0 6.013
Dist::Zilla::Role::PluginBundle::Easy 0 6.013
File::ShareDir 1.00 1.116
Moose 2.0 2.2011
namespace::autoclean 0 0.28
perl 5.010 5.020003
Perl::Critic 1.118 1.134
Perl::Critic::Bangs 1.08 1.12
Perl::Critic::Lax 0 0.013
Perl::Critic::Pulp 0 96
Perl::Critic::StricterSubs 0 0.05
Perl::Critic::Swift 0 v1.0.3
Perl::MinimumVersion 0 1.38_01
Perl::OSType 0 1.010
Perl::PrereqScanner 0 1.023
Pod::Coverage::TrustPod 0 0.100005
Pod::Elemental::Transformer::List 0 0.102000
Pod::Spell 0 1.20
Pod::Weaver 3.101632 4.015
Pod::Weaver::Config::Assembler 0 4.015
Pod::Weaver::Section::Installation 0 1.101421
Pod::Weaver::Section::SeeAlso 0 1.003
Pod::Weaver::Section::Support 0 1.010
Pod::Weaver::Section::WarrantyDisclaimer 0 0.121290
strict 0 1.08
Test::CPAN::Meta 0 0.25
Test::Perl::Critic 0 1.04
Test::Pod::Content 0 0.0.6
utf8 0 1.13_01
warnings 0 1.23
build_requires:
Module Need Have
------------------------------------------------ -------- --------
Dist::Zilla::Plugin::Bootstrap::lib 0 1.001002
File::Spec 0 3.75
IO::Handle 0 1.39
IPC::Open3 0 1.16
Module::Build 0.3601 0.42_30
perl 5.010 5.020003
Test::More 0.88 1.302164
configure_requires:
Module Need Have
------------------------------------------------ -------- --------
File::ShareDir::Install 0.03 0.13
Module::Build 0.3601 0.42_30
------------------------------
ENVIRONMENT AND OTHER CONTEXT
------------------------------
Environment variables:
AUTOMATED_TESTING = 1
LC_COLLATE = ru_RU.utf8
LC_CTYPE = ru_RU.utf8
PATH = /home/syber/perl5/perlbrew/bin:/home/syber/perl5/perlbrew/perls/5.20.3/bin:/usr/local/bin:/usr/bin:/bin:/usr/local/games:/usr/games
PERL5LIB =
PERL5OPT =
PERL5_CPANPLUS_IS_RUNNING = 37037
PERL5_CPAN_IS_RUNNING = 37037
PERL5_CPAN_IS_RUNNING_IN_RECURSION = 32264,37037
PERLBREW_HOME = /home/syber/.perlbrew
PERLBREW_MANPATH = /home/syber/perl5/perlbrew/perls/5.20.3/man
PERLBREW_PATH = /home/syber/perl5/perlbrew/bin:/home/syber/perl5/perlbrew/perls/5.20.3/bin
PERLBREW_PERL = 5.20.3
PERLBREW_ROOT = /home/syber/perl5/perlbrew
PERLBREW_SHELLRC_VERSION = 0.86
PERLBREW_VERSION = 0.86
PERL_CR_SMOKER_CURRENT = Dist-Zilla-PluginBundle-Author-LESPEA-1.008000
PERL_EXTUTILS_AUTOINSTALL = --defaultdeps
PERL_MM_USE_DEFAULT = 1
PERL_USE_UNSAFE_INC = 1
SHELL = /bin/bash
TERM = screen
Perl special variables (and OS-specific diagnostics, for MSWin32):
$^X = /home/syber/perl5/perlbrew/perls/5.20.3/bin/perl
$UID/$EUID = 1003 / 1003
$GID = 1003 11 1003
$EGID = 1003 11 1003
Perl module toolchain versions installed:
Module Have
------------------- ---------
CPAN 2.27
CPAN::Meta 2.150010
Cwd 3.75
ExtUtils::CBuilder 0.280231
ExtUtils::Command 7.37_03
ExtUtils::Install 2.14
ExtUtils::MakeMaker 7.37_03
ExtUtils::Manifest 1.72
ExtUtils::ParseXS 3.36_03
File::Spec 3.75
JSON 4.02
JSON::PP 4.04
Module::Build 0.42_30
Module::Signature 0.83
Parse::CPAN::Meta 2.150010
Test::Harness 3.42
Test::More 1.302164
YAML 1.29
YAML::Syck 1.31
version 0.9924_02
--
Summary of my perl5 (revision 5 version 20 subversion 3) configuration:
Platform:
osname=linux, osvers=4.9.0-8-amd64, archname=x86_64-linux
uname='linux dexter.crazypanda.ru 4.9.0-8-amd64 #1 smp debian 4.9.110-3+deb9u6 (2018-10-08) x86_64 gnulinux '
config_args='-de -Dprefix=/home/syber/perl5/perlbrew/perls/5.20.3 -Aeval:scriptdir=/home/syber/perl5/perlbrew/perls/5.20.3/bin'
hint=recommended, useposix=true, d_sigaction=define
useithreads=undef, usemultiplicity=undef
use64bitint=define, use64bitall=define, uselongdouble=undef
usemymalloc=n, bincompat5005=undef
Compiler:
cc='cc', ccflags ='-fwrapv -fno-strict-aliasing -pipe -fstack-protector -I/usr/local/include -D_LARGEFILE_SOURCE -D_FILE_OFFSET_BITS=64',
optimize='-O2',
cppflags='-fwrapv -fno-strict-aliasing -pipe -fstack-protector -I/usr/local/include'
ccversion='', gccversion='6.3.0 20170516', gccosandvers=''
intsize=4, longsize=8, ptrsize=8, doublesize=8, byteorder=12345678
d_longlong=define, longlongsize=8, d_longdbl=define, longdblsize=16
ivtype='long', ivsize=8, nvtype='double', nvsize=8, Off_t='off_t', lseeksize=8
alignbytes=8, prototype=define
Linker and Libraries:
ld='cc', ldflags =' -fstack-protector -L/usr/local/lib'
libpth=/usr/local/lib /usr/lib/gcc/x86_64-linux-gnu/6/include-fixed /usr/include/x86_64-linux-gnu /usr/lib /lib/x86_64-linux-gnu /lib/../lib /usr/lib/x86_64-linux-gnu /usr/lib/../lib /lib
libs=-lpthread -lnsl -ldl -lm -lcrypt -lutil -lc
perllibs=-lpthread -lnsl -ldl -lm -lcrypt -lutil -lc
libc=libc-2.24.so, so=so, useshrplib=false, libperl=libperl.a
gnulibc_version='2.24'
Dynamic Linking:
dlsrc=dl_dlopen.xs, dlext=so, d_dlsymun=undef, ccdlflags='-Wl,-E'
cccdlflags='-fPIC', lddlflags='-shared -O2 -L/usr/local/lib -fstack-protector'
Characteristics of this binary (from libperl):
Compile-time options: HAS_TIMES PERLIO_LAYERS PERL_DONT_CREATE_GVSV
PERL_HASH_FUNC_ONE_AT_A_TIME_HARD PERL_MALLOC_WRAP
PERL_NEW_COPY_ON_WRITE PERL_PRESERVE_IVUV
USE_64_BIT_ALL USE_64_BIT_INT USE_LARGE_FILES
USE_LOCALE USE_LOCALE_COLLATE USE_LOCALE_CTYPE
USE_LOCALE_NUMERIC USE_PERLIO USE_PERL_ATOF
Locally applied patches:
Devel::PatchPerl 1.64
Built under linux
Compiled at Aug 5 2019 14:02:05
%ENV:
PERL5LIB=""
PERL5OPT=""
PERL5_CPANPLUS_IS_RUNNING="37037"
PERL5_CPAN_IS_RUNNING="37037"
PERL5_CPAN_IS_RUNNING_IN_RECURSION="32264,37037"
PERLBREW_HOME="/home/syber/.perlbrew"
PERLBREW_MANPATH="/home/syber/perl5/perlbrew/perls/5.20.3/man"
PERLBREW_PATH="/home/syber/perl5/perlbrew/bin:/home/syber/perl5/perlbrew/perls/5.20.3/bin"
PERLBREW_PERL="5.20.3"
PERLBREW_ROOT="/home/syber/perl5/perlbrew"
PERLBREW_SHELLRC_VERSION="0.86"
PERLBREW_VERSION="0.86"
PERL_CR_SMOKER_CURRENT="Dist-Zilla-PluginBundle-Author-LESPEA-1.008000"
PERL_EXTUTILS_AUTOINSTALL="--defaultdeps"
PERL_MM_USE_DEFAULT="1"
PERL_USE_UNSAFE_INC="1"
@INC:
/home/syber/perl5/perlbrew/perls/5.20.3/lib/site_perl/5.20.3/x86_64-linux
/home/syber/perl5/perlbrew/perls/5.20.3/lib/site_perl/5.20.3
/home/syber/perl5/perlbrew/perls/5.20.3/lib/5.20.3/x86_64-linux
/home/syber/perl5/perlbrew/perls/5.20.3/lib/5.20.3
.