Report for MooseX-AbstractFactory-0.004003

Back
From: metabase:user:320bfe00-2aae-11df-837a-5e0a49663a4f
Subject: PASS MooseX-AbstractFactory-0.004003 v5.24.0 GNU/Linux
Date: 2016-09-27T21:46:19Z

This distribution has been tested as part of the CPAN Testers
project, supporting the Perl programming language.  See
http://wiki.cpantesters.org/ for more information or email
questions to cpan-testers-discuss@perl.org


--
Dear Caleb Cushing,

This is a computer-generated report for MooseX-AbstractFactory-0.004003
on perl 5.24.0, created by CPAN-Reporter-1.2018.

Thank you for uploading your work to CPAN.  Congratulations!
All tests were successful.

Sections of this report:

    * Tester comments
    * Program output
    * Prerequisites
    * Environment and other context

------------------------------
TESTER COMMENTS
------------------------------

Additional comments from tester:

this report is from an automated smoke testing program
and was not reviewed by a human for accuracy

------------------------------
PROGRAM OUTPUT
------------------------------

Output from '/usr/bin/make test':

PERL_DL_NONLAZY=1 "/home/sand/src/perl/repoperls/installed-perls/perl/v5.24.0/f7bf/bin/perl" "-MExtUtils::Command::MM" "-MTest::Harness" "-e" "undef *Test::Harness::Switches; test_harness(0, 'blib/lib', 'blib/arch')" t/*.t
t/00-compile.t ............. ok
# 
# Versions for all modules listed in MYMETA.json (including optional ones):
#    Version Module                  
#   -------- ------------------------
#   2.150010 CPAN::Meta              
#      2.140 CPAN::Meta::Requirements
#       7.24 ExtUtils::MakeMaker     
#       3.63 File::Spec              
#       3.63 File::Spec::Functions   
#       1.36 IO::Handle              
#       1.20 IPC::Open3              
#    1.45_05 List::Util              
#      0.014 Module::Runtime         
#     2.1806 Moose                   
#       0.16 Moose::Autobox          
#     2.1806 Moose::Exporter         
#     2.1806 Moose::Meta::Class      
#     2.1806 Moose::Role             
#      0.014 Test::Fatal             
#     2.1806 Test::Moose             
#   1.302060 Test::More              
#       0.27 Try::Tiny               
#       1.11 strict                  
#     0.9917 version                 
#       1.36 warnings                
t/00-report-prereqs.t ...... ok
t/accept_any_parameters.t .. ok
t/author-critic.t .......... skipped: these tests are for testing by the author
t/author-pod-spell.t ....... skipped: these tests are for testing by the author
t/author-test-eol.t ........ skipped: these tests are for testing by the author
t/factory.t ................ ok
t/factory_validate.t ....... ok
t/impl-does-arrayref.t ..... ok
t/override-get_imp.t ....... ok
t/override-validate-imp.t .. ok
t/release-cpan-changes.t ... skipped: these tests are for release candidate testing
t/release-distmeta.t ....... skipped: these tests are for release candidate testing
t/release-meta-json.t ...... skipped: these tests are for release candidate testing
t/release-mojibake.t ....... skipped: these tests are for release candidate testing
t/release-pod-coverage.t ... skipped: these tests are for release candidate testing
t/release-portability.t .... skipped: these tests are for release candidate testing
t/release-unused-vars.t .... skipped: these tests are for release candidate testing
All tests successful.
Files=18, Tests=24, 13 wallclock secs ( 0.05 usr  0.02 sys +  3.89 cusr  0.38 csys =  4.34 CPU)
Result: PASS

------------------------------
PREREQUISITES
------------------------------

Prerequisite modules loaded:

requires:

    Module                Need Have    
    --------------------- ---- --------
    Module::Runtime       0    0.014   
    Moose                 0    2.1806  
    Moose::Autobox        0    0.16    
    Moose::Exporter       0    2.1806  
    Moose::Meta::Class    0    2.1806  
    Moose::Role           0    2.1806  
    strict                0    1.11    
    Try::Tiny             0    0.27    
    warnings              0    1.36    

build_requires:

    Module                Need Have    
    --------------------- ---- --------
    ExtUtils::MakeMaker   0    7.24    
    File::Spec            0    3.63    
    File::Spec::Functions 0    3.63    
    IO::Handle            0    1.36    
    IPC::Open3            0    1.20    
    List::Util            0    1.45_05 
    Test::Fatal           0    0.014   
    Test::Moose           0    2.1806  
    Test::More            0    1.302060
    version               0    0.9917  

configure_requires:

    Module                Need Have    
    --------------------- ---- --------
    ExtUtils::MakeMaker   6.30 7.24    


------------------------------
ENVIRONMENT AND OTHER CONTEXT
------------------------------

Environment variables:

    AUTOMATED_TESTING = 1
    LANG = en_US.UTF-8
    LANGUAGE = en_US:en
    PATH = /home/sand/bin:/usr/local/bin:/usr/bin:/bin:/usr/games:/usr/local/perl/bin:/usr/X11/bin:/sbin:/usr/sbin
    PERL5LIB = 
    PERL5OPT = 
    PERL5_CPANPLUS_IS_RUNNING = 18941
    PERL5_CPAN_IS_RUNNING = 18941
    PERL_CANARY_STABILITY_NOPROMPT = 1
    PERL_MM_USE_DEFAULT = 1
    SHELL = /usr/bin/zsh
    TERM = screen

Perl special variables (and OS-specific diagnostics, for MSWin32):

    $^X = /home/sand/src/perl/repoperls/installed-perls/perl/v5.24.0/f7bf/bin/perl
    $UID/$EUID = 1005 / 1005
    $GID = 1005 1005
    $EGID = 1005 1005

Perl module toolchain versions installed:

    Module              Have    
    ------------------- --------
    CPAN                2.15    
    CPAN::Meta          2.150010
    Cwd                 3.63    
    ExtUtils::CBuilder  0.280225
    ExtUtils::Command   7.24    
    ExtUtils::Install   2.04    
    ExtUtils::MakeMaker 7.24    
    ExtUtils::Manifest  1.70    
    ExtUtils::ParseXS   3.31    
    File::Spec          3.63    
    JSON                2.90    
    JSON::PP            2.27300 
    Module::Build       0.4220  
    Module::Signature   0.81    
    Parse::CPAN::Meta   2.150010
    Test::Harness       3.36    
    Test::More          1.302060
    YAML                1.18    
    YAML::Syck          1.29    
    version             0.9917  


--

Summary of my perl5 (revision 5 version 24 subversion 0) configuration:
  Commit id: be2c0c650b028f54e427f2469a59942edfdff8a9
  Platform:
    osname=linux, osvers=4.7.0-1-amd64, archname=x86_64-linux-thread-multi
    uname='linux k83 4.7.0-1-amd64 #1 smp debian 4.7.2-1 (2016-08-28) x86_64 gnulinux '
    config_args='-Dprefix=/home/sand/src/perl/repoperls/installed-perls/perl/v5.24.0/f7bf -Dmyhostname=k83 -Dinstallusrbinperl=n -Uversiononly -Dusedevel -des -Ui_db -Dlibswanted=cl pthread socket inet nsl gdbm dbm malloc dl ld sun m crypt sec util c cposix posix ucb BSD gdbm_compat -Duseithreads -Uuselongdouble -DDEBUGGING=-g'
    hint=recommended, useposix=true, d_sigaction=define
    useithreads=define, usemultiplicity=define
    use64bitint=define, use64bitall=define, uselongdouble=undef
    usemymalloc=n, bincompat5005=undef
  Compiler:
    cc='cc', ccflags ='-D_REENTRANT -D_GNU_SOURCE -fwrapv -fno-strict-aliasing -pipe -fstack-protector-strong -I/usr/local/include -D_LARGEFILE_SOURCE -D_FILE_OFFSET_BITS=64',
    optimize='-O2 -g',
    cppflags='-D_REENTRANT -D_GNU_SOURCE -fwrapv -fno-strict-aliasing -pipe -fstack-protector-strong -I/usr/local/include'
    ccversion='', gccversion='6.2.0 20160830', gccosandvers=''
    intsize=4, longsize=8, ptrsize=8, doublesize=8, byteorder=12345678, doublekind=3
    d_longlong=define, longlongsize=8, d_longdbl=define, longdblsize=16, longdblkind=3
    ivtype='long', ivsize=8, nvtype='double', nvsize=8, Off_t='off_t', lseeksize=8
    alignbytes=8, prototype=define
  Linker and Libraries:
    ld='cc', ldflags =' -fstack-protector-strong -L/usr/local/lib'
    libpth=/usr/local/lib /usr/lib/gcc/x86_64-linux-gnu/6/include-fixed /usr/include/x86_64-linux-gnu /usr/lib /lib/x86_64-linux-gnu /lib/../lib /usr/lib/x86_64-linux-gnu /usr/lib/../lib /lib
    libs=-lpthread -lnsl -lgdbm -ldl -lm -lcrypt -lutil -lc -lgdbm_compat
    perllibs=-lpthread -lnsl -ldl -lm -lcrypt -lutil -lc
    libc=libc-2.24.so, so=so, useshrplib=false, libperl=libperl.a
    gnulibc_version='2.24'
  Dynamic Linking:
    dlsrc=dl_dlopen.xs, dlext=so, d_dlsymun=undef, ccdlflags='-Wl,-E'
    cccdlflags='-fPIC', lddlflags='-shared -O2 -g -L/usr/local/lib -fstack-protector-strong'


Characteristics of this binary (from libperl): 
  Compile-time options: HAS_TIMES MULTIPLICITY PERLIO_LAYERS
                        PERL_COPY_ON_WRITE PERL_DONT_CREATE_GVSV
                        PERL_HASH_FUNC_ONE_AT_A_TIME_HARD
                        PERL_IMPLICIT_CONTEXT PERL_MALLOC_WRAP
                        PERL_PRESERVE_IVUV PERL_USE_DEVEL USE_64_BIT_ALL
                        USE_64_BIT_INT USE_ITHREADS USE_LARGE_FILES
                        USE_LOCALE USE_LOCALE_COLLATE USE_LOCALE_CTYPE
                        USE_LOCALE_NUMERIC USE_LOCALE_TIME USE_PERLIO
                        USE_PERL_ATOF USE_REENTRANT_API
  Built under linux
  Compiled at Sep  4 2016 20:52:43
  %ENV:
    PERL5LIB=""
    PERL5OPT=""
    PERL5_CPANPLUS_IS_RUNNING="18941"
    PERL5_CPAN_IS_RUNNING="18941"
    PERL_CANARY_STABILITY_NOPROMPT="1"
    PERL_MM_USE_DEFAULT="1"
  @INC:
    /home/sand/src/perl/repoperls/installed-perls/perl/v5.24.0/f7bf/lib/site_perl/5.24.0/x86_64-linux-thread-multi
    /home/sand/src/perl/repoperls/installed-perls/perl/v5.24.0/f7bf/lib/site_perl/5.24.0
    /home/sand/src/perl/repoperls/installed-perls/perl/v5.24.0/f7bf/lib/5.24.0/x86_64-linux-thread-multi
    /home/sand/src/perl/repoperls/installed-perls/perl/v5.24.0/f7bf/lib/5.24.0
    .