XML-XPath v1.48 Perl 5 v5.32.0 x86_64-linux
- Status
- Pass
- From
- Dist
-
XML-XPath v1.48
- Platform
- Perl 5 v5.32.0 x86_64-linux
- Date
- 2022-08-20 22:38:34
- ID
- d2e6fe00-20d8-11ed-b26c-0d3d4a0d08c9
This distribution has been tested as part of the CPAN Testers
project, supporting the Perl programming language. See
http://wiki.cpantesters.org/ for more information or email
questions to cpan-testers-discuss@perl.org
--
Dear MANWAR,
This is a computer-generated report for XML-XPath-1.48
on perl 5.32.0, created by App::cpanminus::reporter 0.17 (1.7044).
Thank you for uploading your work to CPAN. Congratulations!
All tests were successful.
Sections of this report:
* Tester comments
* Program output
* Prerequisites
* Environment and other context
------------------------------
TESTER COMMENTS
------------------------------
Additional comments from tester:
none provided
------------------------------
PROGRAM OUTPUT
------------------------------
Output from '':
Building and testing XML-XPath-1.48
cp lib/XML/XPath/Number.pm blib/lib/XML/XPath/Number.pm
cp lib/XML/XPath/NodeSet.pm blib/lib/XML/XPath/NodeSet.pm
cp lib/XML/XPath/Literal.pm blib/lib/XML/XPath/Literal.pm
cp lib/XML/XPath/Node/Attribute.pm blib/lib/XML/XPath/Node/Attribute.pm
cp lib/XML/XPath/Step.pm blib/lib/XML/XPath/Step.pm
cp lib/XML/XPath/Node/PI.pm blib/lib/XML/XPath/Node/PI.pm
cp lib/XML/XPath/Node/Comment.pm blib/lib/XML/XPath/Node/Comment.pm
cp lib/XML/XPath/Boolean.pm blib/lib/XML/XPath/Boolean.pm
cp lib/XML/XPath/PerlSAX.pm blib/lib/XML/XPath/PerlSAX.pm
cp lib/XML/XPath/Variable.pm blib/lib/XML/XPath/Variable.pm
cp lib/XML/XPath/Node/Text.pm blib/lib/XML/XPath/Node/Text.pm
cp lib/XML/XPath/Node/Element.pm blib/lib/XML/XPath/Node/Element.pm
cp lib/XML/XPath/Parser.pm blib/lib/XML/XPath/Parser.pm
cp lib/XML/XPath/LocationPath.pm blib/lib/XML/XPath/LocationPath.pm
cp lib/XML/XPath/XMLParser.pm blib/lib/XML/XPath/XMLParser.pm
cp lib/XML/XPath/Root.pm blib/lib/XML/XPath/Root.pm
cp lib/XML/XPath/Function.pm blib/lib/XML/XPath/Function.pm
cp lib/XML/XPath/Builder.pm blib/lib/XML/XPath/Builder.pm
cp lib/XML/XPath/Node/Namespace.pm blib/lib/XML/XPath/Node/Namespace.pm
cp lib/XML/XPath.pm blib/lib/XML/XPath.pm
cp lib/XML/XPath/Expr.pm blib/lib/XML/XPath/Expr.pm
cp lib/XML/XPath/Node.pm blib/lib/XML/XPath/Node.pm
cp examples/xpath blib/script/xpath
"/home/osboxes/perl5/perlbrew/perls/perl-5.32.0/bin/perl" -MExtUtils::MY -e 'MY->fixin(shift)' -- blib/script/xpath
Manifying 1 pod document
Manifying 16 pod documents
PERL_DL_NONLAZY=1 "/home/osboxes/perl5/perlbrew/perls/perl-5.32.0/bin/perl" "-MExtUtils::Command::MM" "-MTest::Harness" "-e" "undef *Test::Harness::Switches; test_harness(0, 'blib/lib', 'blib/arch')" t/*.t
t/01basic.t ................... ok
t/02descendant.t .............. ok
t/03star.t .................... ok
# Testing XML::XPath 1.48, Perl 5.032000, /home/osboxes/perl5/perlbrew/perls/perl-5.32.0/bin/perl
t/00load.t .................... ok
t/04pos.t ..................... ok
t/05attrib.t .................. ok
t/06attrib_val.t .............. ok
t/07count.t ................... ok
t/08name.t .................... ok
t/09a_string_length.t ......... ok
t/09string_length.t ........... ok
t/11axischild.t ............... ok
t/10pipe.t .................... ok
t/12axisdescendant.t .......... ok
t/13axisparent.t .............. ok
t/14axisancestor.t ............ ok
t/16axisprec_sib.t ............ ok
t/15axisfol_sib.t ............. ok
t/17axisfollowing.t ........... ok
t/18axispreceding.t ........... ok
t/19axisd_or_s.t .............. ok
t/21allnodes.t ................ ok
t/20axisa_or_s.t .............. ok
t/22name_select.t ............. ok
t/23func.t .................... ok
t/24namespaces.t .............. ok
t/25scope.t ................... ok
t/26predicate.t ............... ok
t/27asxml.t ................... ok
t/28ancestor2.t ............... ok
t/29desc_with_predicate.t ..... ok
t/30lang.t .................... ok
t/31dots.t .................... ok
t/32duplicate_nodes.t ......... ok
t/33getnodetext.t ............. ok
t/35namespace_uri.t ........... ok
t/34non_abbreviated_attrib.t .. ok
t/37concat.t .................. ok
t/36substring.t ............... ok
t/38starts_with.t ............. ok
t/39contains.t ................ ok
t/41substring_after.t ......... ok
t/40substring_before.t ........ ok
t/43op_div.t .................. ok
t/42create_node.t ............. ok
t/44test_compare.t ............ ok
t/47position.t ................ ok
t/45cmp_nodeset.t ............. ok
t/46context.t ................. ok
t/48translate.t ............... ok
t/49literal.t ................. ok
t/50xmlxpathparsercache.t ..... ok
t/51elementname.t ............. ok
t/52matches.t ................. ok
t/cleanup.t ................... ok
t/insert.t .................... ok
t/manifest.t .................. ok
t/meta-json.t ................. skipped: Test::CPAN::Meta::JSON required for testing MYMETA.json
t/meta-yml.t .................. skipped: Test::CPAN::Meta required for testing MYMETA.yml
t/rdf.t ....................... ok
t/remove.t .................... ok
t/stress.t .................... ok
All tests successful.
Files=62, Tests=329, 3 wallclock secs ( 0.22 usr 0.06 sys + 4.90 cusr 0.75 csys = 5.93 CPU)
Result: PASS
------------------------------
PREREQUISITES
------------------------------
Prerequisite modules loaded:
No requirements found
------------------------------
ENVIRONMENT AND OTHER CONTEXT
------------------------------
Environment variables:
AUTHOR_TESTING = 1
HARNESS_OPTIONS = j3
LANG = en_GB.UTF-8
LANGUAGE = en_GB:en
LC_COLLATE = POSIX
PATH = /home/osboxes/.perlbrew/libs/perl-5.32.0@normal/bin:/home/osboxes/perl5/perlbrew/bin:/home/osboxes/perl5/perlbrew/perls/perl-5.32.0/bin:/home/osboxes/bin:/home/osboxes/.local/bin:/usr/local/sbin:/usr/local/bin:/usr/sbin:/usr/bin:/sbin:/bin:/usr/games:/usr/local/games:/snap/bin
PERL5LIB = /home/osboxes/.perlbrew/libs/perl-5.32.0@normal/lib/perl5
PERLBREW_BASHRC_VERSION = 0.74
PERLBREW_HOME = /home/osboxes/.perlbrew
PERLBREW_LIB = normal
PERLBREW_MANPATH = /home/osboxes/.perlbrew/libs/perl-5.32.0@normal/man:/home/osboxes/perl5/perlbrew/perls/perl-5.32.0/man
PERLBREW_PATH = /home/osboxes/.perlbrew/libs/perl-5.32.0@normal/bin:/home/osboxes/perl5/perlbrew/bin:/home/osboxes/perl5/perlbrew/perls/perl-5.32.0/bin
PERLBREW_PERL = perl-5.32.0
PERLBREW_ROOT = /home/osboxes/perl5/perlbrew
PERLBREW_VERSION = 0.88
PERL_LOCAL_LIB_ROOT = /home/osboxes/.perlbrew/libs/perl-5.32.0@normal
PERL_MB_OPT = --install_base /home/osboxes/.perlbrew/libs/perl-5.32.0@normal
PERL_MM_OPT = INSTALL_BASE=/home/osboxes/.perlbrew/libs/perl-5.32.0@normal
RELEASE_TESTING = 1
SHELL = /bin/bash
TERM = xterm-256color
Perl special variables (and OS-specific diagnostics, for MSWin32):
EGID = 1000 4 24 27 30 46 113 128 130 1000
EUID = 1000
EXECUTABLE_NAME = /home/osboxes/perl5/perlbrew/perls/perl-5.32.0/bin/perl
GID = 1000 4 24 27 30 46 113 128 130 1000
UID = 1000
Perl module toolchain versions installed:
Module Have
------------------- --------
CPAN 2.27
CPAN::Meta 2.150010
Cwd 3.78
ExtUtils::CBuilder 0.280234
ExtUtils::Command 7.44
ExtUtils::Install 2.14
ExtUtils::MakeMaker 7.44
ExtUtils::Manifest 1.72
ExtUtils::ParseXS 3.40
File::Spec 3.78
JSON 4.03
JSON::PP 4.04
Module::Build 0.4231
Module::Signature n/a
Parse::CPAN::Meta 2.150010
Test::Harness 3.42
Test::More 1.302183
YAML 1.30
YAML::Syck n/a
version 0.9924
--
Summary of my perl5 (revision 5 version 32 subversion 0) configuration:
Platform:
osname=linux
osvers=5.4.0-58-generic
archname=x86_64-linux
uname='linux osboxes 5.4.0-58-generic #64-ubuntu smp wed dec 9 08:16:25 utc 2020 x86_64 x86_64 x86_64 gnulinux '
config_args='-de -Dprefix=/home/osboxes/perl5/perlbrew/perls/perl-5.32.0 -Accflags=-fPIC -Aeval:scriptdir=/home/osboxes/perl5/perlbrew/perls/perl-5.32.0/bin'
hint=recommended
useposix=true
d_sigaction=define
useithreads=undef
usemultiplicity=undef
use64bitint=define
use64bitall=define
uselongdouble=undef
usemymalloc=n
default_inc_excludes_dot=define
bincompat5005=undef
Compiler:
cc='cc'
ccflags ='-fPIC -fwrapv -fno-strict-aliasing -pipe -fstack-protector-strong -I/usr/local/include -D_LARGEFILE_SOURCE -D_FILE_OFFSET_BITS=64'
optimize='-O2'
cppflags='-fPIC -fwrapv -fno-strict-aliasing -pipe -fstack-protector-strong -I/usr/local/include'
ccversion=''
gccversion='9.3.0'
gccosandvers=''
intsize=4
longsize=8
ptrsize=8
doublesize=8
byteorder=12345678
doublekind=3
d_longlong=define
longlongsize=8
d_longdbl=define
longdblsize=16
longdblkind=3
ivtype='long'
ivsize=8
nvtype='double'
nvsize=8
Off_t='off_t'
lseeksize=8
alignbytes=8
prototype=define
Linker and Libraries:
ld='cc'
ldflags =' -fstack-protector-strong -L/usr/local/lib'
libpth=/usr/local/lib /usr/include/x86_64-linux-gnu /usr/lib /lib/x86_64-linux-gnu /lib/../lib /usr/lib/x86_64-linux-gnu /usr/lib/../lib /lib
libs=-lpthread -lnsl -ldb -ldl -lm -lcrypt -lutil -lc
perllibs=-lpthread -lnsl -ldl -lm -lcrypt -lutil -lc
libc=libc-2.31.so
so=so
useshrplib=false
libperl=libperl.a
gnulibc_version='2.31'
Dynamic Linking:
dlsrc=dl_dlopen.xs
dlext=so
d_dlsymun=undef
ccdlflags='-Wl,-E'
cccdlflags='-fPIC'
lddlflags='-shared -O2 -L/usr/local/lib -fstack-protector-strong'
Characteristics of this binary (from libperl):
Compile-time options:
HAS_TIMES
PERLIO_LAYERS
PERL_COPY_ON_WRITE
PERL_DONT_CREATE_GVSV
PERL_MALLOC_WRAP
PERL_OP_PARENT
PERL_PRESERVE_IVUV
USE_64_BIT_ALL
USE_64_BIT_INT
USE_LARGE_FILES
USE_LOCALE
USE_LOCALE_COLLATE
USE_LOCALE_CTYPE
USE_LOCALE_NUMERIC
USE_LOCALE_TIME
USE_PERLIO
USE_PERL_ATOF
Built under linux
Compiled at Dec 25 2020 17:42:05
%ENV:
PERL5LIB="/home/osboxes/.perlbrew/libs/perl-5.32.0@normal/lib/perl5"
PERLBREW_BASHRC_VERSION="0.74"
PERLBREW_HOME="/home/osboxes/.perlbrew"
PERLBREW_LIB="normal"
PERLBREW_MANPATH="/home/osboxes/.perlbrew/libs/perl-5.32.0@normal/man:/home/osboxes/perl5/perlbrew/perls/perl-5.32.0/man"
PERLBREW_PATH="/home/osboxes/.perlbrew/libs/perl-5.32.0@normal/bin:/home/osboxes/perl5/perlbrew/bin:/home/osboxes/perl5/perlbrew/perls/perl-5.32.0/bin"
PERLBREW_PERL="perl-5.32.0"
PERLBREW_ROOT="/home/osboxes/perl5/perlbrew"
PERLBREW_VERSION="0.88"
PERL_LOCAL_LIB_ROOT="/home/osboxes/.perlbrew/libs/perl-5.32.0@normal"
PERL_MB_OPT="--install_base /home/osboxes/.perlbrew/libs/perl-5.32.0@normal"
PERL_MM_OPT="INSTALL_BASE=/home/osboxes/.perlbrew/libs/perl-5.32.0@normal"
@INC:
/home/osboxes/.perlbrew/libs/perl-5.32.0@normal/lib/perl5/x86_64-linux
/home/osboxes/.perlbrew/libs/perl-5.32.0@normal/lib/perl5
/home/osboxes/perl5/perlbrew/perls/perl-5.32.0/lib/site_perl/5.32.0/x86_64-linux
/home/osboxes/perl5/perlbrew/perls/perl-5.32.0/lib/site_perl/5.32.0
/home/osboxes/perl5/perlbrew/perls/perl-5.32.0/lib/5.32.0/x86_64-linux
/home/osboxes/perl5/perlbrew/perls/perl-5.32.0/lib/5.32.0