Math-MatrixReal v2.13 Perl 5 v5.37.5 x86_64-linux-thread-multi-quadmath
- Status
- Pass
- From
- Andreas J. König (ANDK)
- Dist
-
Math-MatrixReal v2.13
- Platform
- Perl 5 v5.37.5 x86_64-linux-thread-multi-quadmath
- Date
- 2023-06-07 21:39:47
- ID
- d2ece6fc-057b-11ee-85a0-749ea9bca49c
This distribution has been tested as part of the CPAN Testers
project, supporting the Perl programming language. See
http://wiki.cpantesters.org/ for more information or email
questions to cpan-testers-discuss@perl.org
--
Dear Jonathan Leto,
This is a computer-generated report for Math-MatrixReal-2.13
on perl 5.37.5, created by CPAN-Reporter-1.2018.
Thank you for uploading your work to CPAN. Congratulations!
All tests were successful.
Sections of this report:
* Tester comments
* Program output
* Prerequisites
* Environment and other context
------------------------------
TESTER COMMENTS
------------------------------
Additional comments from tester:
this report is from an automated smoke testing program
and was not reviewed by a human for accuracy
------------------------------
PROGRAM OUTPUT
------------------------------
Output from './Build test':
# Testing Math::MatrixReal 2.13 on linux, Perl (/home/sand/src/perl/repoperls/installed-perls/host/k93msid/v5.37.4-160-g0649414847/db45/bin/perl) 5.037005
t/00-load.t ............ ok
t/adjoint.t ............ ok
t/arith.t .............. ok
t/assign.t ............. ok
t/basic.t .............. ok
* Estimated diagonalization time for 150x150 matrix: 8.19 s
Estimated biggest matrix diagonalisable within 1 day cpu: 3218x3218
* Estimated eigenvalues-only computation time for 150x150 matrix: 1.29 s
Estimated biggest matrix manageable within 1 day cpu: 5880x5880
Btw, do you want to crunch such one now? (no, just kidding...;-)
t/bench_eigen.t ........ ok
t/bench_eigen2.t ....... ok
t/binary.t ............. ok
t/bool.t ............... ok
t/cofactor.t ........... ok
t/concat.t ............. ok
t/condition.t .......... ok
t/decompose_LR.t ....... ok
t/det.t ................ ok
t/diag.t ............... ok
t/display_precision.t .. ok
t/div.t ................ ok
t/each.t ............... ok
t/eigen_3x3.t .......... ok
t/eigen_7x7.t .......... ok
t/eigen_NxN.t .......... ok
t/equality.t ........... ok
t/exponent.t ........... ok
t/ext1.t ............... ok
t/gramian.t ............ ok
t/gsm.t ................ ok
t/inequality.t ......... ok
t/inverse.t ............ ok
t/is_LR.t .............. ok
t/isrowcol.t ........... ok
t/latex.t .............. ok
t/length.t ............. ok
t/list.t ............... ok
t/matlab.t ............. ok
t/max_min.t ............ ok
t/minimax.t ............ ok
t/minor.t .............. ok
t/norm.t ............... ok
t/normality.t .......... ok
t/orthogonal.t ......... ok
t/periodic.t ........... ok
t/positive.t ........... ok
t/product.t ............ ok
t/quadratic.t .......... ok
t/rand.t ............... ok
t/rank.t ............... ok
t/scinotation.t ........ ok
t/similar.t ............ ok
t/spectral.t ........... ok
t/stringify.t .......... ok
t/submatrix.t .......... ok
t/swap.t ............... ok
t/symmetric.t .......... ok
t/trace.t .............. ok
t/transpose.t .......... ok
t/triang.t ............. ok
t/tridiag.t ............ ok
t/vecnorm.t ............ ok
t/yacas.t .............. ok
All tests successful.
Files=59, Tests=353, 11 wallclock secs ( 0.13 usr 0.09 sys + 7.28 cusr 0.95 csys = 8.45 CPU)
Result: PASS
------------------------------
PREREQUISITES
------------------------------
Prerequisite modules loaded:
build_requires:
Module Need Have
------------- ---- -------
File::Spec 0 3.87
Test::Most 0 0.38
configure_requires:
Module Need Have
------------- ---- -------
Module::Build 0.38 0.42_35
------------------------------
ENVIRONMENT AND OTHER CONTEXT
------------------------------
Environment variables:
AUTOMATED_TESTING = 1
LANG = en_US.UTF-8
LANGUAGE = en_US:en
PATH = /home/sand/bin:/usr/local/bin:/usr/bin:/bin:/usr/games:/usr/local/perl/bin:/usr/X11/bin:/sbin:/usr/sbin
PERL5LIB =
PERL5OPT =
PERL5_CPANPLUS_IS_RUNNING = 1779531
PERL5_CPAN_IS_RUNNING = 1779531
PERL_CANARY_STABILITY_NOPROMPT = 1
PERL_MM_USE_DEFAULT = 1
PERL_USE_UNSAFE_INC = 1
SHELL = /usr/bin/zsh
TERM = screen
Perl special variables (and OS-specific diagnostics, for MSWin32):
$^X = /home/sand/src/perl/repoperls/installed-perls/host/k93msid/v5.37.4-160-g0649414847/db45/bin/perl
$UID/$EUID = 1005 / 1005
$GID = 1005 1005
$EGID = 1005 1005
Perl module toolchain versions installed:
Module Have
------------------- --------
CPAN 2.34
CPAN::Meta 2.150010
Cwd 3.86
ExtUtils::CBuilder 0.280237
ExtUtils::Command 7.70
ExtUtils::Install 2.20
ExtUtils::MakeMaker 7.70
ExtUtils::Manifest 1.73
ExtUtils::ParseXS 3.46
File::Spec 3.87
JSON 4.10
JSON::PP 4.16
Module::Build 0.42_35
Module::Signature 0.88
Parse::CPAN::Meta 2.150010
Test::Harness 3.44
Test::More 1.302195
YAML 1.30
YAML::Syck 1.34
version 0.9929
--
Summary of my perl5 (revision 5 version 37 subversion 5) configuration:
Commit id: 064941484781d9099db0bbe7d6ea22a826df1e15
Platform:
osname=linux
osvers=5.19.0-2-amd64
archname=x86_64-linux-thread-multi-quadmath
uname='linux k93msid 5.19.0-2-amd64 #1 smp preempt_dynamic debian 5.19.11-1 (2022-09-24) x86_64 gnulinux '
config_args='-Dprefix=/home/sand/src/perl/repoperls/installed-perls/host/k93msid/v5.37.4-160-g0649414847/db45 -Dmyhostname=k93msid -Dinstallusrbinperl=n -Uversiononly -Dusedevel -des -Ui_db -Dlibswanted=cl pthread socket inet nsl gdbm dbm malloc dl ld sun m crypt sec util c cposix posix ucb BSD gdbm_compat -Duseithreads -Uuselongdouble -DEBUGGING=both -Dusequadmath'
hint=recommended
useposix=true
d_sigaction=define
useithreads=define
usemultiplicity=define
use64bitint=define
use64bitall=define
uselongdouble=undef
usemymalloc=n
default_inc_excludes_dot=define
Compiler:
cc='cc'
ccflags ='-D_REENTRANT -D_GNU_SOURCE -fwrapv -DDEBUGGING -fno-strict-aliasing -pipe -fstack-protector-strong -I/usr/local/include -D_LARGEFILE_SOURCE -D_FILE_OFFSET_BITS=64 -D_FORTIFY_SOURCE=2'
optimize='-O2 -g'
cppflags='-D_REENTRANT -D_GNU_SOURCE -fwrapv -DDEBUGGING -fno-strict-aliasing -pipe -fstack-protector-strong -I/usr/local/include'
ccversion=''
gccversion='12.2.0'
gccosandvers=''
intsize=4
longsize=8
ptrsize=8
doublesize=8
byteorder=12345678
doublekind=3
d_longlong=define
longlongsize=8
d_longdbl=define
longdblsize=16
longdblkind=3
ivtype='long'
ivsize=8
nvtype='__float128'
nvsize=16
Off_t='off_t'
lseeksize=8
alignbytes=16
prototype=define
Linker and Libraries:
ld='cc'
ldflags =' -fstack-protector-strong -L/usr/local/lib'
libpth=/usr/local/lib /usr/lib/x86_64-linux-gnu /usr/lib /usr/lib64
libs=-lpthread -lnsl -ldl -lm -lcrypt -lutil -lc -lquadmath
perllibs=-lpthread -lnsl -ldl -lm -lcrypt -lutil -lc -lquadmath
libc=/lib/x86_64-linux-gnu/libc.so.6
so=so
useshrplib=false
libperl=libperl.a
gnulibc_version='2.35'
Dynamic Linking:
dlsrc=dl_dlopen.xs
dlext=so
d_dlsymun=undef
ccdlflags='-Wl,-E'
cccdlflags='-fPIC'
lddlflags='-shared -O2 -g -L/usr/local/lib -fstack-protector-strong'
Characteristics of this binary (from libperl):
Compile-time options:
DEBUGGING
HAS_TIMES
MULTIPLICITY
PERLIO_LAYERS
PERL_COPY_ON_WRITE
PERL_DONT_CREATE_GVSV
PERL_HASH_FUNC_SIPHASH13
PERL_HASH_USE_SBOX32
PERL_MALLOC_WRAP
PERL_OP_PARENT
PERL_PRESERVE_IVUV
PERL_TRACK_MEMPOOL
PERL_USE_DEVEL
PERL_USE_SAFE_PUTENV
USE_64_BIT_ALL
USE_64_BIT_INT
USE_ITHREADS
USE_LARGE_FILES
USE_LOCALE
USE_LOCALE_COLLATE
USE_LOCALE_CTYPE
USE_LOCALE_NUMERIC
USE_LOCALE_TIME
USE_PERLIO
USE_PERL_ATOF
USE_QUADMATH
USE_REENTRANT_API
USE_THREAD_SAFE_LOCALE
Built under linux
Compiled at Oct 21 2022 00:26:36
%ENV:
PERL5LIB=""
PERL5OPT=""
PERL5_CPANPLUS_IS_RUNNING="1779531"
PERL5_CPAN_IS_RUNNING="1779531"
PERL_CANARY_STABILITY_NOPROMPT="1"
PERL_MM_USE_DEFAULT="1"
PERL_USE_UNSAFE_INC="1"
@INC:
/home/sand/src/perl/repoperls/installed-perls/host/k93msid/v5.37.4-160-g0649414847/db45/lib/site_perl/5.37.5/x86_64-linux-thread-multi-quadmath
/home/sand/src/perl/repoperls/installed-perls/host/k93msid/v5.37.4-160-g0649414847/db45/lib/site_perl/5.37.5
/home/sand/src/perl/repoperls/installed-perls/host/k93msid/v5.37.4-160-g0649414847/db45/lib/5.37.5/x86_64-linux-thread-multi-quadmath
/home/sand/src/perl/repoperls/installed-perls/host/k93msid/v5.37.4-160-g0649414847/db45/lib/5.37.5
.