WebAPI-DBIC v0.004002 Perl 5 v5.24.0 x86_64-linux-ld

Status
Pass
From
Andreas J. König (ANDK)
Dist
WebAPI-DBIC v0.004002
Platform
Perl 5 v5.24.0 x86_64-linux-ld
Date
2017-09-24 04:07:04
ID
d2f6d922-a0dd-11e7-94af-c13ddcf82935
This distribution has been tested as part of the CPAN Testers
project, supporting the Perl programming language.  See
http://wiki.cpantesters.org/ for more information or email
questions to cpan-testers-discuss@perl.org


--
Dear Tim Bunce,

This is a computer-generated report for WebAPI-DBIC-0.004002
on perl 5.24.0, created by CPAN-Reporter-1.2018.

Thank you for uploading your work to CPAN.  Congratulations!
All tests were successful.

Sections of this report:

    * Tester comments
    * Program output
    * Prerequisites
    * Environment and other context

------------------------------
TESTER COMMENTS
------------------------------

Additional comments from tester:

this report is from an automated smoke testing program
and was not reviewed by a human for accuracy

------------------------------
PROGRAM OUTPUT
------------------------------

Output from '/usr/bin/make test':

PERL_DL_NONLAZY=1 "/home/sand/src/perl/repoperls/installed-perls/host/k93msid/v5.24.0/2d7c/bin/perl" "-MExtUtils::Command::MM" "-MTest::Harness" "-e" "undef *Test::Harness::Switches; test_harness(0, 'blib/lib', 'blib/arch')" t/*.t t/media-active-model/*.t t/media-hal/*.t t/media-jsonapi/*.t
webapi-dbic-any.psgi syntax OK
webapi-dbic-demo.psgi syntax OK
t/00-compile.t .......................... ok
t/10-basics-req.t ....................... ok
t/11-paging-req.t ....................... ok
t/12-searching-req.t .................... ok
t/13-fields-req.t ....................... ok
t/14-distinct-req.t ..................... ok
t/30-ordering-req.t ..................... ok
t/50-modify-req.t ....................... ok
t/53-put_rel-req.t ...................... ok
Exception: DBIx::Class::Row::get_column(): No such column 'nonesuch' on TestSchema::Result::Artist at /tmp/loop_over_bdir-17481-_VPN5_/WebAPI-DBIC-0.004002-0/blib/lib/WebAPI/DBIC/Resource/Role/ItemInvoke.pm line 57
t/60-invoke-req.t ....................... ok
t/90-root-req.t ......................... ok
t/media-active-model/10-basics-req.t .... ok
Child result class TestSchema::Result::CD_to_Producer has multiple keys (cd producer) so relations like cd_to_producer won't have links generated.
t/media-active-model/40-prefetch-req.t .. ok
TestSchema::Result::Artist relationship cds_90s has coderef-based condition which is not handled yet - unknown crosstable_cond_key
t/media-hal/10-basics-req.t ............. ok
TestSchema::Result::Artist relationship cds_90s has coderef-based condition which is not handled yet - unknown crosstable_cond_key
t/media-hal/11-paging-req.t ............. ok
TestSchema::Result::Artist relationship cds_90s has coderef-based condition which is not handled yet - unknown crosstable_cond_key
t/media-hal/12-searching-req.t .......... ok
TestSchema::Result::Artist relationship cds_90s has coderef-based condition which is not handled yet - unknown crosstable_cond_key
t/media-hal/13-fields-req.t ............. ok
t/media-hal/14-distinct-req.t ........... ok
t/media-hal/30-ordering-req.t ........... ok
TestSchema::Result::Artist relationship cds_90s has coderef-based condition which is not handled yet - unknown crosstable_cond_key
t/media-hal/40-prefetch-req.t ........... ok
TestSchema::Result::Artist relationship cds_90s has coderef-based condition which is not handled yet - unknown crosstable_cond_key
t/media-hal/50-modify-req.t ............. ok
TestSchema::Result::Track relationship next_tracks has coderef-based condition which is not handled yet - unknown crosstable_cond_key
t/media-hal/52-post_rel-req.t ........... ok
TestSchema::Result::Track relationship next_tracks has coderef-based condition which is not handled yet - unknown crosstable_cond_key
t/media-hal/53-put_rel-req.t ............ ok
t/media-hal/90-root-req.t ............... ok
t/media-jsonapi/10-basics-req.t ......... ok
Result class TestSchema::Result::CD_to_Producer has multiple keys (cd producer) so relations like cd_to_producer won't have links generated.
t/media-jsonapi/40-prefetch-req.t ....... ok
t/release-pod-syntax.t .................. skipped: these tests are for release candidate testing
All tests successful.
Files=27, Tests=151, 98 wallclock secs ( 0.10 usr  0.20 sys + 38.23 cusr  7.52 csys = 46.05 CPU)
Result: PASS

------------------------------
PREREQUISITES
------------------------------

Prerequisite modules loaded:

requires:

    Module                      Need                 Have     
    --------------------------- -------------------- ---------
    Alien::Web::HalBrowser      0                    1        
    Data::Dumper::Concise       0                    2.023    
    DBD::SQLite                 1.46                 1.54     
    DBIx::Class                 0.08250              0.082840 
    HTTP::Headers::ActionPack   0                    0.09     
    HTTP::Throwable             0                    0.026    
    JSON::MaybeXS               0                    1.003009 
    Lingua::EN::Inflect         1.894                1.902    
    Lingua::EN::Inflect::Number 1.11                 1.12     
    List::MoreUtils             0.408                0.424_001
    List::Util                  0                    1.48     
    Module::Runtime             0                    0.015    
    Moo                         1.001000             2.003002 
    MooX::StrictConstructor     0.006                0.008    
    namespace::clean            0.25                 0.27     
    parent                      0                    0.234    
    Path::Router                0.14                 0.15     
    perl                        5.010                5.024000 
    Plack                       1.0033               1.0044   
    Plack::App::File            0                    0        
    Plack::App::Path::Router    0.08                 0.08     
    Safe::Isa                   0                    1.000006 
    Scalar::Util                0                    1.48     
    SQL::Translator             0.11018              0.11021  
    String::CamelCase           0                    0.03     
    Sub::Exporter               0                    0.987    
    Sub::Quote                  0                    2.004000 
    Sub::Util                   0                    1.48     
    Try::Tiny                   0                    0.28     
    URI                         0                    1.72     
    Web::Machine                0.15                 0.17     

build_requires:

    Module                      Need                 Have     
    --------------------------- -------------------- ---------
    autodie                     0                    2.29     
    Cpanel::JSON::XS            >= 3.0110, != 3.0112 3.0239   
    Data::Printer               0                    0.40     
    DBIx::Class::Fixtures       1.001025             1.001038 
    ExtUtils::MakeMaker         0                    7.30     
    Module::Pluggable           0                    5.2      
    Sort::Key                   0                    1.33     
    Test::Compile               v1.1.0               v1.3.0   
    Test::DBIx::Class           0.43                 0.52     
    Test::HTTP::Response        0                    0.06     
    Test::More                  0.98                 1.302096 
    Test::Most                  0                    0.35     
    Test::Pod                   0                    1.51     
    ToolSet                     0                    1.03     

configure_requires:

    Module                      Need                 Have     
    --------------------------- -------------------- ---------
    ExtUtils::MakeMaker         0                    7.30     


------------------------------
ENVIRONMENT AND OTHER CONTEXT
------------------------------

Environment variables:

    AUTOMATED_TESTING = 1
    LANG = en_US.UTF-8
    PATH = /home/sand/bin:/usr/local/bin:/usr/bin:/bin:/usr/games:/usr/local/perl/bin:/usr/X11/bin:/sbin:/usr/sbin
    PERL5LIB = /tmp/loop_over_bdir-17481-_VPN5_/ToolSet-1.03-0/blib/arch:/tmp/loop_over_bdir-17481-_VPN5_/ToolSet-1.03-0/blib/lib:/tmp/loop_over_bdir-17481-_VPN5_/Test-HTTP-Response-0.06-0/blib/arch:/tmp/loop_over_bdir-17481-_VPN5_/Test-HTTP-Response-0.06-0/blib/lib:/tmp/loop_over_bdir-17481-_VPN5_/Sort-Key-1.33-0/blib/arch:/tmp/loop_over_bdir-17481-_VPN5_/Sort-Key-1.33-0/blib/lib:/tmp/loop_over_bdir-17481-_VPN5_/Plack-App-Path-Router-0.08-0/blib/arch:/tmp/loop_over_bdir-17481-_VPN5_/Plack-App-Path-Router-0.08-0/blib/lib:/tmp/loop_over_bdir-17481-_VPN5_/Path-Router-0.15-0/blib/arch:/tmp/loop_over_bdir-17481-_VPN5_/Path-Router-0.15-0/blib/lib:/tmp/loop_over_bdir-17481-_VPN5_/HTTP-Throwable-0.026-0/blib/arch:/tmp/loop_over_bdir-17481-_VPN5_/HTTP-Throwable-0.026-0/blib/lib:/tmp/loop_over_bdir-17481-_VPN5_/Alien-Web-HalBrowser-1.0-0/blib/arch:/tmp/loop_over_bdir-17481-_VPN5_/Alien-Web-HalBrowser-1.0-0/blib/lib:/tmp/loop_over_bdir-17481-_VPN5_/Alien-Web-1.1-0/blib/arch:/tmp/loop_over_bdir-17481-_VPN5_/Alien-Web-1.1-0/blib/lib
    PERL5OPT = 
    PERL5_CPANPLUS_IS_RUNNING = 17507
    PERL5_CPAN_IS_RUNNING = 17507
    PERL5_CPAN_IS_RUNNING_IN_RECURSION = 5668,17507
    PERL_CANARY_STABILITY_NOPROMPT = 1
    PERL_MM_USE_DEFAULT = 1
    PERL_USE_UNSAFE_INC = 1
    SHELL = /usr/bin/zsh
    TERM = screen

Perl special variables (and OS-specific diagnostics, for MSWin32):

    $^X = /home/sand/src/perl/repoperls/installed-perls/host/k93msid/v5.24.0/2d7c/bin/perl
    $UID/$EUID = 1005 / 1005
    $GID = 1005 1005
    $EGID = 1005 1005

Perl module toolchain versions installed:

    Module              Have    
    ------------------- --------
    CPAN                2.18    
    CPAN::Meta          2.150010
    Cwd                 3.63    
    ExtUtils::CBuilder  0.280226
    ExtUtils::Command   7.30    
    ExtUtils::Install   2.06    
    ExtUtils::MakeMaker 7.30    
    ExtUtils::Manifest  1.70    
    ExtUtils::ParseXS   3.31    
    File::Spec          3.63    
    JSON                2.94    
    JSON::PP            2.27300 
    Module::Build       0.4224  
    Module::Signature   0.81    
    Parse::CPAN::Meta   2.150010
    Test::Harness       3.39    
    Test::More          1.302096
    YAML                1.23    
    YAML::Syck          1.30    
    version             0.9916  


--

Summary of my perl5 (revision 5 version 24 subversion 0) configuration:
  Derived from: be2c0c650b028f54e427f2469a59942edfdff8a9
  Platform:
    osname=linux, osvers=4.9.0-2-amd64, archname=x86_64-linux-ld
    uname='linux k93msid 4.9.0-2-amd64 #1 smp debian 4.9.18-1 (2017-03-30) x86_64 gnulinux '
    config_args='-Dprefix=/home/sand/src/perl/repoperls/installed-perls/host/k93msid/v5.24.0/2d7c -Dmyhostname=k93msid -Dinstallusrbinperl=n -Uversiononly -Dusedevel -des -Ui_db -Dlibswanted=cl pthread socket inet nsl gdbm dbm malloc dl ld sun m crypt sec util c cposix posix ucb BSD gdbm_compat -Uuseithreads -Duselongdouble -DDEBUGGING=-g'
    hint=recommended, useposix=true, d_sigaction=define
    useithreads=undef, usemultiplicity=undef
    use64bitint=define, use64bitall=define, uselongdouble=define
    usemymalloc=n, bincompat5005=undef
  Compiler:
    cc='cc', ccflags ='-fwrapv -fno-strict-aliasing -pipe -fstack-protector-strong -I/usr/local/include -D_LARGEFILE_SOURCE -D_FILE_OFFSET_BITS=64',
    optimize='-O2 -g',
    cppflags='-fwrapv -fno-strict-aliasing -pipe -fstack-protector-strong -I/usr/local/include'
    ccversion='', gccversion='6.3.0 20170406', gccosandvers=''
    intsize=4, longsize=8, ptrsize=8, doublesize=8, byteorder=12345678, doublekind=3
    d_longlong=define, longlongsize=8, d_longdbl=define, longdblsize=16, longdblkind=3
    ivtype='long', ivsize=8, nvtype='long double', nvsize=16, Off_t='off_t', lseeksize=8
    alignbytes=16, prototype=define
  Linker and Libraries:
    ld='cc', ldflags =' -fstack-protector-strong -L/usr/local/lib'
    libpth=/usr/local/lib /usr/lib/gcc/x86_64-linux-gnu/6/include-fixed /usr/include/x86_64-linux-gnu /usr/lib /lib/x86_64-linux-gnu /lib/../lib /usr/lib/x86_64-linux-gnu /usr/lib/../lib /lib
    libs=-lpthread -lnsl -ldl -lm -lcrypt -lutil -lc
    perllibs=-lpthread -lnsl -ldl -lm -lcrypt -lutil -lc
    libc=libc-2.24.so, so=so, useshrplib=false, libperl=libperl.a
    gnulibc_version='2.24'
  Dynamic Linking:
    dlsrc=dl_dlopen.xs, dlext=so, d_dlsymun=undef, ccdlflags='-Wl,-E'
    cccdlflags='-fPIC', lddlflags='-shared -O2 -g -L/usr/local/lib -fstack-protector-strong'


Characteristics of this binary (from libperl): 
  Compile-time options: HAS_TIMES PERLIO_LAYERS PERL_COPY_ON_WRITE
                        PERL_DONT_CREATE_GVSV
                        PERL_HASH_FUNC_ONE_AT_A_TIME_HARD PERL_MALLOC_WRAP
                        PERL_PRESERVE_IVUV PERL_USE_DEVEL USE_64_BIT_ALL
                        USE_64_BIT_INT USE_LARGE_FILES USE_LOCALE
                        USE_LOCALE_COLLATE USE_LOCALE_CTYPE
                        USE_LOCALE_NUMERIC USE_LOCALE_TIME USE_LONG_DOUBLE
                        USE_PERLIO USE_PERL_ATOF
  Locally applied patches:
	uncommitted-changes
  Built under linux
  Compiled at Sep  1 2017 06:58:03
  %ENV:
    PERL5LIB="/tmp/loop_over_bdir-17481-_VPN5_/ToolSet-1.03-0/blib/arch:/tmp/loop_over_bdir-17481-_VPN5_/ToolSet-1.03-0/blib/lib:/tmp/loop_over_bdir-17481-_VPN5_/Test-HTTP-Response-0.06-0/blib/arch:/tmp/loop_over_bdir-17481-_VPN5_/Test-HTTP-Response-0.06-0/blib/lib:/tmp/loop_over_bdir-17481-_VPN5_/Sort-Key-1.33-0/blib/arch:/tmp/loop_over_bdir-17481-_VPN5_/Sort-Key-1.33-0/blib/lib:/tmp/loop_over_bdir-17481-_VPN5_/Plack-App-Path-Router-0.08-0/blib/arch:/tmp/loop_over_bdir-17481-_VPN5_/Plack-App-Path-Router-0.08-0/blib/lib:/tmp/loop_over_bdir-17481-_VPN5_/Path-Router-0.15-0/blib/arch:/tmp/loop_over_bdir-17481-_VPN5_/Path-Router-0.15-0/blib/lib:/tmp/loop_over_bdir-17481-_VPN5_/HTTP-Throwable-0.026-0/blib/arch:/tmp/loop_over_bdir-17481-_VPN5_/HTTP-Throwable-0.026-0/blib/lib:/tmp/loop_over_bdir-17481-_VPN5_/Alien-Web-HalBrowser-1.0-0/blib/arch:/tmp/loop_over_bdir-17481-_VPN5_/Alien-Web-HalBrowser-1.0-0/blib/lib:/tmp/loop_over_bdir-17481-_VPN5_/Alien-Web-1.1-0/blib/arch:/tmp/loop_over_bdir-17481-_VPN5_/Alien-Web-1.1-0/blib/lib"
    PERL5OPT=""
    PERL5_CPANPLUS_IS_RUNNING="17507"
    PERL5_CPAN_IS_RUNNING="17507"
    PERL5_CPAN_IS_RUNNING_IN_RECURSION="5668,17507"
    PERL_CANARY_STABILITY_NOPROMPT="1"
    PERL_MM_USE_DEFAULT="1"
    PERL_USE_UNSAFE_INC="1"
  @INC:
    /tmp/loop_over_bdir-17481-_VPN5_/ToolSet-1.03-0/blib/arch
    /tmp/loop_over_bdir-17481-_VPN5_/ToolSet-1.03-0/blib/lib
    /tmp/loop_over_bdir-17481-_VPN5_/Test-HTTP-Response-0.06-0/blib/arch
    /tmp/loop_over_bdir-17481-_VPN5_/Test-HTTP-Response-0.06-0/blib/lib
    /tmp/loop_over_bdir-17481-_VPN5_/Sort-Key-1.33-0/blib/arch
    /tmp/loop_over_bdir-17481-_VPN5_/Sort-Key-1.33-0/blib/lib
    /tmp/loop_over_bdir-17481-_VPN5_/Plack-App-Path-Router-0.08-0/blib/arch
    /tmp/loop_over_bdir-17481-_VPN5_/Plack-App-Path-Router-0.08-0/blib/lib
    /tmp/loop_over_bdir-17481-_VPN5_/Path-Router-0.15-0/blib/arch
    /tmp/loop_over_bdir-17481-_VPN5_/Path-Router-0.15-0/blib/lib
    /tmp/loop_over_bdir-17481-_VPN5_/HTTP-Throwable-0.026-0/blib/arch
    /tmp/loop_over_bdir-17481-_VPN5_/HTTP-Throwable-0.026-0/blib/lib
    /tmp/loop_over_bdir-17481-_VPN5_/Alien-Web-HalBrowser-1.0-0/blib/arch
    /tmp/loop_over_bdir-17481-_VPN5_/Alien-Web-HalBrowser-1.0-0/blib/lib
    /tmp/loop_over_bdir-17481-_VPN5_/Alien-Web-1.1-0/blib/arch
    /tmp/loop_over_bdir-17481-_VPN5_/Alien-Web-1.1-0/blib/lib
    /home/sand/src/perl/repoperls/installed-perls/host/k93msid/v5.24.0/2d7c/lib/site_perl/5.24.0/x86_64-linux-ld
    /home/sand/src/perl/repoperls/installed-perls/host/k93msid/v5.24.0/2d7c/lib/site_perl/5.24.0
    /home/sand/src/perl/repoperls/installed-perls/host/k93msid/v5.24.0/2d7c/lib/5.24.0/x86_64-linux-ld
    /home/sand/src/perl/repoperls/installed-perls/host/k93msid/v5.24.0/2d7c/lib/5.24.0
    .