Data-Session v1.18 Perl 5 v5.41.6 x86_64-dragonfly-thread-multi
- Status
- Pass
- From
- Carlos Guevara
- Dist
-
Data-Session v1.18
- Platform
- Perl 5 v5.41.6 x86_64-dragonfly-thread-multi
- Date
- 2024-10-26 17:36:25
- ID
- d312f4da-93c0-11ef-a4fb-c6c48dbda0d0
This distribution has been tested as part of the CPAN Testers
project, supporting the Perl programming language. See
http://wiki.cpantesters.org/ for more information or email
questions to cpan-testers-discuss@perl.org
--
Dear Ron Savage,
This is a computer-generated report for Data-Session-1.18
on perl 5.41.6, created by CPAN-Reporter-1.2020.
Thank you for uploading your work to CPAN. Congratulations!
All tests were successful.
Sections of this report:
* Tester comments
* Program output
* Prerequisites
* Environment and other context
------------------------------
TESTER COMMENTS
------------------------------
Additional comments from tester:
this report is from an automated smoke testing program
and was not reviewed by a human for accuracy
------------------------------
PROGRAM OUTPUT
------------------------------
Output from '/usr/bin/make test':
PERL_DL_NONLAZY=1 "/home/cpan/bin/perl/bin/perl5.41.6" "-MExtUtils::Command::MM" "-MTest::Harness" "-e" "undef *Test::Harness::Switches; test_harness(0, 'blib/lib', 'blib/arch')" t/*.t
# Testing Data::Session V 1.18
# Using autovivification V 0.18
# Using CGI V 4.66
# Using Class::Load V 0.25
# Using Config::Tiny V 2.30
# Using Data::Dumper V 2.190
# Using Data::UUID V 1.227
# Using DBD::SQLite V 1.76
# Using DBI V 1.645
# Using DBIx::Admin::CreateTable V 2.11
# Using Digest::MD5 V 2.59
# Using Digest::SHA V 6.04
# Using Fcntl V 1.19
# Using File::Basename V 2.86
# Using File::Path V 2.18
# Using File::Slurper V 0.014
# Using File::Spec V 3.93
# Using File::Temp V 0.2311
# Using FreezeThaw V 0.5001
# Using Hash::FieldHash V 0.15
# Using JSON V 4.10
# Using overload V 1.39
# Using parent V 0.242
# Using Safe V 2.47
# Using Scalar::Util V 1.68
# Using Storable V 3.35
# Using strict V 1.13
# Using Try::Tiny V 0.32
# Using vars V 1.05
# Using warnings V 1.70
# Using YAML::Tiny V 1.74
t/00.versions.t .. ok
# Test: File.1. DSN: dbi:File:. ID generator: AutoIncrement. Serializer: DataDumper
# id 1: 1002
# Test: File.1. DSN: dbi:File:. ID generator: AutoIncrement. Serializer: FreezeThaw
# id 1: 1008
# Test: File.1. DSN: dbi:File:. ID generator: AutoIncrement. Serializer: JSON
# id 1: 1014
# Test: File.1. DSN: dbi:File:. ID generator: AutoIncrement. Serializer: Storable
# id 1: 1020
# Test: File.1. DSN: dbi:File:. ID generator: AutoIncrement. Serializer: YAML
# id 1: 1026
# Test: File.1. DSN: dbi:File:. ID generator: MD5. Serializer: DataDumper
# id 1: 5e421d9c33ecfbc1aa9ae655b05c2c88
# Test: File.1. DSN: dbi:File:. ID generator: MD5. Serializer: FreezeThaw
# id 1: 2bbc31292be405ea461e30d81d7db023
# Test: File.1. DSN: dbi:File:. ID generator: MD5. Serializer: JSON
# id 1: de49c8cabe541e5685fbd0f4e5c3e6f8
# Test: File.1. DSN: dbi:File:. ID generator: MD5. Serializer: Storable
# id 1: 98084b14599cd65473104002220c7476
# Test: File.1. DSN: dbi:File:. ID generator: MD5. Serializer: YAML
# id 1: 0e6ddab4af14df1884f31c2806ef989d
# Test: File.1. DSN: dbi:File:. ID generator: SHA1. Serializer: DataDumper
# id 1: dafb8489d1d8e47fa7c59080ff329951be5522c4
# Test: File.1. DSN: dbi:File:. ID generator: SHA1. Serializer: FreezeThaw
# id 1: 08034189b79d80e0ca1f39522042a6e0a9da3c2f
# Test: File.1. DSN: dbi:File:. ID generator: SHA1. Serializer: JSON
# id 1: 4d4acc37574e2b40ffd0e721bfce4ef924295559
# Test: File.1. DSN: dbi:File:. ID generator: SHA1. Serializer: Storable
# id 1: deac168cda8e1872c529cf154d7cd193c1cc2d85
# Test: File.1. DSN: dbi:File:. ID generator: SHA1. Serializer: YAML
# id 1: 682658c6b252443d4173e72e09f2b481b6ec49c2
# Test: File.1. DSN: dbi:File:. ID generator: SHA256. Serializer: DataDumper
# id 1: dfd76dbbd05f51e66bcf607fbfb064b3de37bac4225d35b70451fdf28ddb970c
# Test: File.1. DSN: dbi:File:. ID generator: SHA256. Serializer: FreezeThaw
# id 1: 6baad273046c3084ebde8bbff49e8084acb6667893d411997781d5c7a223109b
# Test: File.1. DSN: dbi:File:. ID generator: SHA256. Serializer: JSON
# id 1: 87aafefa013907e882c921cb30e1bb8b7d49b98aa67c37a607f8b2029095039a
# Test: File.1. DSN: dbi:File:. ID generator: SHA256. Serializer: Storable
# id 1: 8be6e706327a72da47d3da3b83842801ba84c9f1e8e2e30628d2c5a9db30e66c
# Test: File.1. DSN: dbi:File:. ID generator: SHA256. Serializer: YAML
# id 1: 843b970e07e2703c6a5004cffdd911e9e4129cfddc52169bac10c0fa76805003
# Test: File.1. DSN: dbi:File:. ID generator: SHA512. Serializer: DataDumper
# id 1: 34ac7e6aa2f2cc947e0512af2a6168a511637fb2470463adb152bd311b415cd03850240408531683173ee8a3b612a6e32e55f50cbfdf7a00bf4aa0cbd65d9c45
# Test: File.1. DSN: dbi:File:. ID generator: SHA512. Serializer: FreezeThaw
# id 1: 5481f1571a8f882c63f7e6ba5a3cf93a13f2a13c82799ecc1bdafdb2839f69816d42ba4945c2824c9d6a7cc6169df9fd9e4e3ac13d979fdcce1052e8bdbc8f6e
# Test: File.1. DSN: dbi:File:. ID generator: SHA512. Serializer: JSON
# id 1: 34108114c7c29327a24bc2120c1eb261e93ac14e4ac1b84f49be2edbf6c786f9716bd314279ed0d66ebfde6dd81ad48f6e7442ad956d317f0e01285231ba3307
# Test: File.1. DSN: dbi:File:. ID generator: SHA512. Serializer: Storable
# id 1: 46d636cf25db415b666fb85ce165b4b6d3fe28d6dd09a78762196e88b7da3862bc86d201097dde40f4e3be8a43d0e38cfbe04b4c50086ce2e00e0ddc46dbdbf2
# Test: File.1. DSN: dbi:File:. ID generator: SHA512. Serializer: YAML
# id 1: 0dbc5133e155b2fdd4a00a03c98974b922217a4439ba065efe73923b990df8d35dd694a492d0d207f7b160a39b03a6ef7ee4f3909740d1de29e0b6b73dc64292
# Test: File.1. DSN: dbi:File:. ID generator: Static. Serializer: DataDumper
# id 1: 1234
# Test: File.1. DSN: dbi:File:. ID generator: Static. Serializer: FreezeThaw
# id 1: 1234
# Test: File.1. DSN: dbi:File:. ID generator: Static. Serializer: JSON
# id 1: 1234
# Test: File.1. DSN: dbi:File:. ID generator: Static. Serializer: Storable
# id 1: 1234
# Test: File.1. DSN: dbi:File:. ID generator: Static. Serializer: YAML
# id 1: 1234
# Test: File.1. DSN: dbi:File:. ID generator: UUID34. Serializer: DataDumper
# id 1: 0xCEEF1D7093C011EFB508E075BEAD08F8
# Test: File.1. DSN: dbi:File:. ID generator: UUID34. Serializer: FreezeThaw
# id 1: 0xCEF0790E93C011EF9CD0ED67824C3D8F
# Test: File.1. DSN: dbi:File:. ID generator: UUID34. Serializer: JSON
# id 1: 0xCEF1915E93C011EFA29DBECA66A922A9
# Test: File.1. DSN: dbi:File:. ID generator: UUID34. Serializer: Storable
# id 1: 0xCEF2B7C893C011EFBD89FED4F8291DF8
# Test: File.1. DSN: dbi:File:. ID generator: UUID34. Serializer: YAML
# id 1: 0xCEF3C5A093C011EF8CAAC76A6661D836
# Test: File.1. DSN: dbi:File:. ID generator: UUID36. Serializer: DataDumper
# id 1: CEF4F77C-93C0-11EF-BFE5-F0AEAF2FBBD2
# Test: File.1. DSN: dbi:File:. ID generator: UUID36. Serializer: FreezeThaw
# id 1: CEF643C0-93C0-11EF-A410-A878865FE488
# Test: File.1. DSN: dbi:File:. ID generator: UUID36. Serializer: JSON
# id 1: CEF75AE4-93C0-11EF-BE89-914D3EDD90E2
# Test: File.1. DSN: dbi:File:. ID generator: UUID36. Serializer: Storable
# id 1: CEF880E0-93C0-11EF-AA91-D20C8F31C973
# Test: File.1. DSN: dbi:File:. ID generator: UUID36. Serializer: YAML
# id 1: CEF99AB6-93C0-11EF-B369-C26358AF14DE
# Skipping dsn 'dbi:SQLite:dbname=/tmp/sessions.sqlite' because the SQLite directory does not exist
#
# Testing HTTP header generation
#
# Testing expire the session. Sleeping for 1 second ...
# Expiring id: CEFB041E-93C0-11EF-8882-B486893EB92A
#
# Testing expire a session parameter. Sleeping for 1 second ...
t/basic.t ........ ok
# DSN name: File.1. DSN: dbi:File:. ID generator: MD5. Serializer: DataDumper
# id1: 2cdd0a6558c5446721afdae55fefa6d8
# 1: Recovered known id 5b2e605280e47973909f06dec2646194 from traverse
# 2: Recovered known id 7b77e28fa1c9d11eafc9df511500ba7d from traverse
# 3: Recovered known id 271dcbf2391ef0a0c2446f60c9fe269b from traverse
# 4: Recovered known id d6284f15a5ba6d3d9c2a1cd061531b75 from traverse
# Skipping dsn 'dbi:SQLite:dbname=/tmp/sessions.sqlite' because the SQLite directory does not exist
t/traverse.t ..... ok
All tests successful.
Files=3, Tests=52, 6 wallclock secs ( 0.05 usr 0.01 sys + 0.60 cusr 0.11 csys = 0.77 CPU)
Result: PASS
------------------------------
PREREQUISITES
------------------------------
Prerequisite modules loaded:
requires:
Module Need Have
------------------------ -------- --------
autovivification 0 0.18
CGI 3.63 4.66
Class::Load 0.19 0.25
Config::Tiny 2.14 2.30
Data::Dumper 2.145 2.190
Data::UUID 1.218 1.227
DBD::SQLite 1.39 1.76
DBI 1.627 1.645
DBIx::Admin::CreateTable 2.07 2.11
Digest::MD5 2.52 2.59
Digest::SHA 5.84 6.04
Fcntl 1.06 1.19
File::Basename 2.77 2.86
File::Path 2.07 2.18
File::Slurper 0.012 0.014
File::Spec 3.3 3.93
File::Temp 0.22 0.2311
FreezeThaw 0.5001 0.5001
Hash::FieldHash 0.14 0.15
JSON 2.59 4.10
overload 0 1.39
parent 0 0.242
Safe 2.35 2.47
Scalar::Util 1.27 1.68
Storable 2.39 3.35
strict 0 1.13
Try::Tiny 0.12 0.32
vars 0 1.05
warnings 0 1.70
YAML::Tiny 1.51 1.74
build_requires:
Module Need Have
------------------------ -------- --------
ExtUtils::MakeMaker 0 7.70
Test::More 1.001014 1.302204
Test::Pod 1.48 1.52
configure_requires:
Module Need Have
------------------------ -------- --------
ExtUtils::MakeMaker 0 7.70
------------------------------
ENVIRONMENT AND OTHER CONTEXT
------------------------------
Environment variables:
AUTOMATED_TESTING = 1
DATE_MANIP_TEST_DM5 = 1
LC_ALL = C
NONINTERACTIVE_TESTING = 1
NO_NETWORK_TESTING = 1
PATH = /home/cpan/bin/perl/bin:/home/cpan/bin:/sbin:/bin:/usr/sbin:/usr/bin:/usr/games:/usr/local/sbin:/usr/local/bin:/usr/pkg/sbin:/usr/pkg/bin:/home/cpan/bin
PERL5LIB =
PERL5OPT =
PERL5_CPANPLUS_IS_RUNNING = 671544
PERL5_CPAN_IS_RUNNING = 671544
PERL_MM_USE_DEFAULT = 1
PERL_USE_UNSAFE_INC = 1
SHELL = /usr/local/bin/bash
TERM = screen
TMPDIR = /home/cpan/tmp
Perl special variables (and OS-specific diagnostics, for MSWin32):
$^X = /home/cpan/bin/perl/bin/perl5.41.6
$UID/$EUID = 1002 / 1002
$GID = 1002 1002
$EGID = 1002 1002
Perl module toolchain versions installed:
Module Have
------------------- --------
CPAN 2.37
CPAN::Meta 2.150010
Cwd 3.92
ExtUtils::CBuilder 0.280240
ExtUtils::Command 7.70
ExtUtils::Install 2.22
ExtUtils::MakeMaker 7.70
ExtUtils::Manifest 1.75
ExtUtils::ParseXS 3.55
File::Spec 3.93
JSON 4.10
JSON::PP 4.16
Module::Build 0.4234
Module::Signature 0.89
Parse::CPAN::Meta 2.150010
Test2 1.302204
Test::Harness 3.50
Test::More 1.302204
YAML 1.31
YAML::Syck 1.34
version 0.9933
--
Summary of my perl5 (revision 5 version 41 subversion 6) configuration:
Commit id: a8a74a872dfc1c04bb901b687eae457dbfd9dc02
Platform:
osname=dragonfly
osvers=6.4-release
archname=x86_64-dragonfly-thread-multi
uname='dragonfly cjg-dragonfly6 6.4-release dragonfly v6.4.0-release #54: fri dec 30 09:06:50 pst 2022 root@pkgbox64.dragonflybsd.org:usrobjusrsrcsysx86_64_generic x86_64 '
config_args='-des -Dprefix=/home/cpan/bin/perl -Dscriptdir=/home/cpan/bin/perl/bin -Dusedevel -Duse64bitall -Duseithreads'
hint=recommended
useposix=true
d_sigaction=define
useithreads=define
usemultiplicity=define
use64bitint=define
use64bitall=define
uselongdouble=undef
usemymalloc=n
default_inc_excludes_dot=define
Compiler:
cc='cc'
ccflags ='-DHAS_FPSETMASK -DHAS_FLOATINGPOINT_H -DNO_POSIX_2008_LOCALE -fwrapv -fno-strict-aliasing -pipe -fstack-protector-strong -I/usr/local/include -D_FORTIFY_SOURCE=2'
optimize='-O2'
cppflags='-DHAS_FPSETMASK -DHAS_FLOATINGPOINT_H -DNO_POSIX_2008_LOCALE -fwrapv -fno-strict-aliasing -pipe -fstack-protector-strong -I/usr/local/include'
ccversion=''
gccversion='8.3 [DragonFly] Release/2019-02-22'
gccosandvers=''
intsize=4
longsize=8
ptrsize=8
doublesize=8
byteorder=12345678
doublekind=3
d_longlong=define
longlongsize=8
d_longdbl=define
longdblsize=16
longdblkind=3
ivtype='long'
ivsize=8
nvtype='double'
nvsize=8
Off_t='off_t'
lseeksize=8
alignbytes=8
prototype=define
Linker and Libraries:
ld='cc'
ldflags ='-pthread -Wl,-E -fstack-protector-strong -L/usr/local/lib'
libpth=/usr/lib /usr/local/lib
libs=-lpthread -lgdbm -ldl -lm -lcrypt -lutil -lc
perllibs=-lpthread -ldl -lm -lcrypt -lutil -lc
libc=
so=so
useshrplib=false
libperl=libperl.a
gnulibc_version=''
Dynamic Linking:
dlsrc=dl_dlopen.xs
dlext=so
d_dlsymun=undef
ccdlflags=' '
cccdlflags='-DPIC -fPIC'
lddlflags='-shared -L/usr/local/lib -fstack-protector-strong'
Characteristics of this binary (from libperl):
Compile-time options:
HAS_LONG_DOUBLE
HAS_STRTOLD
HAS_TIMES
MULTIPLICITY
PERLIO_LAYERS
PERL_COPY_ON_WRITE
PERL_DONT_CREATE_GVSV
PERL_HASH_FUNC_SIPHASH13
PERL_HASH_USE_SBOX32
PERL_MALLOC_WRAP
PERL_OP_PARENT
PERL_PRESERVE_IVUV
PERL_USE_DEVEL
PERL_USE_SAFE_PUTENV
USE_64_BIT_ALL
USE_64_BIT_INT
USE_ITHREADS
USE_LARGE_FILES
USE_LOCALE
USE_LOCALE_COLLATE
USE_LOCALE_CTYPE
USE_LOCALE_NUMERIC
USE_LOCALE_TIME
USE_PERLIO
USE_PERL_ATOF
USE_REENTRANT_API
Built under dragonfly
Compiled at Oct 26 2024 05:42:47
%ENV:
PERL5LIB=""
PERL5OPT=""
PERL5_CPANPLUS_IS_RUNNING="671544"
PERL5_CPAN_IS_RUNNING="671544"
PERL_MM_USE_DEFAULT="1"
PERL_USE_UNSAFE_INC="1"
@INC:
/home/cpan/bin/perl/lib/site_perl/5.41.6/x86_64-dragonfly-thread-multi
/home/cpan/bin/perl/lib/site_perl/5.41.6
/home/cpan/bin/perl/lib/5.41.6/x86_64-dragonfly-thread-multi
/home/cpan/bin/perl/lib/5.41.6
.