Mongol v2.4 Perl 5 v5.20.3 x86_64-linux-ld
- Status
- Pass
- From
- Andreas J. König (ANDK)
- Dist
-
Mongol v2.4
- Platform
- Perl 5 v5.20.3 x86_64-linux-ld
- Date
- 2018-09-26 14:24:06
- ID
- d31e5d9a-c197-11e8-b2f2-ad98ab791065
This distribution has been tested as part of the CPAN Testers
project, supporting the Perl programming language. See
http://wiki.cpantesters.org/ for more information or email
questions to cpan-testers-discuss@perl.org
--
Dear Tudor Marghidanu,
This is a computer-generated report for Mongol-2.4
on perl 5.20.3, created by CPAN-Reporter-1.2018.
Thank you for uploading your work to CPAN. Congratulations!
All tests were successful.
Sections of this report:
* Tester comments
* Program output
* Prerequisites
* Environment and other context
------------------------------
TESTER COMMENTS
------------------------------
Additional comments from tester:
this report is from an automated smoke testing program
and was not reviewed by a human for accuracy
------------------------------
PROGRAM OUTPUT
------------------------------
Output from './Build test':
t/basic.t ....... skipped: Cannot connect to mongo!
t/cursor.t ...... skipped: Cannot connect to mongo!
t/model.t ....... ok
t/pagination.t .. skipped: Cannot connect to mongo!
t/relations.t ... skipped: Cannot connect to mongo!
All tests successful.
Files=5, Tests=18, 18 wallclock secs ( 0.03 usr 0.03 sys + 4.63 cusr 0.56 csys = 5.25 CPU)
Result: PASS
------------------------------
PREREQUISITES
------------------------------
Prerequisite modules loaded:
requires:
Module Need Have
-------------------------------------- ---- --------
Class::Load 0 0.25
Data::UUID 0 1.221
Lingua::EN::Inflect 0 1.903
MongoDB 0 v2.0.1
Moose 0 2.2011
MooseX::ClassAttribute 0 0.29
MooseX::Storage 0 0.52
MooseX::Storage::Base::SerializedClass 0 0.2.0
build_requires:
Module Need Have
-------------------------------------- ---- --------
Test::More 0 1.302140
Test::Pod 0 1.52
Test::Pod::Coverage 0 1.10
configure_requires:
Module Need Have
-------------------------------------- ---- --------
Module::Build 0.42 0.4224
------------------------------
ENVIRONMENT AND OTHER CONTEXT
------------------------------
Environment variables:
AUTOMATED_TESTING = 1
LANG = en_US.UTF-8
PATH = /home/sand/bin:/usr/local/bin:/usr/bin:/bin:/usr/games:/usr/local/perl/bin:/usr/X11/bin:/sbin:/usr/sbin
PERL5LIB = /tmp/loop_over_bdir-18347-7PpZOM/Test-Deep-Type-0.008-0/blib/arch:/tmp/loop_over_bdir-18347-7PpZOM/Test-Deep-Type-0.008-0/blib/lib:/tmp/loop_over_bdir-18347-7PpZOM/Test-Deep-JSON-0.05-0/blib/arch:/tmp/loop_over_bdir-18347-7PpZOM/Test-Deep-JSON-0.05-0/blib/lib:/tmp/loop_over_bdir-18347-7PpZOM/Config-AutoConf-0.317-0/blib/arch:/tmp/loop_over_bdir-18347-7PpZOM/Config-AutoConf-0.317-0/blib/lib:/tmp/loop_over_bdir-18347-7PpZOM/Test-FailWarnings-0.008-0/blib/arch:/tmp/loop_over_bdir-18347-7PpZOM/Test-FailWarnings-0.008-0/blib/lib
PERL5OPT =
PERL5_CPANPLUS_IS_RUNNING = 18350
PERL5_CPAN_IS_RUNNING = 18350
PERL_CANARY_STABILITY_NOPROMPT = 1
PERL_MM_USE_DEFAULT = 1
PERL_USE_UNSAFE_INC = 1
SHELL = /usr/bin/zsh
TERM = screen
Perl special variables (and OS-specific diagnostics, for MSWin32):
$^X = /home/sand/src/perl/repoperls/installed-perls/host/k93msid/v5.20.3/fc43/bin/perl
$UID/$EUID = 1005 / 1005
$GID = 1005 1005
$EGID = 1005 1005
Perl module toolchain versions installed:
Module Have
------------------- --------
CPAN 2.20
CPAN::Meta 2.150010
Cwd 3.75
ExtUtils::CBuilder 0.280230
ExtUtils::Command 7.34
ExtUtils::Install 2.06
ExtUtils::MakeMaker 7.34
ExtUtils::Manifest 1.70
ExtUtils::ParseXS 3.35
File::Spec 3.75
JSON 2.97001
JSON::PP 2.97001
Module::Build 0.4224
Module::Signature 0.83
Parse::CPAN::Meta 2.150010
Test::Harness 3.42
Test::More 1.302140
YAML 1.26
YAML::Syck 1.30
version 0.9924
--
Summary of my perl5 (revision 5 version 20 subversion 3) configuration:
Derived from: b67331aafd6eff33e3fd904c45e811f69cbfb0b2
Platform:
osname=linux, osvers=4.14.0-3-amd64, archname=x86_64-linux-ld
uname='linux k93msid 4.14.0-3-amd64 #1 smp debian 4.14.12-2 (2018-01-06) x86_64 gnulinux '
config_args='-Dprefix=/home/sand/src/perl/repoperls/installed-perls/host/k93msid/v5.20.3/fc43 -Dmyhostname=k93msid -Dinstallusrbinperl=n -Uversiononly -Dusedevel -des -Ui_db -Dlibswanted=cl pthread socket inet nsl gdbm dbm malloc dl ld sun m crypt sec util c cposix posix ucb BSD gdbm_compat -Uuseithreads -Duselongdouble -DEBUGGING=both'
hint=recommended, useposix=true, d_sigaction=define
useithreads=undef, usemultiplicity=undef
use64bitint=define, use64bitall=define, uselongdouble=define
usemymalloc=n, bincompat5005=undef
Compiler:
cc='cc', ccflags ='-fwrapv -DDEBUGGING -fno-strict-aliasing -pipe -fstack-protector -I/usr/local/include -D_LARGEFILE_SOURCE -D_FILE_OFFSET_BITS=64',
optimize='-O2 -g',
cppflags='-fwrapv -DDEBUGGING -fno-strict-aliasing -pipe -fstack-protector -I/usr/local/include'
ccversion='', gccversion='7.2.0', gccosandvers=''
intsize=4, longsize=8, ptrsize=8, doublesize=8, byteorder=12345678
d_longlong=define, longlongsize=8, d_longdbl=define, longdblsize=16
ivtype='long', ivsize=8, nvtype='long double', nvsize=16, Off_t='off_t', lseeksize=8
alignbytes=16, prototype=define
Linker and Libraries:
ld='cc', ldflags =' -fstack-protector -L/usr/local/lib'
libpth=/usr/local/lib /usr/lib/gcc/x86_64-linux-gnu/7/include-fixed /usr/include/x86_64-linux-gnu /usr/lib /lib/x86_64-linux-gnu /lib/../lib /usr/lib/x86_64-linux-gnu /usr/lib/../lib /lib
libs=-lpthread -lnsl -ldl -lm -lcrypt -lutil -lc
perllibs=-lpthread -lnsl -ldl -lm -lcrypt -lutil -lc
libc=libc-2.26.so, so=so, useshrplib=false, libperl=libperl.a
gnulibc_version='2.26'
Dynamic Linking:
dlsrc=dl_dlopen.xs, dlext=so, d_dlsymun=undef, ccdlflags='-Wl,-E'
cccdlflags='-fPIC', lddlflags='-shared -O2 -g -L/usr/local/lib -fstack-protector'
Characteristics of this binary (from libperl):
Compile-time options: DEBUGGING HAS_TIMES PERLIO_LAYERS
PERL_DONT_CREATE_GVSV
PERL_HASH_FUNC_ONE_AT_A_TIME_HARD PERL_MALLOC_WRAP
PERL_NEW_COPY_ON_WRITE PERL_PRESERVE_IVUV
PERL_USE_DEVEL USE_64_BIT_ALL USE_64_BIT_INT
USE_LARGE_FILES USE_LOCALE USE_LOCALE_COLLATE
USE_LOCALE_CTYPE USE_LOCALE_NUMERIC USE_LONG_DOUBLE
USE_PERLIO USE_PERL_ATOF
Locally applied patches:
uncommitted-changes
Built under linux
Compiled at Sep 16 2018 16:55:07
%ENV:
PERL5LIB="/tmp/loop_over_bdir-18347-7PpZOM/Test-Deep-Type-0.008-0/blib/arch:/tmp/loop_over_bdir-18347-7PpZOM/Test-Deep-Type-0.008-0/blib/lib:/tmp/loop_over_bdir-18347-7PpZOM/Test-Deep-JSON-0.05-0/blib/arch:/tmp/loop_over_bdir-18347-7PpZOM/Test-Deep-JSON-0.05-0/blib/lib:/tmp/loop_over_bdir-18347-7PpZOM/Config-AutoConf-0.317-0/blib/arch:/tmp/loop_over_bdir-18347-7PpZOM/Config-AutoConf-0.317-0/blib/lib:/tmp/loop_over_bdir-18347-7PpZOM/Test-FailWarnings-0.008-0/blib/arch:/tmp/loop_over_bdir-18347-7PpZOM/Test-FailWarnings-0.008-0/blib/lib"
PERL5OPT=""
PERL5_CPANPLUS_IS_RUNNING="18350"
PERL5_CPAN_IS_RUNNING="18350"
PERL_CANARY_STABILITY_NOPROMPT="1"
PERL_MM_USE_DEFAULT="1"
PERL_USE_UNSAFE_INC="1"
@INC:
/tmp/loop_over_bdir-18347-7PpZOM/Test-Deep-Type-0.008-0/blib/arch
/tmp/loop_over_bdir-18347-7PpZOM/Test-Deep-Type-0.008-0/blib/lib
/tmp/loop_over_bdir-18347-7PpZOM/Test-Deep-JSON-0.05-0/blib/arch
/tmp/loop_over_bdir-18347-7PpZOM/Test-Deep-JSON-0.05-0/blib/lib
/tmp/loop_over_bdir-18347-7PpZOM/Config-AutoConf-0.317-0/blib/arch
/tmp/loop_over_bdir-18347-7PpZOM/Config-AutoConf-0.317-0/blib/lib
/tmp/loop_over_bdir-18347-7PpZOM/Test-FailWarnings-0.008-0/blib/arch
/tmp/loop_over_bdir-18347-7PpZOM/Test-FailWarnings-0.008-0/blib/lib
/home/sand/src/perl/repoperls/installed-perls/host/k93msid/v5.20.3/fc43/lib/site_perl/5.20.3/x86_64-linux-ld
/home/sand/src/perl/repoperls/installed-perls/host/k93msid/v5.20.3/fc43/lib/site_perl/5.20.3
/home/sand/src/perl/repoperls/installed-perls/host/k93msid/v5.20.3/fc43/lib/5.20.3/x86_64-linux-ld
/home/sand/src/perl/repoperls/installed-perls/host/k93msid/v5.20.3/fc43/lib/5.20.3
.