Report for Algorithm-Networksort-2.01

Back
From: metabase:user:a0e144f2-373b-11e6-8edd-c6848980b093
Subject: PASS Algorithm-Networksort-2.01 v5.25.0 GNU/Linux
Date: 2016-07-05T18:25:17Z

This distribution has been tested as part of the CPAN Testers
project, supporting the Perl programming language.  See
http://wiki.cpantesters.org/ for more information or email
questions to cpan-testers-discuss@perl.org


--
Dear John Gamble,

This is a computer-generated report for Algorithm-Networksort-2.01
on perl 5.25.0, created by CPAN-Reporter-1.2018.

Thank you for uploading your work to CPAN.  Congratulations!
All tests were successful.

Sections of this report:

    * Tester comments
    * Program output
    * Prerequisites
    * Environment and other context

------------------------------
TESTER COMMENTS
------------------------------

Additional comments from tester:

none provided

------------------------------
PROGRAM OUTPUT
------------------------------

Output from './Build test':

# Testing Algorithm::Networksort 2.01, Perl 5.025000, /usr/bin/perl5.25.0
t/00-load.t ...... ok
t/abecedarian.t .. ok
# Names to run: alhajbaddar18, alhajbaddar22, end13, floyd09, green14, green15, green16, morwenn23, morwenn24, sat17, sat20, senso09, senso10, senso11, senso12, senso13, senso14, senso15, senso16, senso17, senso18, senso19, senso20, senso21, senso22, senso23, shapirogreen11, shapirogreen12, waksman10
t/best.t ......... ok
t/fmt.t .......... ok
t/pod.t .......... ok
t/svg.t .......... skipped: Test::XML::Easy required for verifying SVG
All tests successful.
Files=6, Tests=71,  3 wallclock secs ( 0.02 usr  0.01 sys +  1.72 cusr  0.50 csys =  2.25 CPU)
Result: PASS

------------------------------
PREREQUISITES
------------------------------

Prerequisite modules loaded:

requires:

    Module               Need    Have    
    -------------------- ------- --------
    Moose                2.16    2.1804  
    Moose::Exporter      2.16    2.1804  
    namespace::autoclean 0.16    0.28    
    perl                 v5.10.1 5.025000

build_requires:

    Module               Need    Have    
    -------------------- ------- --------
    Test::More           0       1.302035

configure_requires:

    Module               Need    Have    
    -------------------- ------- --------
    Module::Build        0.4     0.4218  


------------------------------
ENVIRONMENT AND OTHER CONTEXT
------------------------------

Environment variables:

    LANG = en_US.UTF-8
    PATH = /usr/local/bin:/usr/bin:/bin:/usr/local/games:/usr/games
    PERL5LIB = /home/dcollins/toolchain/.afl1/.cpan/build/Moose-2.1804-bIsnjD/blib/arch:/home/dcollins/toolchain/.afl1/.cpan/build/Moose-2.1804-bIsnjD/blib/lib:/home/dcollins/toolchain/.afl1/.cpan/build/Package-Stash-0.37-iGiUmQ/blib/arch:/home/dcollins/toolchain/.afl1/.cpan/build/Package-Stash-0.37-iGiUmQ/blib/lib
    PERL5OPT = 
    PERL5_CPANPLUS_IS_RUNNING = 2790
    PERL5_CPAN_IS_RUNNING = 2790
    SHELL = /bin/bash
    TERM = screen

Perl special variables (and OS-specific diagnostics, for MSWin32):

    $^X = /usr/bin/perl5.25.0
    $UID/$EUID = 1001 / 1001
    $GID = 1005 1005
    $EGID = 1005 1005

Perl module toolchain versions installed:

    Module              Have    
    ------------------- --------
    CPAN                2.11    
    CPAN::Meta          2.150005
    Cwd                 3.63    
    ExtUtils::CBuilder  0.280225
    ExtUtils::Command   7.10    
    ExtUtils::Install   2.04    
    ExtUtils::MakeMaker 7.10_01 
    ExtUtils::Manifest  1.70    
    ExtUtils::ParseXS   3.31    
    File::Spec          3.63    
    JSON                2.90    
    JSON::PP            2.27300 
    Module::Build       0.4218  
    Module::Signature   n/a     
    Parse::CPAN::Meta   1.4418  
    Test::Harness       3.36    
    Test::More          1.302035
    YAML                1.15    
    YAML::Syck          1.29    
    version             0.9917  


--

Summary of my perl5 (revision 5 version 25 subversion 0) configuration:
  Commit id: 2c5484a6fb758fd9bd9f56d504186972d12dd338
  Platform:
    osname=linux, osvers=4.6.0-1-amd64, archname=x86_64-linux-thread-multi-quadmath
    uname='linux nightshade64 4.6.0-1-amd64 #1 smp debian 4.6.1-1 (2016-06-06) x86_64 gnulinux '
    config_args='-Dusedevel -Dprefix=/usr -Dcc=ccache gcc-6 -Duse64bitall -Doptimize=-O3 -Dversiononly -Uman1dir -Uman3dir -Dsiteprefix=/home/dcollins/toolchain/local -DDEBUGGING -Uuselongdouble -Dusequadmath -Dusethreads -Dusemultiplicity -des'
    hint=recommended, useposix=true, d_sigaction=define
    useithreads=define, usemultiplicity=define
    use64bitint=define, use64bitall=define, uselongdouble=undef
    usemymalloc=n, bincompat5005=undef
  Compiler:
    cc='ccache gcc-6', ccflags ='-D_REENTRANT -D_GNU_SOURCE -fwrapv -DDEBUGGING -fno-strict-aliasing -pipe -fstack-protector-strong -I/usr/local/include -D_LARGEFILE_SOURCE -D_FILE_OFFSET_BITS=64',
    optimize='-O3 -g',
    cppflags='-D_REENTRANT -D_GNU_SOURCE -fwrapv -DDEBUGGING -fno-strict-aliasing -pipe -fstack-protector-strong -I/usr/local/include'
    ccversion='', gccversion='6.1.1 20160519', gccosandvers=''
    intsize=4, longsize=8, ptrsize=8, doublesize=8, byteorder=12345678, doublekind=3
    d_longlong=define, longlongsize=8, d_longdbl=define, longdblsize=16, longdblkind=3
    ivtype='long', ivsize=8, nvtype='__float128', nvsize=16, Off_t='off_t', lseeksize=8
    alignbytes=16, prototype=define
  Linker and Libraries:
    ld='ccache gcc-6', ldflags =' -fstack-protector-strong -L/usr/local/lib'
    libpth=/usr/local/lib /usr/lib/gcc/x86_64-linux-gnu/6/include-fixed /usr/include/x86_64-linux-gnu /usr/lib /lib/x86_64-linux-gnu /lib/../lib /usr/lib/x86_64-linux-gnu /usr/lib/../lib /lib
    libs=-lpthread -lnsl -ldl -lm -lcrypt -lutil -lc -lquadmath
    perllibs=-lpthread -lnsl -ldl -lm -lcrypt -lutil -lc -lquadmath
    libc=libc-2.22.so, so=so, useshrplib=false, libperl=libperl.a
    gnulibc_version='2.22'
  Dynamic Linking:
    dlsrc=dl_dlopen.xs, dlext=so, d_dlsymun=undef, ccdlflags='-Wl,-E'
    cccdlflags='-fPIC', lddlflags='-shared -O3 -g -L/usr/local/lib -fstack-protector-strong'


Characteristics of this binary (from libperl): 
  Compile-time options: DEBUGGING HAS_TIMES MULTIPLICITY PERLIO_LAYERS
                        PERL_COPY_ON_WRITE PERL_DONT_CREATE_GVSV
                        PERL_HASH_FUNC_ONE_AT_A_TIME_HARD
                        PERL_IMPLICIT_CONTEXT PERL_MALLOC_WRAP
                        PERL_PRESERVE_IVUV PERL_TRACK_MEMPOOL PERL_USE_DEVEL
                        USE_64_BIT_ALL USE_64_BIT_INT USE_ITHREADS
                        USE_LARGE_FILES USE_LOCALE USE_LOCALE_COLLATE
                        USE_LOCALE_CTYPE USE_LOCALE_NUMERIC USE_LOCALE_TIME
                        USE_PERLIO USE_PERL_ATOF USE_QUADMATH
                        USE_REENTRANT_API
  Built under linux
  Compiled at Jan  1 1970 00:00:00
  %ENV:
    PERL5LIB="/home/dcollins/toolchain/.afl1/.cpan/build/Moose-2.1804-bIsnjD/blib/arch:/home/dcollins/toolchain/.afl1/.cpan/build/Moose-2.1804-bIsnjD/blib/lib:/home/dcollins/toolchain/.afl1/.cpan/build/Package-Stash-0.37-iGiUmQ/blib/arch:/home/dcollins/toolchain/.afl1/.cpan/build/Package-Stash-0.37-iGiUmQ/blib/lib"
    PERL5OPT=""
    PERL5_CPANPLUS_IS_RUNNING="2790"
    PERL5_CPAN_IS_RUNNING="2790"
  @INC:
    /home/dcollins/toolchain/.afl1/.cpan/build/Moose-2.1804-bIsnjD/blib/arch
    /home/dcollins/toolchain/.afl1/.cpan/build/Moose-2.1804-bIsnjD/blib/lib
    /home/dcollins/toolchain/.afl1/.cpan/build/Package-Stash-0.37-iGiUmQ/blib/arch
    /home/dcollins/toolchain/.afl1/.cpan/build/Package-Stash-0.37-iGiUmQ/blib/lib
    /home/dcollins/toolchain/local/lib/perl5/site_perl/5.25.0/x86_64-linux-thread-multi-quadmath
    /home/dcollins/toolchain/local/lib/perl5/site_perl/5.25.0
    /usr/lib/perl5/5.25.0/x86_64-linux-thread-multi-quadmath
    /usr/lib/perl5/5.25.0
    .