Report for WebAPI-DBIC-0.002001

Back
From: metabase:user:314402c4-2aae-11df-837a-5e0a49663a4f
Subject: PASS WebAPI-DBIC-0.002001 v5.20.0 GNU/Linux
Date: 2014-11-24T20:09:41Z

This distribution has been tested as part of the CPAN Testers
project, supporting the Perl programming language.  See
http://wiki.cpantesters.org/ for more information or email
questions to cpan-testers-discuss@perl.org


--
Dear Tim Bunce,

This is a computer-generated report for WebAPI-DBIC-0.002001
on perl 5.20.0, created by CPAN-Reporter-1.2011.

Thank you for uploading your work to CPAN.  Congratulations!
All tests were successful.

Sections of this report:

    * Tester comments
    * Program output
    * Prerequisites
    * Environment and other context

------------------------------
TESTER COMMENTS
------------------------------

Additional comments from tester:

none provided

------------------------------
PROGRAM OUTPUT
------------------------------

Output from '/usr/bin/make test':

PERL_DL_NONLAZY=1 "/bbbike/perl-5.20.0/bin/perl5.20.0" "-MExtUtils::Command::MM" "-MTest::Harness" "-e" "undef *Test::Harness::Switches; test_harness(0, 'blib/lib', 'blib/arch')" t/*.t
t/00-compile.t ........... ok
t/10-basics-core.t ....... ok
TestSchema::Result::Artist relationship cds_90s has coderef-based condition which is not handled yet - unknown crosstable_cond_key
t/10-basics-hal.t ........ ok
t/10-basics-jsonapi.t .... ok
t/11-paging-core.t ....... ok
TestSchema::Result::Artist relationship cds_90s has coderef-based condition which is not handled yet - unknown crosstable_cond_key
t/11-paging-hal.t ........ ok
t/12-searching-core.t .... ok
TestSchema::Result::Artist relationship cds_90s has coderef-based condition which is not handled yet - unknown crosstable_cond_key
t/12-searching-hal.t ..... ok
t/13-fields-core.t ....... ok
TestSchema::Result::Artist relationship cds_90s has coderef-based condition which is not handled yet - unknown crosstable_cond_key
t/13-fields-hal.t ........ ok
t/14-distinct-core.t ..... ok
t/14-distinct-hal.t ...... ok
t/30-ordering-core.t ..... ok
t/30-ordering-hal.t ...... ok
TestSchema::Result::Artist relationship cds_90s has coderef-based condition which is not handled yet - unknown crosstable_cond_key
DBIx::Class::Row::get_columns(): Returning primary keys of prefetched 'filter' rels as part of get_columns() is deprecated and will eventually be removed entirely (set DBIC_COLUMNS_INCLUDE_FILTER_RELS to disable this warning) at /tmpfs/.cpan-build/WebAPI-DBIC-0.002001-2_uVUW/blib/lib/WebAPI/DBIC/Resource/Role/DBIC.pm line 40
t/40-prefetch-hal.t ...... ok
Result class TestSchema::Result::CD_to_Producer has has multiple keys so relations like cd_to_producer won't have links generated.
DBIx::Class::Row::get_columns(): Returning primary keys of prefetched 'filter' rels as part of get_columns() is deprecated and will eventually be removed entirely (set DBIC_COLUMNS_INCLUDE_FILTER_RELS to disable this warning) at /tmpfs/.cpan-build/WebAPI-DBIC-0.002001-2_uVUW/blib/lib/WebAPI/DBIC/Resource/Role/DBIC.pm line 40
t/40-prefetch-jsonapi.t .. ok
t/50-modify-core.t ....... ok
TestSchema::Result::Artist relationship cds_90s has coderef-based condition which is not handled yet - unknown crosstable_cond_key
t/50-modify-hal.t ........ ok
TestSchema::Result::Track relationship next_tracks has coderef-based condition which is not handled yet - unknown crosstable_cond_key
t/52-post_rel-hal.t ...... ok
t/53-put_rel-core.t ...... ok
TestSchema::Result::Track relationship next_tracks has coderef-based condition which is not handled yet - unknown crosstable_cond_key
t/53-put_rel-hal.t ....... ok
Exception: DBIx::Class::Row::get_column(): No such column 'nonesuch' on TestSchema::Result::Artist at /tmpfs/.cpan-build/WebAPI-DBIC-0.002001-2_uVUW/blib/lib/WebAPI/DBIC/Resource/Role/ItemInvoke.pm line 57
t/60-invoke-core.t ....... ok
t/release-pod-syntax.t ... skipped: these tests are for release candidate testing
All tests successful.
Files=23, Tests=112, 27 wallclock secs ( 0.15 usr  0.10 sys + 21.91 cusr  3.73 csys = 25.89 CPU)
Result: PASS

------------------------------
PREREQUISITES
------------------------------

Prerequisite modules loaded:

requires:

    Module                    Need     Have    
    ------------------------- -------- --------
    Carp                      0        1.3301  
    Data::Dumper::Concise     0        2.022   
    DBIx::Class               0.08250  0.082810
    HTTP::Headers::ActionPack 0        0.09    
    HTTP::Throwable           0        0.019   
    JSON::MaybeXS             0        1.003001
    List::Util                0        1.41    
    Module::Runtime           0        0.014   
    Moo                       1.001000 1.006001
    namespace::clean          0        0.25    
    parent                    0        0.228   
    Path::Router              0.13     0.13    
    perl                      5.010    5.020000
    Plack                     1.0033   1.0033  
    Plack::App::File          0        0       
    Plack::App::Path::Router  0.06     0.06    
    Scalar::Util              0        1.41    
    Sub::Exporter             0        0.987   
    Sub::Quote                0        1.006001
    Try::Tiny                 0        0.22    
    URI                       0        1.64    
    Web::Machine              0.15     0.15    

build_requires:

    Module                    Need     Have    
    ------------------------- -------- --------
    autodie                   0        2.25    
    Data::Printer             0        0.35    
    ExtUtils::MakeMaker       0        7.00    
    Module::Pluggable         0        5.1     
    Sort::Key                 0        1.33    
    Test::Compile             v1.1.0   v1.2.0  
    Test::DBIx::Class         0        0.41    
    Test::HTTP::Response      0        0.06    
    Test::More                0.98     1.001009
    Test::Most                0        0.34    
    Test::Pod                 0        1.48    
    ToolSet                   0        1.01    

configure_requires:

    Module                    Need     Have    
    ------------------------- -------- --------
    ExtUtils::MakeMaker       0        7.00    


------------------------------
ENVIRONMENT AND OTHER CONTEXT
------------------------------

Environment variables:

    DBIC_NO_WARN_BAD_PERL = 1
    LANG = C
    LC_ALL = de_DE.UTF-8
    PATH = /usr/local/bin:/usr/bin:/bin:/usr/local/sbin:/usr/sbin:/sbin:/home/eserte/bin/linux-gnu:/home/eserte/bin/sh:/home/eserte/bin:/usr/games:/home/eserte/devel:/home/eserte/src/srezic-misc/scripts
    PERL5LIB = /home/eserte/.cpan/build/Path-Router-0.13-MEVJEV/blib/arch:/home/eserte/.cpan/build/Path-Router-0.13-MEVJEV/blib/lib:/home/eserte/.cpan/build/ToolSet-1.01-sBPxFt/blib/arch:/home/eserte/.cpan/build/ToolSet-1.01-sBPxFt/blib/lib:/home/eserte/.cpan/build/Acme-Math-XS-XS-0.0.3-MCicSN/blib/arch:/home/eserte/.cpan/build/Acme-Math-XS-XS-0.0.3-MCicSN/blib/lib
    PERL5OPT = 
    PERL5_CPANPLUS_IS_RUNNING = 10939
    PERL5_CPAN_IS_RUNNING = 10939
    PERL5_CPAN_IS_RUNNING_IN_RECURSION = 10861,10939
    PERLDOC = -MPod::Perldoc::ToTextOverstrike
    PERL_BATCH = yes
    PERL_CPAN_REPORTER_CONFIG = /var/tmp/cpansmoker-1001/s96QiwgK3Q_config.ini
    PERL_EXTUTILS_AUTOINSTALL = --defaultdeps
    PERL_HTML_DISPLAY_CLASS = HTML::Display::Mozilla
    PERL_PARALLEL_SMOKER = yes
    SHELL = /bin/zsh
    TERM = screen
    TMPDIR = /var/tmp/cpansmoker-1001

Perl special variables (and OS-specific diagnostics, for MSWin32):

    $^X = /bbbike/perl-5.20.0/bin/perl5.20.0
    $UID/$EUID = 1001 / 1001
    $GID = 1001 109 1001
    $EGID = 1001 109 1001

Perl module toolchain versions installed:

    Module              Have    
    ------------------- --------
    CPAN                2.05    
    CPAN::Meta          2.142690
    Cwd                 3.47    
    ExtUtils::CBuilder  0.280217
    ExtUtils::Command   1.18    
    ExtUtils::Install   2.04    
    ExtUtils::MakeMaker 7.00    
    ExtUtils::Manifest  1.68    
    ExtUtils::ParseXS   3.24    
    File::Spec          3.47    
    JSON                2.90    
    JSON::PP            2.27203 
    Module::Build       0.4210  
    Module::Signature   0.73    
    Parse::CPAN::Meta   1.4414  
    Test::Harness       3.34    
    Test::More          1.001009
    YAML                1.12    
    YAML::Syck          1.27    
    version             0.9909  


--

Summary of my perl5 (revision 5 version 20 subversion 0) configuration:
   
  Platform:
    osname=linux, osvers=3.2.0-4-amd64, archname=x86_64-linux
    uname='linux eserte 3.2.0-4-amd64 #1 smp debian 3.2.57-3+deb7u1 x86_64 gnulinux '
    config_args='-ds -e -Dprefix=/opt/perl-5.20.0'
    hint=recommended, useposix=true, d_sigaction=define
    useithreads=undef, usemultiplicity=undef
    use64bitint=define, use64bitall=define, uselongdouble=undef
    usemymalloc=n, bincompat5005=undef
  Compiler:
    cc='cc', ccflags ='-fwrapv -fno-strict-aliasing -pipe -fstack-protector -I/usr/local/include -D_LARGEFILE_SOURCE -D_FILE_OFFSET_BITS=64',
    optimize='-O2',
    cppflags='-fwrapv -fno-strict-aliasing -pipe -fstack-protector -I/usr/local/include'
    ccversion='', gccversion='4.7.2', gccosandvers=''
    intsize=4, longsize=8, ptrsize=8, doublesize=8, byteorder=12345678
    d_longlong=define, longlongsize=8, d_longdbl=define, longdblsize=16
    ivtype='long', ivsize=8, nvtype='double', nvsize=8, Off_t='off_t', lseeksize=8
    alignbytes=8, prototype=define
  Linker and Libraries:
    ld='cc', ldflags =' -fstack-protector -L/usr/local/lib'
    libpth=/usr/local/lib /usr/lib/gcc/x86_64-linux-gnu/4.7/include-fixed /usr/include/x86_64-linux-gnu /usr/lib /lib/x86_64-linux-gnu /lib/../lib /usr/lib/x86_64-linux-gnu /usr/lib/../lib /lib
    libs=-lnsl -ldb -ldl -lm -lcrypt -lutil -lc
    perllibs=-lnsl -ldl -lm -lcrypt -lutil -lc
    libc=libc-2.13.so, so=so, useshrplib=false, libperl=libperl.a
    gnulibc_version='2.13'
  Dynamic Linking:
    dlsrc=dl_dlopen.xs, dlext=so, d_dlsymun=undef, ccdlflags='-Wl,-E'
    cccdlflags='-fPIC', lddlflags='-shared -O2 -L/usr/local/lib -fstack-protector'


Characteristics of this binary (from libperl): 
  Compile-time options: HAS_TIMES PERLIO_LAYERS PERL_DONT_CREATE_GVSV
                        PERL_HASH_FUNC_ONE_AT_A_TIME_HARD PERL_MALLOC_WRAP
                        PERL_NEW_COPY_ON_WRITE PERL_PRESERVE_IVUV
                        USE_64_BIT_ALL USE_64_BIT_INT USE_LARGE_FILES
                        USE_LOCALE USE_LOCALE_COLLATE USE_LOCALE_CTYPE
                        USE_LOCALE_NUMERIC USE_PERLIO USE_PERL_ATOF
  Built under linux
  Compiled at May 28 2014 04:18:43
  %ENV:
    PERL5LIB="/home/eserte/.cpan/build/Path-Router-0.13-MEVJEV/blib/arch:/home/eserte/.cpan/build/Path-Router-0.13-MEVJEV/blib/lib:/home/eserte/.cpan/build/ToolSet-1.01-sBPxFt/blib/arch:/home/eserte/.cpan/build/ToolSet-1.01-sBPxFt/blib/lib:/home/eserte/.cpan/build/Acme-Math-XS-XS-0.0.3-MCicSN/blib/arch:/home/eserte/.cpan/build/Acme-Math-XS-XS-0.0.3-MCicSN/blib/lib"
    PERL5OPT=""
    PERL5_CPANPLUS_IS_RUNNING="10939"
    PERL5_CPAN_IS_RUNNING="10939"
    PERL5_CPAN_IS_RUNNING_IN_RECURSION="10861,10939"
    PERLDOC="-MPod::Perldoc::ToTextOverstrike"
    PERL_BATCH="yes"
    PERL_CPAN_REPORTER_CONFIG="/var/tmp/cpansmoker-1001/s96QiwgK3Q_config.ini"
    PERL_EXTUTILS_AUTOINSTALL="--defaultdeps"
    PERL_HTML_DISPLAY_CLASS="HTML::Display::Mozilla"
    PERL_PARALLEL_SMOKER="yes"
  @INC:
    /home/eserte/.cpan/build/Path-Router-0.13-MEVJEV/blib/arch
    /home/eserte/.cpan/build/Path-Router-0.13-MEVJEV/blib/lib
    /home/eserte/.cpan/build/ToolSet-1.01-sBPxFt/blib/arch
    /home/eserte/.cpan/build/ToolSet-1.01-sBPxFt/blib/lib
    /home/eserte/.cpan/build/Acme-Math-XS-XS-0.0.3-MCicSN/blib/arch
    /home/eserte/.cpan/build/Acme-Math-XS-XS-0.0.3-MCicSN/blib/lib
    /opt/perl-5.20.0/lib/site_perl/5.20.0/x86_64-linux
    /opt/perl-5.20.0/lib/site_perl/5.20.0
    /opt/perl-5.20.0/lib/5.20.0/x86_64-linux
    /opt/perl-5.20.0/lib/5.20.0
    .