Back
From: metabase:user:fcf99560-6bf4-1014-86b3-1cf189224fdf
Subject: PASS CSS-Tiny-1.19 v5.16.3
Date: 2013-09-02T13:33:53Z
This distribution has been tested as part of the CPAN Testers
project, supporting the Perl programming language. See
http://wiki.cpantesters.org/ for more information or email
questions to cpan-testers-discuss@perl.org
--
Dear Adam Kennedy,
This is a computer-generated report for CSS-Tiny-1.19
on perl 5.16.3, created by CPAN-Reporter-1.2010.
Thank you for uploading your work to CPAN. Congratulations!
All tests were successful.
Sections of this report:
* Tester comments
* Program output
* Prerequisites
* Environment and other context
------------------------------
TESTER COMMENTS
------------------------------
Additional comments from tester:
this report is from an automated smoke testing program
and was not reviewed by a human for accuracy
------------------------------
PROGRAM OUTPUT
------------------------------
Output from 'C:\Perl\site\bin\dmake.exe test':
C:\Perl\bin\perl.exe "-MExtUtils::Command::MM" "-e" "test_harness(0, 'blib\lib', 'blib\arch')" t/*.t xt/*.t
t/01_compile.t ....... ok
t/02_main.t .......... ok
t/03_inline_clone.t .. ok
t/04_rt.t ............ ok
xt/meta.t ............ skipped: Test::CPAN::Meta 0.17 not available for testing
xt/pmv.t ............. skipped: Perl::MinimumVersion 1.25 not available for testing
xt/pod.t ............. skipped: Test::Pod 1.44 not available for testing
All tests successful.
Files=7, Tests=34, 1 wallclock secs ( 0.09 usr + 0.03 sys = 0.13 CPU)
Result: PASS
------------------------------
PREREQUISITES
------------------------------
Prerequisite modules loaded:
requires:
Module Need Have
------------------- ----- --------
perl 5.004 5.016003
configure_requires:
Module Need Have
------------------- ----- --------
ExtUtils::MakeMaker 0 6.63_02
------------------------------
ENVIRONMENT AND OTHER CONTEXT
------------------------------
Environment variables:
AUTOMATED_TESTING = 1
COMSPEC = C:\windows\system32\cmd.exe
NUMBER_OF_PROCESSORS = 4
PATH = C:\Perl64\site\bin;C:\Perl64\bin;C:\Perl\site\bin;C:\Perl\bin;C:\Program Files (x86)\Intel\iCLS Client\;C:\Program Files\Intel\iCLS Client\;C:\windows\system32;C:\windows;C:\windows\System32\Wbem;C:\windows\System32\WindowsPowerShell\v1.0\;C:\Program Files\Intel\Intel(R) Management Engine Components\DAL;C:\Program Files\Intel\Intel(R) Management Engine Components\IPT;C:\Program Files (x86)\Intel\Intel(R) Management Engine Components\DAL;C:\Program Files (x86)\Intel\Intel(R) Management Engine Components\IPT;C:\Program Files (x86)\Git\cmd;c:\Program Files (x86)\Microsoft SQL Server\100\Tools\Binn\;c:\Program Files\Microsoft SQL Server\100\Tools\Binn\;c:\Program Files\Microsoft SQL Server\100\DTS\Binn\
PERL5LIB = C:\Perl\cpan\build\Parallel-Iterator-1.00-h6kPhr/blib/arch;C:\Perl\cpan\build\Parallel-Iterator-1.00-h6kPhr/blib/lib;C:\Perl\cpan\build\Test-Warn-0.24-hKjwed/blib/arch;C:\Perl\cpan\build\Test-Warn-0.24-hKjwed/blib/lib;C:\Perl\cpan\build\Tree-DAG_Node-1.13-uqxdmZ/blib/arch;C:\Perl\cpan\build\Tree-DAG_Node-1.13-uqxdmZ/blib/lib;C:\Perl\cpan\build\Template-Toolkit-2.25-NBS9IX/blib/arch;C:\Perl\cpan\build\Template-Toolkit-2.25-NBS9IX/blib/lib;C:\Perl\cpan\build\AppConfig-1.66-OHFMnO/blib/arch;C:\Perl\cpan\build\AppConfig-1.66-OHFMnO/blib/lib;C:\Perl\cpan\build\Browser-Open-0.04-nfLwDn/blib/arch;C:\Perl\cpan\build\Browser-Open-0.04-nfLwDn/blib/lib;C:\Perl\cpan\build\Pod-Coverage-0.23-OOiV_3/blib/arch;C:\Perl\cpan\build\Pod-Coverage-0.23-OOiV_3/blib/lib;C:\Perl\cpan\build\Devel-Symdump-2.10-7Q2M63/blib/arch;C:\Perl\cpan\build\Devel-Symdump-2.10-7Q2M63/blib/lib
PERL5OPT =
PERL5_CPANPLUS_IS_RUNNING = 2216
PERL5_CPAN_IS_RUNNING = 2216
PERL5_CPAN_IS_RUNNING_IN_RECURSION = 2780,2216
PERL_CR_SMOKER_CURRENT = Task-Devel-Cover-Recommended-v1.80.0
PERL_EXTUTILS_AUTOINSTALL = --defaultdeps
PERL_MM_USE_DEFAULT = 1
PROCESSOR_IDENTIFIER = Intel64 Family 6 Model 42 Stepping 7, GenuineIntel
TEMP = C:\Users\otrs\AppData\Local\Temp
Perl special variables (and OS-specific diagnostics, for MSWin32):
$^X = C:\Perl\bin\perl.exe
$UID/$EUID = 0 / 0
$GID = 0
$EGID = 0
Win32::GetOSName = Win7
Win32::GetOSVersion = Service Pack 1, 6, 1, 7601, 2, 1, 0, 768, 1
Win32::FsType = NTFS
Win32::IsAdminUser = 0
Perl module toolchain versions installed:
Module Have
------------------- --------
CPAN 1.9800
CPAN::Meta 2.120921
Cwd 3.40
ExtUtils::CBuilder 0.280206
ExtUtils::Command 1.17
ExtUtils::Install 1.54
ExtUtils::MakeMaker 6.63_02
ExtUtils::Manifest 1.61
ExtUtils::ParseXS 3.18
File::Spec 3.40
JSON 2.53
JSON::PP 2.27200
Module::Build 0.4003
Module::Signature n/a
Parse::CPAN::Meta 1.4404
Test::Harness 3.26
Test::More 0.98
YAML n/a
YAML::Syck n/a
version 0.9902
--
Summary of my perl5 (revision 5 version 16 subversion 3) configuration:
Platform:
osname=MSWin32, osvers=5.2, archname=MSWin32-x86-multi-thread
uname=''
config_args='undef'
hint=recommended, useposix=true, d_sigaction=undef
useithreads=define, usemultiplicity=define
useperlio=define, d_sfio=undef, uselargefiles=define, usesocks=undef
use64bitint=undef, use64bitall=undef, uselongdouble=undef
usemymalloc=n, bincompat5005=undef
Compiler:
cc='C:\Perl\site\bin\gcc.exe', ccflags ='-DNDEBUG -DWIN32 -D_CONSOLE -DNO_STRICT -DPERL_TEXTMODE_SCRIPTS -DUSE_SITECUSTOMIZE -DPERL_IMPLICIT_CONTEXT -DPERL_IMPLICIT_SYS -DUSE_PERLIO -D_USE_32BIT_TIME_T -DHASATTRIBUTE -fno-strict-aliasing -mms-bitfields',
optimize='-O2',
cppflags='-DWIN32'
ccversion='', gccversion='3.4.5 (mingw-vista special r3)', gccosandvers=''
intsize=4, longsize=4, ptrsize=4, doublesize=8, byteorder=1234
d_longlong=undef, longlongsize=8, d_longdbl=define, longdblsize=8
ivtype='long', ivsize=4, nvtype='double', nvsize=8, Off_t='__int64', lseeksize=8
alignbytes=8, prototype=define
Linker and Libraries:
ld='C:\Perl\site\bin\g++.exe', ldflags ='-L"C:\Perl\lib\CORE"'
libpth=\lib
libs=-lkernel32 -luser32 -lgdi32 -lwinspool -lcomdlg32 -ladvapi32 -lshell32 -lole32 -loleaut32 -lnetapi32 -luuid -lws2_32 -lmpr -lwinmm -lversion -lodbc32 -lodbccp32 -lcomctl32 -lmsvcrt
perllibs=-lkernel32 -luser32 -lgdi32 -lwinspool -lcomdlg32 -ladvapi32 -lshell32 -lole32 -loleaut32 -lnetapi32 -luuid -lws2_32 -lmpr -lwinmm -lversion -lodbc32 -lodbccp32 -lcomctl32 -lmsvcrt
libc=msvcrt.lib, so=dll, useshrplib=true, libperl=perl516.lib
gnulibc_version=''
Dynamic Linking:
dlsrc=dl_win32.xs, dlext=dll, d_dlsymun=undef, ccdlflags=' '
cccdlflags=' ', lddlflags='-mdll -L"C:\Perl\lib\CORE"'
Characteristics of this binary (from libperl):
Compile-time options: HAS_TIMES HAVE_INTERP_INTERN MULTIPLICITY
PERLIO_LAYERS PERL_DONT_CREATE_GVSV
PERL_IMPLICIT_CONTEXT PERL_IMPLICIT_SYS
PERL_MALLOC_WRAP PERL_PRESERVE_IVUV PL_OP_SLAB_ALLOC
USE_ITHREADS USE_LARGE_FILES USE_LOCALE
USE_LOCALE_COLLATE USE_LOCALE_CTYPE
USE_LOCALE_NUMERIC USE_PERLIO USE_PERL_ATOF
USE_SITECUSTOMIZE
Locally applied patches:
ActivePerl Build 1603 [296746]
Built under MSWin32
Compiled at Mar 13 2013 11:29:21
%ENV:
PERL5LIB="C:\Perl\cpan\build\Parallel-Iterator-1.00-h6kPhr/blib/arch;C:\Perl\cpan\build\Parallel-Iterator-1.00-h6kPhr/blib/lib;C:\Perl\cpan\build\Test-Warn-0.24-hKjwed/blib/arch;C:\Perl\cpan\build\Test-Warn-0.24-hKjwed/blib/lib;C:\Perl\cpan\build\Tree-DAG_Node-1.13-uqxdmZ/blib/arch;C:\Perl\cpan\build\Tree-DAG_Node-1.13-uqxdmZ/blib/lib;C:\Perl\cpan\build\Template-Toolkit-2.25-NBS9IX/blib/arch;C:\Perl\cpan\build\Template-Toolkit-2.25-NBS9IX/blib/lib;C:\Perl\cpan\build\AppConfig-1.66-OHFMnO/blib/arch;C:\Perl\cpan\build\AppConfig-1.66-OHFMnO/blib/lib;C:\Perl\cpan\build\Browser-Open-0.04-nfLwDn/blib/arch;C:\Perl\cpan\build\Browser-Open-0.04-nfLwDn/blib/lib;C:\Perl\cpan\build\Pod-Coverage-0.23-OOiV_3/blib/arch;C:\Perl\cpan\build\Pod-Coverage-0.23-OOiV_3/blib/lib;C:\Perl\cpan\build\Devel-Symdump-2.10-7Q2M63/blib/arch;C:\Perl\cpan\build\Devel-Symdump-2.10-7Q2M63/blib/lib"
PERL5_CPANPLUS_IS_RUNNING="2216"
PERL5_CPAN_IS_RUNNING="2216"
PERL5_CPAN_IS_RUNNING_IN_RECURSION="2780,2216"
PERL_CR_SMOKER_CURRENT="Task-Devel-Cover-Recommended-v1.80.0"
PERL_EXTUTILS_AUTOINSTALL="--defaultdeps"
PERL_MM_USE_DEFAULT="1"
@INC:
C:\Perl\cpan\build\Parallel-Iterator-1.00-h6kPhr/blib/arch
C:\Perl\cpan\build\Parallel-Iterator-1.00-h6kPhr/blib/lib
C:\Perl\cpan\build\Test-Warn-0.24-hKjwed/blib/arch
C:\Perl\cpan\build\Test-Warn-0.24-hKjwed/blib/lib
C:\Perl\cpan\build\Tree-DAG_Node-1.13-uqxdmZ/blib/arch
C:\Perl\cpan\build\Tree-DAG_Node-1.13-uqxdmZ/blib/lib
C:\Perl\cpan\build\Template-Toolkit-2.25-NBS9IX/blib/arch
C:\Perl\cpan\build\Template-Toolkit-2.25-NBS9IX/blib/lib
C:\Perl\cpan\build\AppConfig-1.66-OHFMnO/blib/arch
C:\Perl\cpan\build\AppConfig-1.66-OHFMnO/blib/lib
C:\Perl\cpan\build\Browser-Open-0.04-nfLwDn/blib/arch
C:\Perl\cpan\build\Browser-Open-0.04-nfLwDn/blib/lib
C:\Perl\cpan\build\Pod-Coverage-0.23-OOiV_3/blib/arch
C:\Perl\cpan\build\Pod-Coverage-0.23-OOiV_3/blib/lib
C:\Perl\cpan\build\Devel-Symdump-2.10-7Q2M63/blib/arch
C:\Perl\cpan\build\Devel-Symdump-2.10-7Q2M63/blib/lib
C:/Perl/site/lib
C:/Perl/lib
.