App-perlmv v0.606 Perl 5 v5.24.4 x86_64-linux-ld

Status
Pass
From
Andreas J. König (ANDK)
Dist
App-perlmv v0.606
Platform
Perl 5 v5.24.4 x86_64-linux-ld
Date
2023-06-16 00:22:06
ID
d35ad9ee-0bdb-11ee-a7ea-36e9b2f1b001
This distribution has been tested as part of the CPAN Testers
project, supporting the Perl programming language.  See
http://wiki.cpantesters.org/ for more information or email
questions to cpan-testers-discuss@perl.org


--
Dear perlancar,

This is a computer-generated report for App-perlmv-0.606
on perl 5.24.4, created by CPAN-Reporter-1.2019.

Thank you for uploading your work to CPAN.  Congratulations!
All tests were successful.

Sections of this report:

    * Tester comments
    * Program output
    * Prerequisites
    * Environment and other context

------------------------------
TESTER COMMENTS
------------------------------

Additional comments from tester:

this report is from an automated smoke testing program
and was not reviewed by a human for accuracy

------------------------------
PROGRAM OUTPUT
------------------------------

Output from '/usr/bin/make test':

PERL_DL_NONLAZY=1 "/home/sand/src/perl/repoperls/installed-perls/host/k93msid/v5.24.4/af11/bin/perl" "-MExtUtils::Command::MM" "-MTest::Harness" "-e" "undef *Test::Harness::Switches; test_harness(0, 'blib/lib', 'blib/arch')" t/*.t
t/00-compile.t ........................... ok
t/author-critic.t ........................ skipped: these tests are for testing by the author
t/author-pod-coverage.t .................. skipped: these tests are for testing by the author
t/author-pod-syntax.t .................... skipped: these tests are for testing by the author
t/cp.t ................................... ok
t/ln.t ................................... ok
t/ln_s.t ................................. ok
t/mv.t ................................... ok
t/recursive.t ............................ skipped: TODO
t/release-rinci.t ........................ skipped: these tests are for release candidate testing
ERROR: rename failed `a` -> `b/c/d`: No such file or directory
ERROR: rename failed `a` -> `b/c/d`: No such file or directory
t/rename.t ............................... ok
t/scriptlets.t ........................... ok
t/std_scriptlets-dedup-space.t ........... ok
t/std_scriptlets-keep-one-ext.t .......... ok
t/std_scriptlets-pinyin.t ................ ok
t/std_scriptlets-remove-all-ext.t ........ ok
t/std_scriptlets-remove-common-prefix.t .. ok
t/std_scriptlets-remove-common-suffix.t .. ok
t/std_scriptlets-remove-ext.t ............ ok
t/std_scriptlets-to-number-ext.t ......... ok
t/std_scriptlets-to-number.t ............. ok
t/std_scriptlets-to-timestamp-ext.t ...... ok
t/std_scriptlets-to-timestamp.t .......... ok
t/std_scriptlets-trim.t .................. ok
t/std_scriptlets-unaccent.t .............. ok
All tests successful.
Files=25, Tests=87,  6 wallclock secs ( 0.10 usr  0.02 sys +  2.97 cusr  0.76 csys =  3.85 CPU)
Result: PASS

------------------------------
PREREQUISITES
------------------------------

Prerequisite modules loaded:

requires:

    Module                   Need     Have    
    ------------------------ -------- --------
    Complete::File           0.440    0.443   
    Complete::Util           0.608    0.612   
    Cwd                      0        3.75    
    Exporter                 5.57     5.77    
    File::Copy               0        2.31    
    File::Find               0        1.34    
    File::MoreUtil           0.625    0.626   
    File::Path               2.07     2.18    
    File::Slurper            0        0.013   
    File::Spec               0        3.75    
    Getopt::Long::Complete   0        0.316   
    Module::List::Tiny       0        0.004003
    perl                     5.010001 5.024004
    strict                   0        1.11    
    vars                     0        1.03    
    warnings                 0        1.36    

build_requires:

    Module                   Need     Have    
    ------------------------ -------- --------
    ExtUtils::MakeMaker      0        7.65_02 
    File::Spec               0        3.75    
    File::Temp               0.2307   0.2311  
    FindBin                  0        1.51    
    IO::Handle               0        1.36    
    IPC::Open3               0        1.20    
    Test::Exception          0        0.43    
    Test::More               0.98     1.302191
    Test::Needs              0        0.002009

configure_requires:

    Module                   Need     Have    
    ------------------------ -------- --------
    ExtUtils::MakeMaker      0        7.65_02 

opt_requires:

    Module                   Need     Have    
    ------------------------ -------- --------
    File::HomeDir            0        1.006   
  ! Lingua::Han::PinYin      0        n/a     
    LWP::MediaTypes          0        6.04    
  ! Text::Unaccent::PurePerl 0        n/a     


------------------------------
ENVIRONMENT AND OTHER CONTEXT
------------------------------

Environment variables:

    AUTOMATED_TESTING = 1
    LANG = en_US.UTF-8
    LANGUAGE = en_US:en
    PATH = /home/sand/bin:/usr/local/bin:/usr/bin:/bin:/usr/games:/usr/local/perl/bin:/usr/X11/bin:/sbin:/usr/sbin
    PERL5LIB = 
    PERL5OPT = 
    PERL5_CPANPLUS_IS_RUNNING = 4191540
    PERL5_CPAN_IS_RUNNING = 4191540
    PERL_CANARY_STABILITY_NOPROMPT = 1
    PERL_MM_USE_DEFAULT = 1
    PERL_USE_UNSAFE_INC = 1
    SHELL = /usr/bin/zsh
    TERM = screen

Perl special variables (and OS-specific diagnostics, for MSWin32):

    $^X = /home/sand/src/perl/repoperls/installed-perls/host/k93msid/v5.24.4/af11/bin/perl
    $UID/$EUID = 1005 / 1005
    $GID = 1005 1005
    $EGID = 1005 1005

Perl module toolchain versions installed:

    Module              Have    
    ------------------- --------
    CPAN                2.33    
    CPAN::Meta          2.150010
    Cwd                 3.75    
    ExtUtils::CBuilder  0.280236
    ExtUtils::Command   7.65_02 
    ExtUtils::Install   2.22    
    ExtUtils::MakeMaker 7.65_02 
    ExtUtils::Manifest  1.75    
    ExtUtils::ParseXS   3.44    
    File::Spec          3.75    
    JSON                4.07    
    JSON::PP            4.12    
    Module::Build       0.4231  
    Module::Signature   0.88    
    Parse::CPAN::Meta   2.150010
    Test2               1.302191
    Test::Harness       3.45_01 
    Test::More          1.302191
    YAML                1.30    
    YAML::Syck          1.34    
    version             0.9929  


--

Summary of my perl5 (revision 5 version 24 subversion 4) configuration:
  Derived from: 901dd848e31de6d0cacfb77c029b4e92c41a13ce
  Platform:
    osname=linux, osvers=5.16.0-5-amd64, archname=x86_64-linux-ld
    uname='linux k93msid 5.16.0-5-amd64 #1 smp preempt debian 5.16.14-1 (2022-03-15) x86_64 gnulinux '
    config_args='-Dprefix=/home/sand/src/perl/repoperls/installed-perls/host/k93msid/v5.24.4/af11 -Dmyhostname=k93msid -Dinstallusrbinperl=n -Uversiononly -Dusedevel -des -Ui_db -Dlibswanted=cl pthread socket inet nsl gdbm dbm malloc dl ld sun m crypt sec util c cposix posix ucb BSD gdbm_compat -Uuseithreads -Duselongdouble -DEBUGGING=-g'
    hint=recommended, useposix=true, d_sigaction=define
    useithreads=undef, usemultiplicity=undef
    use64bitint=define, use64bitall=define, uselongdouble=define
    usemymalloc=n, bincompat5005=undef
  Compiler:
    cc='cc', ccflags ='-fwrapv -fno-strict-aliasing -pipe -fstack-protector-strong -I/usr/local/include -D_LARGEFILE_SOURCE -D_FILE_OFFSET_BITS=64 -D_FORTIFY_SOURCE=2',
    optimize='-O2 -g',
    cppflags='-fwrapv -fno-strict-aliasing -pipe -fstack-protector-strong -I/usr/local/include'
    ccversion='', gccversion='11.2.0', gccosandvers=''
    intsize=4, longsize=8, ptrsize=8, doublesize=8, byteorder=12345678, doublekind=3
    d_longlong=define, longlongsize=8, d_longdbl=define, longdblsize=16, longdblkind=3
    ivtype='long', ivsize=8, nvtype='long double', nvsize=16, Off_t='off_t', lseeksize=8
    alignbytes=16, prototype=define
  Linker and Libraries:
    ld='cc', ldflags =' -fstack-protector-strong -L/usr/local/lib'
    libpth=/usr/local/lib /usr/include/x86_64-linux-gnu /usr/lib /lib/x86_64-linux-gnu /lib/../lib /usr/lib/x86_64-linux-gnu /usr/lib/../lib /lib
    libs=-lpthread -lnsl -ldl -lm -lcrypt -lutil -lc
    perllibs=-lpthread -lnsl -ldl -lm -lcrypt -lutil -lc
    libc=libc-2.33.so, so=so, useshrplib=false, libperl=libperl.a
    gnulibc_version='2.33'
  Dynamic Linking:
    dlsrc=dl_dlopen.xs, dlext=so, d_dlsymun=undef, ccdlflags='-Wl,-E'
    cccdlflags='-fPIC', lddlflags='-shared -O2 -g -L/usr/local/lib -fstack-protector-strong'


Characteristics of this binary (from libperl): 
  Compile-time options: HAS_TIMES PERLIO_LAYERS PERL_COPY_ON_WRITE
                        PERL_DONT_CREATE_GVSV
                        PERL_HASH_FUNC_ONE_AT_A_TIME_HARD PERL_MALLOC_WRAP
                        PERL_PRESERVE_IVUV PERL_USE_DEVEL USE_64_BIT_ALL
                        USE_64_BIT_INT USE_LARGE_FILES USE_LOCALE
                        USE_LOCALE_COLLATE USE_LOCALE_CTYPE
                        USE_LOCALE_NUMERIC USE_LOCALE_TIME USE_LONG_DOUBLE
                        USE_PERLIO USE_PERL_ATOF
  Locally applied patches:
	uncommitted-changes
  Built under linux
  Compiled at Mar 19 2022 09:02:29
  %ENV:
    PERL5LIB=""
    PERL5OPT=""
    PERL5_CPANPLUS_IS_RUNNING="4191540"
    PERL5_CPAN_IS_RUNNING="4191540"
    PERL_CANARY_STABILITY_NOPROMPT="1"
    PERL_MM_USE_DEFAULT="1"
    PERL_USE_UNSAFE_INC="1"
  @INC:
    /home/sand/src/perl/repoperls/installed-perls/host/k93msid/v5.24.4/af11/lib/site_perl/5.24.4/x86_64-linux-ld
    /home/sand/src/perl/repoperls/installed-perls/host/k93msid/v5.24.4/af11/lib/site_perl/5.24.4
    /home/sand/src/perl/repoperls/installed-perls/host/k93msid/v5.24.4/af11/lib/5.24.4/x86_64-linux-ld
    /home/sand/src/perl/repoperls/installed-perls/host/k93msid/v5.24.4/af11/lib/5.24.4
    .