Back
From: metabase:user:320bfe00-2aae-11df-837a-5e0a49663a4f
Subject: PASS Test-LWP-Recorder-0.1.1 v5.25.7 GNU/Linux
Date: 2016-11-04T02:31:44Z
This distribution has been tested as part of the CPAN Testers
project, supporting the Perl programming language. See
http://wiki.cpantesters.org/ for more information or email
questions to cpan-testers-discuss@perl.org
--
Dear Edward J. Allen III,
This is a computer-generated report for Test-LWP-Recorder-0.1.1
on perl 5.25.7, created by CPAN-Reporter-1.2018.
Thank you for uploading your work to CPAN. Congratulations!
All tests were successful.
Sections of this report:
* Tester comments
* Program output
* Prerequisites
* Environment and other context
------------------------------
TESTER COMMENTS
------------------------------
Additional comments from tester:
this report is from an automated smoke testing program
and was not reviewed by a human for accuracy
------------------------------
PROGRAM OUTPUT
------------------------------
Output from './Build test':
t/00-compile.t ................ ok
#
#
# perl: v5.25.7 (wanted 5.006) on linux from /tmp/basesmoker-reloperl-Mtjd/bin/perl
#
# Carp => 1.42 (want any version)
# Digest::MD5 => 2.55 (want any version)
# File::Find => 1.34 (want any version)
# File::Slurp => 9999.19 (want any version)
# File::Spec => 3.65 (want any version)
# File::Temp => 0.2304 (want any version)
# HTTP::Response => 6.11 (want any version)
# HTTP::Status => 6.11 (want any version)
# LWP::UserAgent => 6.15 (want any version)
# LWPx::Record::DataSection => 0.01 (want any version)
# List::Util => 1.4601 (want any version)
# Module::Build => 0.422 (want 0.3601)
# Pod::Coverage::TrustPod => 0.100003 (want any version)
# Test::More => 1.302062 (want 0.88)
# Test::Pod => 1.51 (want 1.41)
# Test::Pod::Coverage => 1.10 (want 1.08)
# base => 2.24 (want any version)
# lib => 0.63 (want any version)
# strict => 1.11 (want any version)
# warnings => 1.37 (want any version)
#
# Thanks for using my code. I hope it works for you.
# If not, please try and include this output in the bug report.
# That will help me reproduce the issue and solve you problem.
#
t/000-report-versions-tiny.t .. ok
t/author-critic.t ............. skipped: these tests are for testing by the author
t/author-pod-spell.t .......... skipped: these tests are for testing by the author
t/lwpxtest.t .................. ok
t/lwpxtest_02.t ............... ok
t/release-pod-coverage.t ...... skipped: these tests are for release candidate testing
t/release-pod-linkcheck.t ..... skipped: these tests are for release candidate testing
t/release-pod-syntax.t ........ skipped: these tests are for release candidate testing
All tests successful.
Files=9, Tests=14, 1 wallclock secs ( 0.03 usr 0.02 sys + 0.95 cusr 0.08 csys = 1.08 CPU)
Result: PASS
------------------------------
PREREQUISITES
------------------------------
Prerequisite modules loaded:
requires:
Module Need Have
------------------------- ------ --------
base 0 2.24
Carp 0 1.42
Digest::MD5 0 2.55
File::Slurp 0 9999.19
File::Spec 0 3.65
HTTP::Response 0 6.11
HTTP::Status 0 6.11
List::Util 0 1.46_01
LWP::UserAgent 0 6.15
perl 5.006 5.025007
strict 0 1.11
warnings 0 1.37
build_requires:
Module Need Have
------------------------- ------ --------
File::Find 0 1.34
File::Temp 0 0.2304
lib 0 0.63
LWPx::Record::DataSection 0 0.01
Module::Build 0.3601 0.4220
Test::More 0.88 1.302062
configure_requires:
Module Need Have
------------------------- ------ --------
Module::Build 0.3601 0.4220
------------------------------
ENVIRONMENT AND OTHER CONTEXT
------------------------------
Environment variables:
AUTOMATED_TESTING = 1
LANG = en_US.UTF-8
LANGUAGE = en_US:en
PATH = /home/sand/bin:/usr/local/bin:/usr/bin:/bin:/usr/games:/usr/local/perl/bin:/usr/X11/bin:/sbin:/usr/sbin
PERL5LIB = /tmp/loop_over_bdir-24155-AKLVW_/FusionInventory-Agent-2.3.18-0/blib/arch:/tmp/loop_over_bdir-24155-AKLVW_/FusionInventory-Agent-2.3.18-0/blib/lib
PERL5OPT =
PERL5_CPANPLUS_IS_RUNNING = 7573
PERL5_CPAN_IS_RUNNING = 7573
PERL_CANARY_STABILITY_NOPROMPT = 1
PERL_MM_USE_DEFAULT = 1
SHELL = /usr/bin/zsh
TERM = screen
Perl special variables (and OS-specific diagnostics, for MSWin32):
$^X = /tmp/basesmoker-reloperl-Mtjd/bin/perl
$UID/$EUID = 1005 / 1005
$GID = 1005 1005
$EGID = 1005 1005
Perl module toolchain versions installed:
Module Have
------------------- ----------
CPAN 2.15
CPAN::Meta 2.150010
Cwd 3.65
ExtUtils::CBuilder 0.280225
ExtUtils::Command 7.24
ExtUtils::Install 2.04
ExtUtils::MakeMaker 7.24
ExtUtils::Manifest 1.70
ExtUtils::ParseXS 3.33
File::Spec 3.65
JSON 2.90
JSON::PP 2.27400_02
Module::Build 0.4220
Module::Signature 0.81
Parse::CPAN::Meta 2.150010
Test::Harness 3.36_01
Test::More 1.302062
YAML 1.18
YAML::Syck 1.29
version 0.9917
--
Summary of my perl5 (revision 5 version 25 subversion 7) configuration:
Commit id: ea3ffa52d4da2260b940cb269b4e4f51ecd6bc7b
Platform:
osname=linux
osvers=4.7.0-1-amd64
archname=x86_64-linux-thread-multi-ld
uname='linux k83 4.7.0-1-amd64 #1 smp debian 4.7.8-1 (2016-10-19) x86_64 gnulinux '
config_args='-Dprefix=/home/sand/src/perl/repoperls/installed-perls/perl/v5.25.6-151-gea3ffa5/109d -Dmyhostname=k83 -Dinstallusrbinperl=n -Uversiononly -Dusedevel -des -Ui_db -Dlibswanted=cl pthread socket inet nsl gdbm dbm malloc dl ld sun m crypt sec util c cposix posix ucb BSD gdbm_compat -Duseithreads -Duselongdouble -DDEBUGGING=-g'
hint=recommended
useposix=true
d_sigaction=define
useithreads=define
usemultiplicity=define
use64bitint=define
use64bitall=define
uselongdouble=define
usemymalloc=n
bincompat5005=undef
Compiler:
cc='cc'
ccflags ='-D_REENTRANT -D_GNU_SOURCE -fwrapv -fno-strict-aliasing -pipe -fstack-protector-strong -I/usr/local/include -D_LARGEFILE_SOURCE -D_FILE_OFFSET_BITS=64'
optimize='-O2 -g'
cppflags='-D_REENTRANT -D_GNU_SOURCE -fwrapv -fno-strict-aliasing -pipe -fstack-protector-strong -I/usr/local/include'
ccversion=''
gccversion='6.2.0 20160830'
gccosandvers=''
intsize=4
longsize=8
ptrsize=8
doublesize=8
byteorder=12345678
doublekind=3
d_longlong=define
longlongsize=8
d_longdbl=define
longdblsize=16
longdblkind=3
ivtype='long'
ivsize=8
nvtype='long double'
nvsize=16
Off_t='off_t'
lseeksize=8
alignbytes=16
prototype=define
Linker and Libraries:
ld='cc'
ldflags =' -fstack-protector-strong -L/usr/local/lib'
libpth=/usr/local/lib /usr/lib/gcc/x86_64-linux-gnu/6/include-fixed /usr/include/x86_64-linux-gnu /usr/lib /lib/x86_64-linux-gnu /lib/../lib /usr/lib/x86_64-linux-gnu /usr/lib/../lib /lib
libs=-lpthread -lnsl -lgdbm -ldl -lm -lcrypt -lutil -lc -lgdbm_compat
perllibs=-lpthread -lnsl -ldl -lm -lcrypt -lutil -lc
libc=libc-2.24.so
so=so
useshrplib=false
libperl=libperl.a
gnulibc_version='2.24'
Dynamic Linking:
dlsrc=dl_dlopen.xs
dlext=so
d_dlsymun=undef
ccdlflags='-Wl,-E'
cccdlflags='-fPIC'
lddlflags='-shared -O2 -g -L/usr/local/lib -fstack-protector-strong'
Characteristics of this binary (from libperl):
Compile-time options:
HAS_TIMES
MULTIPLICITY
PERLIO_LAYERS
PERL_COPY_ON_WRITE
PERL_DONT_CREATE_GVSV
PERL_HASH_FUNC_ONE_AT_A_TIME_HARD
PERL_IMPLICIT_CONTEXT
PERL_MALLOC_WRAP
PERL_OP_PARENT
PERL_PRESERVE_IVUV
PERL_USE_DEVEL
USE_64_BIT_ALL
USE_64_BIT_INT
USE_ITHREADS
USE_LARGE_FILES
USE_LOCALE
USE_LOCALE_COLLATE
USE_LOCALE_CTYPE
USE_LOCALE_NUMERIC
USE_LOCALE_TIME
USE_LONG_DOUBLE
USE_PERLIO
USE_PERL_ATOF
USE_REENTRANT_API
Built under linux
Compiled at Nov 3 2016 01:44:38
%ENV:
PERL5LIB="/tmp/loop_over_bdir-24155-AKLVW_/FusionInventory-Agent-2.3.18-0/blib/arch:/tmp/loop_over_bdir-24155-AKLVW_/FusionInventory-Agent-2.3.18-0/blib/lib"
PERL5OPT=""
PERL5_CPANPLUS_IS_RUNNING="7573"
PERL5_CPAN_IS_RUNNING="7573"
PERL_CANARY_STABILITY_NOPROMPT="1"
PERL_MM_USE_DEFAULT="1"
@INC:
/tmp/loop_over_bdir-24155-AKLVW_/FusionInventory-Agent-2.3.18-0/blib/arch
/tmp/loop_over_bdir-24155-AKLVW_/FusionInventory-Agent-2.3.18-0/blib/lib
/home/sand/src/perl/repoperls/installed-perls/perl/v5.25.6-151-gea3ffa5/109d/lib/site_perl/5.25.7/x86_64-linux-thread-multi-ld
/home/sand/src/perl/repoperls/installed-perls/perl/v5.25.6-151-gea3ffa5/109d/lib/site_perl/5.25.7
/home/sand/src/perl/repoperls/installed-perls/perl/v5.25.6-151-gea3ffa5/109d/lib/5.25.7/x86_64-linux-thread-multi-ld
/home/sand/src/perl/repoperls/installed-perls/perl/v5.25.6-151-gea3ffa5/109d/lib/5.25.7
.