Back
From: metabase:user:838e5b0a-2bb6-1016-a696-43a2537fa0c6
Subject: PASS MRS-Client-0.600100 v5.12.3
Date: 2012-03-13T16:43:41Z
This distribution has been tested as part of the CPAN Testers
project, supporting the Perl programming language. See
http://wiki.cpantesters.org/ for more information or email
questions to cpan-testers-discuss@perl.org
--
Dear Martin Senger,
This is a computer-generated report for MRS-Client-0.600100
on perl 5.12.3, created by CPAN-Reporter-1.2005.
Thank you for uploading your work to CPAN. Congratulations!
All tests were successful.
Sections of this report:
* Tester comments
* Program output
* Prerequisites
* Environment and other context
------------------------------
TESTER COMMENTS
------------------------------
Additional comments from tester:
this report is from an automated smoke testing program
and was not reviewed by a human for accuracy
------------------------------
PROGRAM OUTPUT
------------------------------
Output from 'C:\strawberry\c\bin\dmake.EXE test':
C:\strawberry\perl\bin\perl.exe "-MExtUtils::Command::MM" "-e" "test_harness(0, 'blib\lib', 'blib\arch')" t/*.t
t/00-compile.t .......... ok
# Testing MRS::Client 0.600100, Perl v5.12.3, C:\STRAWB~1\perl\bin\perl.exe
t/00-load.t ............. ok
# Data manipulation
t/01-data.t ............. ok
# Setting host and endpoints
t/02-endpoint.t ......... ok
# Calling MRS services
t/03-network.t .......... ok
# Manipulation of hyperlinks
t/04-links.t ............ ok
t/author-critic.t ....... skipped: these tests are for testing by the author
t/author-pod-spell.t .... skipped: these tests are for testing by the author
t/release-distmeta.t .... skipped: these tests are for release candidate testing
t/release-eol.t ......... skipped: these tests are for release candidate testing
t/release-no-tabs.t ..... skipped: these tests are for release candidate testing
t/release-pod-syntax.t .. skipped: these tests are for release candidate testing
All tests successful.
Files=12, Tests=143, 11 wallclock secs ( 0.16 usr + 0.13 sys = 0.28 CPU)
Result: PASS
------------------------------
PREREQUISITES
------------------------------
Prerequisite modules loaded:
requires:
Module Need Have
--------------------------------- ---- -----
base 0 2.15
Carp 0 1.25
constant 0 1.21
File::Basename 0 2.78
FindBin 0 1.50
Getopt::Std 0 1.06
Math::BigInt 0 1.997
overload 0 1.10
strict 0 1.04
vars 0 1.01
warnings 0 1.09
XML::Compile::SOAP11 2.26 2.26
XML::Compile::Transport::SOAPHTTP 0 2.26
XML::Compile::WSDL11 0 2.26
build_requires:
Module Need Have
--------------------------------- ---- -----
English 0 1.04
File::Find 0 1.15
File::Spec 0 3.33
File::Temp 0 0.22
Test::More 0 0.98
Test::Requires 0 0.06
configure_requires:
Module Need Have
--------------------------------- ---- -----
ExtUtils::MakeMaker 6.30 6.62
------------------------------
ENVIRONMENT AND OTHER CONTEXT
------------------------------
Environment variables:
AUTOMATED_TESTING = 1
COMSPEC = C:\Windows\system32\cmd.exe
NUMBER_OF_PROCESSORS = 8
PATH = C:\Program Files\MiKTeX\2.9\miktex\bin;C:\Windows\system32;C:\Windows;C:\Windows\System32\Wbem;C:\Windows\System32\WindowsPowerShell\v1.0\;C:\rv\BIN;c:\Program Files\Microsoft SQL Server\100\Tools\Binn\;c:\Program Files\Microsoft SQL Server\100\DTS\Binn\;C:\strawberry\c\bin;C:\strawberry\perl\site\bin;C:\strawberry\perl\bin;C:\Program Files\Common Files\Roxio Shared\9.0\DLLShared\;C:\Program Files\Microsoft SQL Server\100\Tools\Binn\VSShell\Common7\IDE\;C:\Program Files\Microsoft Visual Studio 9.0\Common7\IDE\PrivateAssemblies\;C:\Program Files\ooRexx;C:\Program Files\Microsoft SQL Server\80\Tools\Binn\;C:\Program Files\Microsoft SQL Server\90\Tools\binn\;C:\Program Files\Microsoft SQL Server\90\DTS\Binn\;C:\Program Files\Microsoft SQL Server\90\Tools\Binn\VSShell\Common7\IDE\;C:\Program Files\Microsoft Visual Studio 8\Common7\IDE\PrivateAssemblies\;C:\Program Files\TortoiseSVN\bin
PERL5LIB = C:\strawberry\cpan\build\XML-Compile-SOAP-2.26-l9pAaW/blib/arch;C:\strawberry\cpan\build\XML-Compile-SOAP-2.26-l9pAaW/blib/lib;C:\strawberry\cpan\build\XML-Compile-Cache-0.991-fZyd_N/blib/arch;C:\strawberry\cpan\build\XML-Compile-Cache-0.991-fZyd_N/blib/lib;C:\strawberry\cpan\build\XML-LibXML-Simple-0.91-tq31U5/blib/arch;C:\strawberry\cpan\build\XML-LibXML-Simple-0.91-tq31U5/blib/lib;C:\strawberry\cpan\build\XML-Compile-1.25-LWcvEE/blib/arch;C:\strawberry\cpan\build\XML-Compile-1.25-LWcvEE/blib/lib;C:\strawberry\cpan\build\XML-Compile-Tester-0.06-tBwLX5/blib/arch;C:\strawberry\cpan\build\XML-Compile-Tester-0.06-tBwLX5/blib/lib;C:\strawberry\cpan\build\Log-Report-0.94-XFznvf/blib/arch;C:\strawberry\cpan\build\Log-Report-0.94-XFznvf/blib/lib;C:\strawberry\cpan\build\Sys-Syslog-0.29-ec0d7d/blib/arch;C:\strawberry\cpan\build\Sys-Syslog-0.29-ec0d7d/blib/lib
PERL5OPT =
PERL5_CPANPLUS_IS_RUNNING = 10196
PERL5_CPAN_IS_RUNNING = 10196
PERL5_CPAN_IS_RUNNING_IN_RECURSION = 11700,10196
PERL_CR_SMOKER_CURRENT = MRS-Client-0.600100
PERL_EXTUTILS_AUTOINSTALL = --defaultdeps
PERL_JSON_BACKEND = JSON::XS
PERL_MM_USE_DEFAULT = 1
PERL_YAML_BACKEND = YAML
PROCESSOR_IDENTIFIER = x86 Family 6 Model 23 Stepping 6, GenuineIntel
TEMP = C:\Users\DSOLIM~1\AppData\Local\Temp
TERM = dumb
Perl special variables (and OS-specific diagnostics, for MSWin32):
$^X = C:\strawberry\perl\bin\perl.exe
$UID/$EUID = 0 / 0
$GID = 0
$EGID = 0
Win32::GetOSName = Win7
Win32::GetOSVersion = Service Pack 1, 6, 1, 7601, 2, 1, 0, 256, 1
Win32::FsType = NTFS
Win32::IsAdminUser = 1
Perl module toolchain versions installed:
Module Have
------------------- --------
CPAN 1.9800
CPAN::Meta 2.120630
Cwd 3.33
ExtUtils::CBuilder 0.280205
ExtUtils::Command 1.17
ExtUtils::Install 1.55
ExtUtils::MakeMaker 6.62
ExtUtils::Manifest 1.60
ExtUtils::ParseXS 3.15
File::Spec 3.33
JSON 2.53
JSON::PP 2.27200
Module::Build 0.40
Module::Signature 0.66
Parse::CPAN::Meta 1.4401
Test::Harness 3.23
Test::More 0.98
YAML 0.80
YAML::Syck n/a
version 0.96
--
Summary of my perl5 (revision 5 version 12 subversion 3) configuration:
Platform:
osname=MSWin32, osvers=5.1, archname=MSWin32-x86-multi-thread
uname='Win32 strawberryperl 5.12.3.0 #1 Sun May 15 09:44:53 2011 i386'
config_args='undef'
hint=recommended, useposix=true, d_sigaction=undef
useithreads=define, usemultiplicity=define
useperlio=define, d_sfio=undef, uselargefiles=define, usesocks=undef
use64bitint=undef, use64bitall=undef, uselongdouble=undef
usemymalloc=n, bincompat5005=undef
Compiler:
cc='gcc', ccflags =' -s -O2 -DWIN32 -DHAVE_DES_FCRYPT -DUSE_SITECUSTOMIZE -DPERL_IMPLICIT_CONTEXT -DPERL_IMPLICIT_SYS -fno-strict-aliasing -mms-bitfields -DPERL_MSVCRT_READFIX',
optimize='-s -O2',
cppflags='-DWIN32'
ccversion='', gccversion='4.4.3', gccosandvers=''
intsize=4, longsize=4, ptrsize=4, doublesize=8, byteorder=1234
d_longlong=undef, longlongsize=8, d_longdbl=define, longdblsize=12
ivtype='long', ivsize=4, nvtype='double', nvsize=8, Off_t='long long', lseeksize=8
alignbytes=8, prototype=define
Linker and Libraries:
ld='g++', ldflags ='-s -L"C:\strawberry\perl\lib\CORE" -L"C:\strawberry\c\lib"'
libpth=C:\strawberry\c\lib C:\strawberry\c\i686-w64-mingw32\lib
libs=-lmoldname -lkernel32 -luser32 -lgdi32 -lwinspool -lcomdlg32 -ladvapi32 -lshell32 -lole32 -loleaut32 -lnetapi32 -luuid -lws2_32 -lmpr -lwinmm -lversion -lodbc32 -lodbccp32 -lcomctl32
perllibs=-lmoldname -lkernel32 -luser32 -lgdi32 -lwinspool -lcomdlg32 -ladvapi32 -lshell32 -lole32 -loleaut32 -lnetapi32 -luuid -lws2_32 -lmpr -lwinmm -lversion -lodbc32 -lodbccp32 -lcomctl32
libc=, so=dll, useshrplib=true, libperl=libperl512.a
gnulibc_version=''
Dynamic Linking:
dlsrc=dl_win32.xs, dlext=dll, d_dlsymun=undef, ccdlflags=' '
cccdlflags=' ', lddlflags='-mdll -s -L"C:\strawberry\perl\lib\CORE" -L"C:\strawberry\c\lib"'
Characteristics of this binary (from libperl):
Compile-time options: MULTIPLICITY PERL_DONT_CREATE_GVSV
PERL_IMPLICIT_CONTEXT PERL_IMPLICIT_SYS
PERL_MALLOC_WRAP PL_OP_SLAB_ALLOC USE_ITHREADS
USE_LARGE_FILES USE_PERLIO USE_PERL_ATOF
USE_SITECUSTOMIZE
Built under MSWin32
Compiled at May 15 2011 17:02:01
%ENV:
PERL5LIB="C:\strawberry\cpan\build\XML-Compile-SOAP-2.26-l9pAaW/blib/arch;C:\strawberry\cpan\build\XML-Compile-SOAP-2.26-l9pAaW/blib/lib;C:\strawberry\cpan\build\XML-Compile-Cache-0.991-fZyd_N/blib/arch;C:\strawberry\cpan\build\XML-Compile-Cache-0.991-fZyd_N/blib/lib;C:\strawberry\cpan\build\XML-LibXML-Simple-0.91-tq31U5/blib/arch;C:\strawberry\cpan\build\XML-LibXML-Simple-0.91-tq31U5/blib/lib;C:\strawberry\cpan\build\XML-Compile-1.25-LWcvEE/blib/arch;C:\strawberry\cpan\build\XML-Compile-1.25-LWcvEE/blib/lib;C:\strawberry\cpan\build\XML-Compile-Tester-0.06-tBwLX5/blib/arch;C:\strawberry\cpan\build\XML-Compile-Tester-0.06-tBwLX5/blib/lib;C:\strawberry\cpan\build\Log-Report-0.94-XFznvf/blib/arch;C:\strawberry\cpan\build\Log-Report-0.94-XFznvf/blib/lib;C:\strawberry\cpan\build\Sys-Syslog-0.29-ec0d7d/blib/arch;C:\strawberry\cpan\build\Sys-Syslog-0.29-ec0d7d/blib/lib"
PERL5_CPANPLUS_IS_RUNNING="10196"
PERL5_CPAN_IS_RUNNING="10196"
PERL5_CPAN_IS_RUNNING_IN_RECURSION="11700,10196"
PERL_CR_SMOKER_CURRENT="MRS-Client-0.600100"
PERL_EXTUTILS_AUTOINSTALL="--defaultdeps"
PERL_JSON_BACKEND="JSON::XS"
PERL_MM_USE_DEFAULT="1"
PERL_YAML_BACKEND="YAML"
@INC:
C:\strawberry\cpan\build\XML-Compile-SOAP-2.26-l9pAaW/blib/arch
C:\strawberry\cpan\build\XML-Compile-SOAP-2.26-l9pAaW/blib/lib
C:\strawberry\cpan\build\XML-Compile-Cache-0.991-fZyd_N/blib/arch
C:\strawberry\cpan\build\XML-Compile-Cache-0.991-fZyd_N/blib/lib
C:\strawberry\cpan\build\XML-LibXML-Simple-0.91-tq31U5/blib/arch
C:\strawberry\cpan\build\XML-LibXML-Simple-0.91-tq31U5/blib/lib
C:\strawberry\cpan\build\XML-Compile-1.25-LWcvEE/blib/arch
C:\strawberry\cpan\build\XML-Compile-1.25-LWcvEE/blib/lib
C:\strawberry\cpan\build\XML-Compile-Tester-0.06-tBwLX5/blib/arch
C:\strawberry\cpan\build\XML-Compile-Tester-0.06-tBwLX5/blib/lib
C:\strawberry\cpan\build\Log-Report-0.94-XFznvf/blib/arch
C:\strawberry\cpan\build\Log-Report-0.94-XFznvf/blib/lib
C:\strawberry\cpan\build\Sys-Syslog-0.29-ec0d7d/blib/arch
C:\strawberry\cpan\build\Sys-Syslog-0.29-ec0d7d/blib/lib
C:/strawberry/perl/site/lib
C:/strawberry/perl/vendor/lib
C:/strawberry/perl/lib
.