Report for Data-FormValidator-4.81

Back
From: metabase:user:30ae4450-2aae-11df-837a-5e0a49663a4f
Subject: PASS Data-FormValidator-4.81 v5.18.2 
Date: 2014-03-14T18:54:43Z

This distribution has been tested as part of the CPAN Testers
project, supporting the Perl programming language.  See
http://wiki.cpantesters.org/ for more information or email
questions to cpan-testers-discuss@perl.org


--
Dear Mark Stosberg,

This is a computer-generated report for Data-FormValidator-4.81
on perl 5.18.2, created by CPAN-Reporter-1.2010_01.

Thank you for uploading your work to CPAN.  Congratulations!
All tests were successful.

Sections of this report:

    * Tester comments
    * Program output
    * Prerequisites
    * Environment and other context

------------------------------
TESTER COMMENTS
------------------------------

Additional comments from tester:

this report is from an automated smoke testing program
and was not reviewed by a human for accuracy

------------------------------
PROGRAM OUTPUT
------------------------------

Output from 'C:\strawberry182\perl\bin\perl.exe ./Build test':

t\00_base.t .............................. ok
t\02_code_ref.t .......................... ok
t\03_dependency.t ........................ ok
t\04_arrayify_undef.t .................... ok
t\05_valid_ip_address.t .................. ok
t\06_regexp_map.t ........................ ok
t\09_require_some.t ...................... ok
t\11_procedural_match.t .................. ok
t\13_validator_packages.t ................ ok
t\15_literal_param_constraints.t ......... ok
t\16_cgi_object.t ........................ ok
t\17_multi_valued_keys.t ................. ok
t\18_constraint_refs.t ................... ok
t\19_refs_as_values.t .................... ok
t\20_careful_exception_handling.t ........ ok
t\21_multiple_fields.t ................... ok
t\25_results.t ........................... ok
t\26_qr.t ................................ ok
t\27_qualify_ref_happy_death.t ........... ok
t\28_defaults_for_new.t .................. ok
t\30_filter_definedness.t ................ ok
t\FV_length.t ............................ ok
t\any_errors.t ........................... ok
t\check_profile_syntax.t ................. ok
t\closure_msgs.t ......................... ok
t\constraint_method.t .................... ok
t\constraint_method_string.t ............. ok
t\constraint_method_zero.t ............... ok
t\constraint_regexp_map_profile_reuse.t .. ok
t\constraints_builtin.t .................. ok
t\constraints_builtin_closure.t .......... ok
t\constraints_factory.t .................. ok
t\constraints_invalid_once_only.t ........ ok
t\constraints_num_values.t ............... ok
t\constraints_regexp_map_interaction.t ... ok
t\constraints_reuse.t .................... ok
t\credit_card.t .......................... ok
t\dates.t ................................ ok
t\dates_closure.t ........................ ok
t\dependency_coderef.t ................... ok
t\dependency_groups.t .................... ok
t\filter_constraints.t ................... ok
t\filters_builtin.t ...................... ok
t\filters_shouldnt_modify.t .............. ok
t\get_filtered_data.t .................... ok
t\get_input_data.t ....................... ok
t\missing_optional.t ..................... ok
t\msgs.t ................................. ok
t\multiple_constraints.t ................. ok
t\params_not_mentioned.t ................. ok
t\pod.t .................................. ok
t\procedural_valid.t ..................... ok
t\profile_checking.t ..................... ok
t\regexp_common.t ........................ ok
t\regexp_common_closure.t ................ ok
t\rename_builtin_constraints.t ........... ok
t\results_success.t ...................... ok
t\simple.t ............................... ok
t\tt_and_overload.t ...................... ok
t\undefined_arrayref.t ................... ok
t\unknown.t .............................. ok
t\untaint.t .............................. ok
# Adding CGI::Simple tests
# testing with CGI.pm version: 3.64
# testing with CGI::Simple version: 1.113
# Running tests with CGI
# Running tests with CGI::Simple
t\upload.t ............................... ok
# testing with CGI.pm version: 3.64
t\upload_closure.t ....................... ok
t\upload_mime_types.t .................... ok
All tests successful.
Files=65, Tests=631, 12 wallclock secs ( 0.09 usr +  0.33 sys =  0.42 CPU)
Result: PASS

------------------------------
PREREQUISITES
------------------------------

Prerequisite modules loaded:

requires:

    Module          Need  Have      
    --------------- ----- ----------
    Date::Calc      5     6.3       
    Email::Valid    0     1.192     
    File::MMagic    1.17  1.30      
    Image::Size     0     3.232     
    MIME::Types     1.005 2.04      
    overload        0     1.22      
    perl            5.008 5.018002  
    Perl6::Junction 1.1   1.60000   
    Regexp::Common  0     2013031301
    Scalar::Util    0     1.35      
    Test::More      0     1.001002  

build_requires:

    Module          Need  Have      
    --------------- ----- ----------
    CGI             3.48  3.64      

configure_requires:

    Module          Need  Have      
    --------------- ----- ----------
    Module::Build   0.38  0.4203    


------------------------------
ENVIRONMENT AND OTHER CONTEXT
------------------------------

Environment variables:

    AUTOMATED_TESTING = 1
    COMSPEC = C:\WINDOWS\system32\cmd.exe
    NUMBER_OF_PROCESSORS = 1
    PATH = C:\Program Files\Far Manager\;C:\WINDOWS\system32;C:\WINDOWS;C:\WINDOWS\System32\Wbem;C:\strawberry182\c\bin;C:\strawberry182\perl\site\bin;C:\strawberry182\perl\bin
    PERL5LIB = 
    PERL5OPT = 
    PERL5_CPANPLUS_IS_RUNNING = 1776
    PERL5_CPAN_IS_RUNNING = 1776
    PERL5_CPAN_IS_RUNNING_IN_RECURSION = 1948,1640,1776
    PERL_EXTUTILS_AUTOINSTALL = --defaultdeps
    PERL_MM_USE_DEFAULT = 1
    PROCESSOR_IDENTIFIER = x86 Family 16 Model 5 Stepping 3, AuthenticAMD
    TEMP = C:\DOCUME~1\c\LOCALS~1\Temp
    TERM = dumb

Perl special variables (and OS-specific diagnostics, for MSWin32):

    $^X = C:\strawberry182\perl\bin\perl.exe
    $UID/$EUID = 0 / 0
    $GID = 0
    $EGID = 0
    Win32::GetOSName = WinXP/.Net
    Win32::GetOSVersion = Service Pack 3, 5, 1, 2600, 2, 3, 0, 256, 1
    Win32::FsType = NTFS
    Win32::IsAdminUser = 1

Perl module toolchain versions installed:

    Module              Have    
    ------------------- --------
    CPAN                2.00    
    CPAN::Meta          2.133380
    Cwd                 3.40    
    ExtUtils::CBuilder  0.280212
    ExtUtils::Command   1.18    
    ExtUtils::Install   1.59    
    ExtUtils::MakeMaker 6.84    
    ExtUtils::Manifest  1.63    
    ExtUtils::ParseXS   3.22    
    File::Spec          3.40    
    JSON                2.90    
    JSON::PP            2.27203 
    Module::Build       0.4203  
    Module::Signature   n/a     
    Parse::CPAN::Meta   1.4409  
    Test::Harness       3.30    
    Test::More          1.001002
    YAML                0.90    
    YAML::Syck          1.27    
    version             0.9904  


--

Summary of my perl5 (revision 5 version 18 subversion 2) configuration:
   
  Platform:
    osname=MSWin32, osvers=6.2, archname=MSWin32-x86-multi-thread
    uname='Win32 strawberry-perl-no64 5.18.2.1 #1 Tue Jan  7 19:43:33 2014 i386'
    config_args='undef'
    hint=recommended, useposix=true, d_sigaction=undef
    useithreads=define, usemultiplicity=define
    useperlio=define, d_sfio=undef, uselargefiles=define, usesocks=undef
    use64bitint=undef, use64bitall=undef, uselongdouble=undef
    usemymalloc=n, bincompat5005=undef
  Compiler:
    cc='gcc', ccflags =' -s -O2 -DWIN32  -DPERL_TEXTMODE_SCRIPTS -DPERL_IMPLICIT_CONTEXT -DPERL_IMPLICIT_SYS -DUSE_PERLIO -fno-strict-aliasing -mms-bitfields',
    optimize='-s -O2',
    cppflags='-DWIN32'
    ccversion='', gccversion='4.7.3', gccosandvers=''
    intsize=4, longsize=4, ptrsize=4, doublesize=8, byteorder=1234
    d_longlong=define, longlongsize=8, d_longdbl=define, longdblsize=12
    ivtype='long', ivsize=4, nvtype='double', nvsize=8, Off_t='long long', lseeksize=8
    alignbytes=8, prototype=define
  Linker and Libraries:
    ld='g++', ldflags ='-s -L"C:\strawberry182\perl\lib\CORE" -L"C:\strawberry182\c\lib"'
    libpth=C:\strawberry182\c\lib C:\strawberry182\c\i686-w64-mingw32\lib C:\strawberry182\c\lib\gcc\i686-w64-mingw32\4.7.3
    libs=-lmoldname -lkernel32 -luser32 -lgdi32 -lwinspool -lcomdlg32 -ladvapi32 -lshell32 -lole32 -loleaut32 -lnetapi32 -luuid -lws2_32 -lmpr -lwinmm -lversion -lodbc32 -lodbccp32 -lcomctl32
    perllibs=-lmoldname -lkernel32 -luser32 -lgdi32 -lwinspool -lcomdlg32 -ladvapi32 -lshell32 -lole32 -loleaut32 -lnetapi32 -luuid -lws2_32 -lmpr -lwinmm -lversion -lodbc32 -lodbccp32 -lcomctl32
    libc=, so=dll, useshrplib=true, libperl=libperl518.a
    gnulibc_version=''
  Dynamic Linking:
    dlsrc=dl_win32.xs, dlext=dll, d_dlsymun=undef, ccdlflags=' '
    cccdlflags=' ', lddlflags='-mdll -s -L"C:\strawberry182\perl\lib\CORE" -L"C:\strawberry182\c\lib"'


Characteristics of this binary (from libperl): 
  Compile-time options: HAS_TIMES HAVE_INTERP_INTERN MULTIPLICITY
                        PERLIO_LAYERS PERL_DONT_CREATE_GVSV
                        PERL_HASH_FUNC_ONE_AT_A_TIME_HARD
                        PERL_IMPLICIT_CONTEXT PERL_IMPLICIT_SYS
                        PERL_MALLOC_WRAP PERL_PRESERVE_IVUV PERL_SAWAMPERSAND
                        USE_ITHREADS USE_LARGE_FILES USE_LOCALE
                        USE_LOCALE_COLLATE USE_LOCALE_CTYPE
                        USE_LOCALE_NUMERIC USE_PERLIO USE_PERL_ATOF
  Built under MSWin32
  Compiled at Jan  7 2014 19:51:54
  %ENV:
    PERL5_CPANPLUS_IS_RUNNING="1776"
    PERL5_CPAN_IS_RUNNING="1776"
    PERL5_CPAN_IS_RUNNING_IN_RECURSION="1948,1640,1776"
    PERL_EXTUTILS_AUTOINSTALL="--defaultdeps"
    PERL_MM_USE_DEFAULT="1"
  @INC:
    C:/strawberry182/perl/site/lib
    C:/strawberry182/perl/vendor/lib
    C:/strawberry182/perl/lib
    .