Test-Compile vv3.3.3 Perl 5 v5.32.0 x86_64-linux

Status
Pass
From
Dist
Test-Compile vv3.3.3
Platform
Perl 5 v5.32.0 x86_64-linux
Date
2024-11-29 04:24:29
ID
d38ab3fe-ae09-11ef-848d-bd503c4017c8
This distribution has been tested as part of the CPAN Testers
project, supporting the Perl programming language.  See
http://wiki.cpantesters.org/ for more information or email
questions to cpan-testers-discuss@perl.org


--
Dear EGILES,

This is a computer-generated report for Test-Compile-v3.3.3
on perl 5.32.0, created by App::cpanminus::reporter 0.17 (1.7044).

Thank you for uploading your work to CPAN.  Congratulations!
All tests were successful.

Sections of this report:

    * Tester comments
    * Program output
    * Prerequisites
    * Environment and other context

------------------------------
TESTER COMMENTS
------------------------------

Additional comments from tester:

none provided

------------------------------
PROGRAM OUTPUT
------------------------------

Output from '':

Building and testing Test-Compile-v3.3.3
Building Test-Compile
t/100-internal--find-files-ignores-cvs.t .. ok
t/100-internal--default_locations.t ....... ok
t/100-internal--find-files.t .............. ok
t/000-compile.t ........................... ok
t/100-internal--find-files-ignores-svn.t .. ok
t/100-internal--perl-module.t ............. ok
t/100-internal--perl-script.t ............. ok
t/100-internal--skip.t .................... skipped: testing skip_all()
t/100-internal--taint-mode.t .............. ok
t/100-internal--read-shebang.t ............ ok
# Message displayed by the 'diag' method
t/100-internal--test-methods.t ............ ok
t/100-internal-all-pm-files.t ............. ok
t/100-internal-all-pl-files.t ............. ok
t/100-internal-mess-with-lib.t ............ ok
t/100-internal-pl-file-compiles.t ......... ok
t/100-internal-pm-file-compiles.t ......... ok
t/100-internal-testfail.t ................. ok
t/100-internal-basic.t .................... ok
t/200-all-pl-files-ok.t ................... ok
t/200-all-pl-files.t ...................... ok
t/200-all-files-ok.t ...................... ok
t/200-import-check.t ...................... ok
t/200-all-pm-files-ok.t ................... ok
t/200-px-file-ok.t ........................ ok
t/200-taint.t ............................. ok
t/999-has-version.t ....................... skipped: Set AUTHOR_TEST to run this test
t/999-perlcritic.t ........................ skipped: Set AUTHOR_TEST to run this test
t/999-pod-coverage.t ...................... skipped: Set AUTHOR_TEST to run this test
t/999-portability.t ....................... skipped: Set AUTHOR_TEST to run this test
t/999-pod.t ............................... skipped: Set AUTHOR_TEST to run this test
t/100-internal-verbose.t .................. ok
t/999-synopsis.t .......................... skipped: Set AUTHOR_TEST to run this test
t/999-version.t ........................... skipped: Set AUTHOR_TEST to run this test
All tests successful.
Files=33, Tests=114,  4 wallclock secs ( 0.17 usr  0.10 sys +  4.93 cusr  1.98 csys =  7.18 CPU)
Result: PASS

------------------------------
PREREQUISITES
------------------------------

Prerequisite modules loaded:

    No requirements found

------------------------------
ENVIRONMENT AND OTHER CONTEXT
------------------------------

Environment variables:

    AUTHOR_TESTING = 1
    HARNESS_OPTIONS = j3
    LANG = en_GB.UTF-8
    LANGUAGE = en_GB:en
    LC_COLLATE = POSIX
    PATH = /home/osboxes/.perlbrew/libs/perl-5.32.0@normal/bin:/home/osboxes/perl5/perlbrew/bin:/home/osboxes/perl5/perlbrew/perls/perl-5.32.0/bin:/home/osboxes/bin:/home/osboxes/.local/bin:/home/osboxes/bin:/home/osboxes/.local/bin:/usr/local/sbin:/usr/local/bin:/usr/sbin:/usr/bin:/sbin:/bin:/usr/games:/usr/local/games:/snap/bin:/snap/bin
    PERL5LIB = /home/osboxes/.perlbrew/libs/perl-5.32.0@normal/lib/perl5
    PERLBREW_BASHRC_VERSION = 0.74
    PERLBREW_HOME = /home/osboxes/.perlbrew
    PERLBREW_LIB = normal
    PERLBREW_MANPATH = /home/osboxes/.perlbrew/libs/perl-5.32.0@normal/man:/home/osboxes/perl5/perlbrew/perls/perl-5.32.0/man
    PERLBREW_PATH = /home/osboxes/.perlbrew/libs/perl-5.32.0@normal/bin:/home/osboxes/perl5/perlbrew/bin:/home/osboxes/perl5/perlbrew/perls/perl-5.32.0/bin
    PERLBREW_PERL = perl-5.32.0
    PERLBREW_ROOT = /home/osboxes/perl5/perlbrew
    PERLBREW_VERSION = 0.98
    PERL_LOCAL_LIB_ROOT = /home/osboxes/.perlbrew/libs/perl-5.32.0@normal
    PERL_MB_OPT = --install_base /home/osboxes/.perlbrew/libs/perl-5.32.0@normal
    PERL_MM_OPT = INSTALL_BASE=/home/osboxes/.perlbrew/libs/perl-5.32.0@normal
    RELEASE_TESTING = 1
    SHELL = /bin/bash
    TERM = xterm-256color

Perl special variables (and OS-specific diagnostics, for MSWin32):

    EGID = 1000 4 24 27 30 46 113 128 130 1000
    EUID = 1000
    EXECUTABLE_NAME = /home/osboxes/perl5/perlbrew/perls/perl-5.32.0/bin/perl
    GID = 1000 4 24 27 30 46 113 128 130 1000
    UID = 1000

Perl module toolchain versions installed:

    Module              Have    
    ------------------- --------
    CPAN                2.27    
    CPAN::Meta          2.150010
    Cwd                 3.78    
    ExtUtils::CBuilder  0.280234
    ExtUtils::Command   7.44    
    ExtUtils::Install   2.14    
    ExtUtils::MakeMaker 7.44    
    ExtUtils::Manifest  1.72    
    ExtUtils::ParseXS   3.40    
    File::Spec          3.78    
    JSON                n/a     
    JSON::PP            4.04    
    Module::Build       0.4231  
    Module::Signature   n/a     
    Parse::CPAN::Meta   2.150010
    Test::Harness       3.42    
    Test::More          1.302183
    YAML                1.30    
    YAML::Syck          1.34    
    version             0.9924  


--

Summary of my perl5 (revision 5 version 32 subversion 0) configuration:
   
  Platform:
    osname=linux
    osvers=5.4.0-58-generic
    archname=x86_64-linux
    uname='linux osboxes 5.4.0-58-generic #64-ubuntu smp wed dec 9 08:16:25 utc 2020 x86_64 x86_64 x86_64 gnulinux '
    config_args='-de -Dprefix=/home/osboxes/perl5/perlbrew/perls/perl-5.32.0 -Accflags=-fPIC -Aeval:scriptdir=/home/osboxes/perl5/perlbrew/perls/perl-5.32.0/bin'
    hint=recommended
    useposix=true
    d_sigaction=define
    useithreads=undef
    usemultiplicity=undef
    use64bitint=define
    use64bitall=define
    uselongdouble=undef
    usemymalloc=n
    default_inc_excludes_dot=define
    bincompat5005=undef
  Compiler:
    cc='cc'
    ccflags ='-fPIC -fwrapv -fno-strict-aliasing -pipe -fstack-protector-strong -I/usr/local/include -D_LARGEFILE_SOURCE -D_FILE_OFFSET_BITS=64'
    optimize='-O2'
    cppflags='-fPIC -fwrapv -fno-strict-aliasing -pipe -fstack-protector-strong -I/usr/local/include'
    ccversion=''
    gccversion='9.3.0'
    gccosandvers=''
    intsize=4
    longsize=8
    ptrsize=8
    doublesize=8
    byteorder=12345678
    doublekind=3
    d_longlong=define
    longlongsize=8
    d_longdbl=define
    longdblsize=16
    longdblkind=3
    ivtype='long'
    ivsize=8
    nvtype='double'
    nvsize=8
    Off_t='off_t'
    lseeksize=8
    alignbytes=8
    prototype=define
  Linker and Libraries:
    ld='cc'
    ldflags =' -fstack-protector-strong -L/usr/local/lib'
    libpth=/usr/local/lib /usr/include/x86_64-linux-gnu /usr/lib /lib/x86_64-linux-gnu /lib/../lib /usr/lib/x86_64-linux-gnu /usr/lib/../lib /lib
    libs=-lpthread -lnsl -ldb -ldl -lm -lcrypt -lutil -lc
    perllibs=-lpthread -lnsl -ldl -lm -lcrypt -lutil -lc
    libc=libc-2.31.so
    so=so
    useshrplib=false
    libperl=libperl.a
    gnulibc_version='2.31'
  Dynamic Linking:
    dlsrc=dl_dlopen.xs
    dlext=so
    d_dlsymun=undef
    ccdlflags='-Wl,-E'
    cccdlflags='-fPIC'
    lddlflags='-shared -O2 -L/usr/local/lib -fstack-protector-strong'


Characteristics of this binary (from libperl): 
  Compile-time options:
    HAS_TIMES
    PERLIO_LAYERS
    PERL_COPY_ON_WRITE
    PERL_DONT_CREATE_GVSV
    PERL_MALLOC_WRAP
    PERL_OP_PARENT
    PERL_PRESERVE_IVUV
    USE_64_BIT_ALL
    USE_64_BIT_INT
    USE_LARGE_FILES
    USE_LOCALE
    USE_LOCALE_COLLATE
    USE_LOCALE_CTYPE
    USE_LOCALE_NUMERIC
    USE_LOCALE_TIME
    USE_PERLIO
    USE_PERL_ATOF
  Built under linux
  Compiled at Dec 25 2020 17:42:05
  %ENV:
    PERL5LIB="/home/osboxes/.perlbrew/libs/perl-5.32.0@normal/lib/perl5"
    PERLBREW_BASHRC_VERSION="0.74"
    PERLBREW_HOME="/home/osboxes/.perlbrew"
    PERLBREW_LIB="normal"
    PERLBREW_MANPATH="/home/osboxes/.perlbrew/libs/perl-5.32.0@normal/man:/home/osboxes/perl5/perlbrew/perls/perl-5.32.0/man"
    PERLBREW_PATH="/home/osboxes/.perlbrew/libs/perl-5.32.0@normal/bin:/home/osboxes/perl5/perlbrew/bin:/home/osboxes/perl5/perlbrew/perls/perl-5.32.0/bin"
    PERLBREW_PERL="perl-5.32.0"
    PERLBREW_ROOT="/home/osboxes/perl5/perlbrew"
    PERLBREW_VERSION="0.98"
    PERL_LOCAL_LIB_ROOT="/home/osboxes/.perlbrew/libs/perl-5.32.0@normal"
    PERL_MB_OPT="--install_base /home/osboxes/.perlbrew/libs/perl-5.32.0@normal"
    PERL_MM_OPT="INSTALL_BASE=/home/osboxes/.perlbrew/libs/perl-5.32.0@normal"
  @INC:
    /home/osboxes/.perlbrew/libs/perl-5.32.0@normal/lib/perl5/x86_64-linux
    /home/osboxes/.perlbrew/libs/perl-5.32.0@normal/lib/perl5
    /home/osboxes/perl5/perlbrew/perls/perl-5.32.0/lib/site_perl/5.32.0/x86_64-linux
    /home/osboxes/perl5/perlbrew/perls/perl-5.32.0/lib/site_perl/5.32.0
    /home/osboxes/perl5/perlbrew/perls/perl-5.32.0/lib/5.32.0/x86_64-linux
    /home/osboxes/perl5/perlbrew/perls/perl-5.32.0/lib/5.32.0