MooseX-Types-Structured v0.36 Perl 5 v5.41.7 darwin-2level

Status
Pass
From
John SJ Anderson
Dist
MooseX-Types-Structured v0.36
Platform
Perl 5 v5.41.7 darwin-2level
Date
2024-12-25 22:51:49
ID
d38d2bfc-c312-11ef-ad78-fed696a8b6c0
This distribution has been tested as part of the CPAN Testers
project, supporting the Perl programming language.  See
http://wiki.cpantesters.org/ for more information or email
questions to cpan-testers-discuss@perl.org


--
Dear ETHER,

This is a computer-generated report for MooseX-Types-Structured-0.36
on perl 5.41.7, created by App::cpanminus::reporter 0.22 (1.7048).

Thank you for uploading your work to CPAN.  Congratulations!
All tests were successful.

Sections of this report:

    * Tester comments
    * Program output
    * Prerequisites
    * Environment and other context

------------------------------
TESTER COMMENTS
------------------------------

Additional comments from tester:

none provided

------------------------------
PROGRAM OUTPUT
------------------------------

Output from '':

Building and testing MooseX-Types-Structured-0.36
cp lib/MooseX/Meta/TypeCoercion/Structured.pm blib/lib/MooseX/Meta/TypeCoercion/Structured.pm
cp lib/MooseX/Types/Structured/OverflowHandler.pm blib/lib/MooseX/Types/Structured/OverflowHandler.pm
cp lib/MooseX/Meta/TypeCoercion/Structured/Optional.pm blib/lib/MooseX/Meta/TypeCoercion/Structured/Optional.pm
cp lib/MooseX/Types/Structured/MessageStack.pm blib/lib/MooseX/Types/Structured/MessageStack.pm
cp lib/MooseX/Meta/TypeConstraint/Structured/Optional.pm blib/lib/MooseX/Meta/TypeConstraint/Structured/Optional.pm
cp lib/MooseX/Types/Structured.pm blib/lib/MooseX/Types/Structured.pm
cp lib/MooseX/Meta/TypeConstraint/Structured.pm blib/lib/MooseX/Meta/TypeConstraint/Structured.pm
t/00-load.t .................... ok
# 
# Versions for all modules listed in MYMETA.json (including optional ones):
# 
# === Configure Requires ===
# 
#     Module               Want  Have
#     ------------------- ----- -----
#     Module::Build::Tiny 0.034 0.051
# 
# === Configure Suggests ===
# 
#     Module      Want Have
#     -------- ------- ----
#     JSON::PP 2.27300 4.16
# 
# === Test Requires ===
# 
#     Module               Want     Have
#     -------------------- ---- --------
#     Data::Dumper          any    2.190
#     DateTime              any     1.65
#     File::Spec            any     3.93
#     Module::Metadata      any 1.000038
#     MooseX::Types::Moose  any     0.50
#     Test::Fatal           any    0.017
#     Test::More           0.88 1.302204
#     Test::Needs           any 0.002010
#     strict                any     1.13
#     warnings              any     1.72
# 
# === Test Recommends ===
# 
#     Module         Want     Have
#     ---------- -------- --------
#     CPAN::Meta 2.120900 2.150010
# 
# === Test Suggests ===
# 
#     Module                  Want    Have
#     ----------------------- ---- -------
#     MooseX::Types::DateTime  any missing
# 
# === Runtime Requires ===
# 
#     Module                                        Want    Have
#     -------------------------------------------- ----- -------
#     Devel::PartialDump                            0.13    0.20
#     Moose                                          any  2.2207
#     Moose::Meta::TypeCoercion                      any  2.2207
#     Moose::Meta::TypeConstraint                    any  2.2207
#     Moose::Meta::TypeConstraint::Parameterizable   any  2.2207
#     Moose::Util::TypeConstraints                  1.06  2.2207
#     MooseX::Types                                 0.22    0.50
#     Scalar::Util                                   any 1.68_01
#     Sub::Exporter                                0.982   0.991
#     if                                             any  0.0610
#     namespace::clean                              0.19    0.27
#     overload                                       any    1.39
# 
# === Other Modules ===
# 
#     Module               Have
#     -------------------- ----
#     Dist::CheckConflicts 0.11
#     JSON::PP             4.16
#     Sub::Name            0.28
#     YAML                 1.31
#     autodie              2.37
# 
t/00-report-prereqs.t .......... ok
t/01-basic.t ................... ok
t/02-tuple.t ................... ok
t/03-dict.t .................... ok
t/04-combined.t ................ ok
t/04-map.t ..................... ok
t/05-advanced.t ................ ok
t/06-api.t ..................... ok
t/07-coerce.t .................. ok
t/08-examples.t ................ skipped: Need MooseX::Types::DateTime
t/09-optional.t ................ ok
t/10-recursion.t ............... ok
t/11-overflow.t ................ ok
t/12-error.t ................... ok
t/13-deeper_error.t ............ ok
t/14-fully-qualified.t ......... ok
t/bug-incorrect-message.t ...... ok
t/bug-is-subtype.t ............. ok
t/bug-mixed-stringy.t .......... ok
t/bug-optional.t ............... ok
t/regressions/01-is_type_of.t .. ok
t/zzz-check-breaks.t ........... ok
All tests successful.
Files=23, Tests=352,  2 wallclock secs ( 0.02 usr  0.02 sys +  1.73 cusr  0.17 csys =  1.94 CPU)
Result: PASS

------------------------------
PREREQUISITES
------------------------------

Prerequisite modules loaded:

runtime:

    Module                                       Need  Have    
    -------------------------------------------- ----- --------
    Devel::PartialDump                           0.13  0.20    
    if                                           0     0.0610  
    Moose                                        0     2.2207  
    Moose::Meta::TypeCoercion                    0     2.2207  
    Moose::Meta::TypeConstraint                  0     2.2207  
    Moose::Meta::TypeConstraint::Parameterizable 0     2.2207  
    Moose::Util::TypeConstraints                 1.06  2.2207  
    MooseX::Types                                0.22  0.50    
    namespace::clean                             0.19  0.27    
    overload                                     0     1.39    
    perl                                         5.008 5.041007
    Scalar::Util                                 0     1.68_01 
    Sub::Exporter                                0.982 0.991   

configure:

    Module                                       Need  Have    
    -------------------------------------------- ----- --------
    Module::Build::Tiny                          0.034 0.051   
    perl                                         5.008 5.041007


------------------------------
ENVIRONMENT AND OTHER CONTEXT
------------------------------

Environment variables:

    LANG = en_US.UTF-8
    LC_ALL = en_US.UTF-8
    LC_TERMINAL = iTerm2
    LC_TERMINAL_VERSION = 3.5.10
    PATH = /opt/plenv/versions/5.41.7/bin:/opt/plenv/libexec:/opt/plenv/plugins/Perl-Build/bin:/opt/plenv/shims:/opt/plenv/bin:/opt/homebrew/bin:/opt/local/bin:/usr/local/bin:/usr/local/sbin:/usr/bin:/bin:/usr/sbin:/sbin
    PERL_CPANM_OPT = --skip-installed --prompt
    SHELL = /bin/zsh
    TERM = screen-256color
    TMPDIR = /var/folders/wb/w4vwqm8d34x0w9pcyr63fv5m0000gn/T/

Perl special variables (and OS-specific diagnostics, for MSWin32):

    EGID = 20 20 12 61 79 80 81 701 33 98 100 204 250 395 398 399 400
    EUID = 501
    EXECUTABLE_NAME = /opt/plenv/versions/5.41.7/bin/perl5.41.7
    GID = 20 20 12 61 79 80 81 701 33 98 100 204 250 395 398 399 400
    UID = 501

Perl module toolchain versions installed:

    Module              Have    
    ------------------- --------
    CPAN                2.38    
    CPAN::Meta          2.150010
    Cwd                 3.92    
    ExtUtils::CBuilder  0.280240
    ExtUtils::Command   7.70    
    ExtUtils::Install   2.22    
    ExtUtils::MakeMaker 7.70    
    ExtUtils::Manifest  1.75    
    ExtUtils::ParseXS   3.56    
    File::Spec          3.93    
    JSON                4.10    
    JSON::PP            4.16    
    Module::Build       0.4234  
    Module::Signature   n/a     
    Parse::CPAN::Meta   2.150010
    Test::Harness       3.50    
    Test::More          1.302204
    YAML                1.31    
    YAML::Syck          n/a     
    version             0.9933  


--

Summary of my perl5 (revision 5 version 41 subversion 7) configuration:
   
  Platform:
    osname=darwin
    osvers=24.2.0
    archname=darwin-2level
    uname='darwin johns-macbook-air.local 24.2.0 darwin kernel version 24.2.0: fri dec 6 19:00:33 pst 2024; root:xnu-11215.61.5~2release_arm64_t8122 arm64 '
    config_args='-Dprefix=/opt/plenv/versions/5.41.7 -de -Dversiononly -Dusedevel -A'eval:scriptdir=/opt/plenv/versions/5.41.7/bin''
    hint=recommended
    useposix=true
    d_sigaction=define
    useithreads=undef
    usemultiplicity=undef
    use64bitint=define
    use64bitall=define
    uselongdouble=undef
    usemymalloc=n
    default_inc_excludes_dot=define
  Compiler:
    cc='cc'
    ccflags ='-fno-common -DPERL_DARWIN -mmacosx-version-min=15.2 -DNO_THREAD_SAFE_QUERYLOCALE -DNO_POSIX_2008_LOCALE -DHAS_BROKEN_LANGINFO_CODESET -fno-strict-aliasing -pipe -fstack-protector-strong'
    optimize='-O3'
    cppflags='-fno-common -DPERL_DARWIN -mmacosx-version-min=15.2 -DNO_THREAD_SAFE_QUERYLOCALE -DNO_POSIX_2008_LOCALE -DHAS_BROKEN_LANGINFO_CODESET -fno-strict-aliasing -pipe -fstack-protector-strong'
    ccversion=''
    gccversion='Apple LLVM 16.0.0 (clang-1600.0.26.6)'
    gccosandvers=''
    intsize=4
    longsize=8
    ptrsize=8
    doublesize=8
    byteorder=12345678
    doublekind=3
    d_longlong=define
    longlongsize=8
    d_longdbl=define
    longdblsize=8
    longdblkind=0
    ivtype='long'
    ivsize=8
    nvtype='double'
    nvsize=8
    Off_t='off_t'
    lseeksize=8
    alignbytes=8
    prototype=define
  Linker and Libraries:
    ld='cc'
    ldflags =' -mmacosx-version-min=15.2 -fstack-protector-strong'
    libpth=/Library/Developer/CommandLineTools/usr/lib/clang/16/lib /Library/Developer/CommandLineTools/SDKs/MacOSX15.2.sdk/usr/lib /Library/Developer/CommandLineTools/usr/lib /usr/lib
    libs= 
    perllibs=
    libc=
    so=dylib
    useshrplib=false
    libperl=libperl.a
    gnulibc_version=''
  Dynamic Linking:
    dlsrc=dl_dlopen.xs
    dlext=bundle
    d_dlsymun=undef
    ccdlflags=' '
    cccdlflags=' '
    lddlflags=' -mmacosx-version-min=15.2 -bundle -undefined dynamic_lookup -fstack-protector-strong'


Characteristics of this binary (from libperl): 
  Compile-time options:
    HAS_LONG_DOUBLE
    HAS_STRTOLD
    HAS_TIMES
    PERLIO_LAYERS
    PERL_COPY_ON_WRITE
    PERL_DONT_CREATE_GVSV
    PERL_HASH_FUNC_SIPHASH13
    PERL_HASH_USE_SBOX32
    PERL_MALLOC_WRAP
    PERL_OP_PARENT
    PERL_PRESERVE_IVUV
    PERL_USE_DEVEL
    PERL_USE_SAFE_PUTENV
    USE_64_BIT_ALL
    USE_64_BIT_INT
    USE_LARGE_FILES
    USE_LOCALE
    USE_LOCALE_COLLATE
    USE_LOCALE_CTYPE
    USE_LOCALE_NUMERIC
    USE_LOCALE_TIME
    USE_PERLIO
    USE_PERL_ATOF
  Built under darwin
  Compiled at Dec 25 2024 14:04:03
  %ENV:
    PERL_CPANM_OPT="--skip-installed --prompt"
  @INC:
    /opt/plenv/versions/5.41.7/lib/perl5/site_perl/5.41.7/darwin-2level
    /opt/plenv/versions/5.41.7/lib/perl5/site_perl/5.41.7
    /opt/plenv/versions/5.41.7/lib/perl5/5.41.7/darwin-2level
    /opt/plenv/versions/5.41.7/lib/perl5/5.41.7