Net-Statsd-Server v0.20 Perl 5 v5.43.2 x86_64-linux-thread-multi

Status
Pass
From
Andreas J. König (ANDK)
Dist
Net-Statsd-Server v0.20
Platform
Perl 5 v5.43.2 x86_64-linux-thread-multi
Date
2025-09-20 07:31:30
ID
d38f86c2-95f3-11f0-ae80-deb1aa71b9e2
This distribution has been tested as part of the CPAN Testers
project, supporting the Perl programming language.  See
http://wiki.cpantesters.org/ for more information or email
questions to cpan-testers-discuss@perl.org


--
Dear Cosimo Streppone,

This is a computer-generated report for Net-Statsd-Server-0.20
on perl 5.43.2, created by CPAN-Reporter-1.2020.

Thank you for uploading your work to CPAN.  Congratulations!
All tests were successful.

Sections of this report:

    * Tester comments
    * Program output
    * Prerequisites
    * Environment and other context

------------------------------
TESTER COMMENTS
------------------------------

Additional comments from tester:

this report is from an automated smoke testing program
and was not reviewed by a human for accuracy

------------------------------
PROGRAM OUTPUT
------------------------------

Output from '/usr/bin/make test':

PERL_DL_NONLAZY=1 "/tmp/basesmoker-reloperl-AcoD/bin/perl" "-MExtUtils::Command::MM" "-MTest::Harness" "-e" "undef *Test::Harness::Switches; test_harness(0, 'blib/lib', 'blib/arch')" t/*.t t/integration-tests/*.t
t/000-sanity.t ............................. ok
t/config.t ................................. ok
t/graphite.t ............................... ok
2025-09-20 07:27:33.000000 +0000 note  Net::Statsd::Server: Initializing Net::Statsd::Server::Backend::Console backend
2025-09-20 07:27:33.000000 +0000 note  Net::Statsd::Server: Initializing Net::Statsd::Server::Backend::Graphite backend
2025-09-20 07:27:33.000000 +0000 info  AnyEvent: Autoloaded model 'AnyEvent::Impl::Perl', using it.
2025-09-20 07:27:33.106559 +0000 note  Net::Statsd::Server: statsd server started on 0.0.0.0:40001 (v0.17)
2025-09-20 07:27:33.106597 +0000 note  Net::Statsd::Server: manager interface started on 0.0.0.0:40002
2025-09-20 07:27:33.106631 +0000 note  Net::Statsd::Server: metrics flush will happen every 1s
2025-09-20 07:27:33.521138 +0000 warn  Net::Statsd::Server: Bad line: 1 in msg "a_bad_test_value|z"
2025-09-20 07:27:34.107321 +0000 note  Net::Statsd::Server: flushing metrics
Flushing stats at Sat Sep 20 07:27:34 2025
{"counter_rates":{"statsd.bad_lines_seen":1,"statsd.packets_received":1},"pctThreshold":[90],"timers":{},"timer_data":{},"counters":{"statsd.packets_received":1,"statsd.bad_lines_seen":1},"sets":null,"gauges":{}}
t/integration-tests/bad-message.t .......... ok
2025-09-20 07:27:34.000000 +0000 note  Net::Statsd::Server: Initializing Net::Statsd::Server::Backend::Console backend
2025-09-20 07:27:34.000000 +0000 note  Net::Statsd::Server: Initializing Net::Statsd::Server::Backend::Graphite backend
2025-09-20 07:27:34.000000 +0000 info  AnyEvent: Autoloaded model 'AnyEvent::Impl::Perl', using it.
2025-09-20 07:27:34.360986 +0000 note  Net::Statsd::Server: statsd server started on 0.0.0.0:40001 (v0.17)
2025-09-20 07:27:34.361033 +0000 note  Net::Statsd::Server: manager interface started on 0.0.0.0:40002
2025-09-20 07:27:34.361068 +0000 note  Net::Statsd::Server: metrics flush will happen every 1s
2025-09-20 07:27:35.363116 +0000 note  Net::Statsd::Server: flushing metrics
Flushing stats at Sat Sep 20 07:27:35 2025
{"counter_rates":{"a_test_value":100,"statsd.bad_lines_seen":0,"statsd.packets_received":1},"gauges":{},"timer_data":{},"sets":null,"pctThreshold":[90],"counters":{"statsd.packets_received":1,"a_test_value":100,"statsd.bad_lines_seen":0},"timers":{}}
# stats.counters.statsd.packets_received.rate 1.000000 1758353255
# stats.counters.statsd.packets_received.count 1 1758353255
# stats.counters.a_test_value.rate 100.000000 1758353255
# stats.counters.a_test_value.count 100 1758353255
# stats.counters.statsd.bad_lines_seen.rate 0.000000 1758353255
# stats.counters.statsd.bad_lines_seen.count 0 1758353255
# stats.statsd.numStats 3 1758353255
# stats.statsd.graphiteStats.calculationtime 0.040000 1758353255
# stats.statsd.processing_time 0.019 1758353255
# stats.statsd.graphiteStats.last_exception 94537103718456 1758353255
# stats.statsd.graphiteStats.last_flush 94537103718456 1758353255
t/integration-tests/counts-are-valid.t ..... ok
2025-09-20 07:27:35.000000 +0000 note  Net::Statsd::Server: Initializing Net::Statsd::Server::Backend::Graphite backend
2025-09-20 07:27:35.000000 +0000 info  AnyEvent: Autoloaded model 'AnyEvent::Impl::Perl', using it.
2025-09-20 07:27:35.587220 +0000 note  Net::Statsd::Server: statsd server started on 0.0.0.0:40001 (v0.17)
2025-09-20 07:27:35.587268 +0000 note  Net::Statsd::Server: manager interface started on 0.0.0.0:40002
2025-09-20 07:27:35.587302 +0000 note  Net::Statsd::Server: metrics flush will happen every 1s
2025-09-20 07:27:36.590116 +0000 note  Net::Statsd::Server: flushing metrics
# First flush. Test gauge should be there.
2025-09-20 07:27:37.591065 +0000 note  Net::Statsd::Server: flushing metrics
# Second flush. deleteGauges=false should keep the test gauge.
t/integration-tests/delete-gauges-false.t .. ok
2025-09-20 07:27:37.000000 +0000 note  Net::Statsd::Server: Initializing Net::Statsd::Server::Backend::Graphite backend
2025-09-20 07:27:37.000000 +0000 info  AnyEvent: Autoloaded model 'AnyEvent::Impl::Perl', using it.
2025-09-20 07:27:37.816206 +0000 note  Net::Statsd::Server: statsd server started on 0.0.0.0:40001 (v0.17)
2025-09-20 07:27:37.816256 +0000 note  Net::Statsd::Server: manager interface started on 0.0.0.0:40002
2025-09-20 07:27:37.816293 +0000 note  Net::Statsd::Server: metrics flush will happen every 1s
2025-09-20 07:27:38.819070 +0000 note  Net::Statsd::Server: flushing metrics
# First flush. Test gauge should be there.
2025-09-20 07:27:39.818046 +0000 note  Net::Statsd::Server: flushing metrics
# Second flush. deleteIdleStats should have cleared the test gauge.
t/integration-tests/delete-idle-stats.t .... ok
2025-09-20 07:27:40.000000 +0000 note  Net::Statsd::Server: Initializing Net::Statsd::Server::Backend::Console backend
2025-09-20 07:27:40.000000 +0000 note  Net::Statsd::Server: Initializing Net::Statsd::Server::Backend::Graphite backend
2025-09-20 07:27:40.000000 +0000 info  AnyEvent: Autoloaded model 'AnyEvent::Impl::Perl', using it.
2025-09-20 07:27:40.042603 +0000 note  Net::Statsd::Server: statsd server started on 0.0.0.0:40001 (v0.17)
2025-09-20 07:27:40.042642 +0000 note  Net::Statsd::Server: manager interface started on 0.0.0.0:40002
2025-09-20 07:27:40.042675 +0000 note  Net::Statsd::Server: metrics flush will happen every 1s
2025-09-20 07:27:41.043083 +0000 note  Net::Statsd::Server: flushing metrics
Flushing stats at Sat Sep 20 07:27:41 2025
{"timers":{},"timer_data":{},"sets":null,"counters":{"a_test_value,category=web,severity=high":100,"statsd.packets_received":1,"statsd.bad_lines_seen":0},"pctThreshold":[90],"counter_rates":{"statsd.packets_received":1,"statsd.bad_lines_seen":0,"a_test_value,category=web,severity=high":100},"gauges":{}}
# stats.counters.a_test_value,category=web,severity=high.rate 100.000000 1758353261
# stats.counters.a_test_value,category=web,severity=high.count 100 1758353261
# stats.counters.statsd.packets_received.rate 1.000000 1758353261
# stats.counters.statsd.packets_received.count 1 1758353261
# stats.counters.statsd.bad_lines_seen.rate 0.000000 1758353261
# stats.counters.statsd.bad_lines_seen.count 0 1758353261
# stats.statsd.numStats 3 1758353261
# stats.statsd.graphiteStats.calculationtime 0.038000 1758353261
# stats.statsd.processing_time 0.017 1758353261
# stats.statsd.graphiteStats.last_exception 94136674396216 1758353261
# stats.statsd.graphiteStats.last_flush 94136674396216 1758353261
t/integration-tests/keys-with-tags.t ....... ok
2025-09-20 07:27:41.000000 +0000 note  Net::Statsd::Server: Initializing Net::Statsd::Server::Backend::Graphite backend
2025-09-20 07:27:41.000000 +0000 info  AnyEvent: Autoloaded model 'AnyEvent::Impl::Perl', using it.
2025-09-20 07:27:41.266151 +0000 note  Net::Statsd::Server: statsd server started on 0.0.0.0:40001 (v0.17)
2025-09-20 07:27:41.266202 +0000 note  Net::Statsd::Server: manager interface started on 0.0.0.0:40002
2025-09-20 07:27:41.266241 +0000 note  Net::Statsd::Server: metrics flush will happen every 1s
# Expected mean value is 2021.1
2025-09-20 07:27:42.269078 +0000 note  Net::Statsd::Server: flushing metrics
# stats.counters.statsd.packets_received.rate 100.000000 1758353262
# stats.counters.statsd.packets_received.count 100 1758353262
# stats.counters.statsd.bad_lines_seen.rate 0.000000 1758353262
# stats.counters.statsd.bad_lines_seen.count 0 1758353262
# stats.timers.read_latency.count 100.000000 1758353262
# stats.timers.read_latency.upper 2937.000000 1758353262
# stats.timers.read_latency.mean 2021.100000 1758353262
# stats.timers.read_latency.count_99 99.000000 1758353262
# stats.timers.read_latency.median 2059.000000 1758353262
# stats.timers.read_latency.mean_99 2011.848485 1758353262
# stats.timers.read_latency.sum_squares_98 418888853.000000 1758353262
# stats.timers.read_latency.sum 202110.000000 1758353262
# stats.timers.read_latency.upper_99 2904.000000 1758353262
# stats.timers.read_latency.mean_95 1975.294737 1758353262
# stats.timers.read_latency.lower 1059.000000 1758353262
# stats.timers.read_latency.count_98 98.000000 1758353262
# stats.timers.read_latency.count_95 95.000000 1758353262
# stats.timers.read_latency.mean_98 2002.744898 1758353262
# stats.timers.read_latency.sum_squares_99 427322069.000000 1758353262
# stats.timers.read_latency.sum_squares 435948038.000000 1758353262
# stats.timers.read_latency.std 524.056457 1758353262
# stats.timers.read_latency.upper_98 2900.000000 1758353262
# stats.timers.read_latency.upper_95 2802.000000 1758353262
# stats.timers.read_latency.sum_squares_95 394141467.000000 1758353262
# stats.timers.read_latency.sum_98 196269.000000 1758353262
# stats.timers.read_latency.sum_99 199173.000000 1758353262
# stats.timers.read_latency.count_ps 100.000000 1758353262
# stats.timers.read_latency.sum_95 187653.000000 1758353262
# stats.statsd.numStats 3 1758353262
# stats.statsd.graphiteStats.calculationtime 0.093000 1758353262
# stats.statsd.processing_time 0.226 1758353262
# stats.statsd.graphiteStats.last_exception 94734441580600 1758353262
# stats.statsd.graphiteStats.last_flush 94734441580600 1758353262
t/integration-tests/percent-threshold.t .... ok
2025-09-20 07:27:42.000000 +0000 note  Net::Statsd::Server: Initializing Net::Statsd::Server::Backend::Console backend
2025-09-20 07:27:42.000000 +0000 note  Net::Statsd::Server: Initializing Net::Statsd::Server::Backend::Graphite backend
2025-09-20 07:27:42.000000 +0000 info  AnyEvent: Autoloaded model 'AnyEvent::Impl::Perl', using it.
2025-09-20 07:27:42.496383 +0000 note  Net::Statsd::Server: statsd server started on 0.0.0.0:40001 (v0.17)
2025-09-20 07:27:42.496433 +0000 note  Net::Statsd::Server: manager interface started on 0.0.0.0:40002
2025-09-20 07:27:42.496469 +0000 note  Net::Statsd::Server: metrics flush will happen every 1s
2025-09-20 07:27:43.499285 +0000 note  Net::Statsd::Server: flushing metrics
Flushing stats at Sat Sep 20 07:27:43 2025
{"timer_data":{"a_test_value":{"upper_90":"100","mean_90":"100","sum_squares_90":10000,"upper":"100","median":"100","sum_90":"100","std":0,"lower":"100","count_ps":1,"mean":100,"sum":"100","count_90":1,"sum_squares":10000,"count":1}},"timers":{"a_test_value":["100"]},"sets":null,"gauges":{},"pctThreshold":["90"],"counter_rates":{"statsd.packets_received":1,"statsd.bad_lines_seen":0},"counters":{"statsd.bad_lines_seen":0,"statsd.packets_received":1}}
# stats.counters.statsd.bad_lines_seen.rate 0.000000 1758353263
# stats.counters.statsd.bad_lines_seen.count 0 1758353263
# stats.counters.statsd.packets_received.rate 1.000000 1758353263
# stats.counters.statsd.packets_received.count 1 1758353263
# stats.timers.a_test_value.upper_90 100.000000 1758353263
# stats.timers.a_test_value.mean_90 100.000000 1758353263
# stats.timers.a_test_value.sum_squares_90 10000.000000 1758353263
# stats.timers.a_test_value.upper 100.000000 1758353263
# stats.timers.a_test_value.median 100.000000 1758353263
# stats.timers.a_test_value.sum_90 100.000000 1758353263
# stats.timers.a_test_value.std 0.000000 1758353263
# stats.timers.a_test_value.lower 100.000000 1758353263
# stats.timers.a_test_value.count_ps 1.000000 1758353263
# stats.timers.a_test_value.mean 100.000000 1758353263
# stats.timers.a_test_value.sum 100.000000 1758353263
# stats.timers.a_test_value.count_90 1.000000 1758353263
# stats.timers.a_test_value.sum_squares 10000.000000 1758353263
# stats.timers.a_test_value.count 1.000000 1758353263
# stats.statsd.numStats 3 1758353263
# stats.statsd.graphiteStats.calculationtime 0.071000 1758353263
# stats.statsd.processing_time 0.066 1758353263
# stats.statsd.graphiteStats.last_exception 94257862690872 1758353263
# stats.statsd.graphiteStats.last_flush 94257862690872 1758353263
t/integration-tests/timers-are-valid.t ..... ok
t/process-metrics.t ........................ ok
t/trim.t ................................... ok
All tests successful.
Files=12, Tests=92, 11 wallclock secs ( 0.05 usr  0.02 sys +  1.25 cusr  0.32 csys =  1.64 CPU)
Result: PASS

------------------------------
PREREQUISITES
------------------------------

Prerequisite modules loaded:

requires:

    Module                Need Have    
    --------------------- ---- --------
    AnyEvent::Handle::UDP 0    0.050   
    IO::Socket::INET      0    1.55    
    JSON::XS              0    4.04    

build_requires:

    Module                Need Have    
    --------------------- ---- --------
    ExtUtils::MakeMaker   0    7.76    
    Test::More            0    1.302214

configure_requires:

    Module                Need Have    
    --------------------- ---- --------
    ExtUtils::MakeMaker   0    7.76    


------------------------------
ENVIRONMENT AND OTHER CONTEXT
------------------------------

Environment variables:

    AUTOMATED_TESTING = 1
    LANG = en_US.UTF-8
    PATH = /home/sand/bin:/usr/local/bin:/usr/local/sbin:/usr/sbin:/usr/bin:/sbin:/bin:/usr/games:/usr/local/games:/snap/bin:/usr/local/perl/bin:/usr/X11/bin
    PERL5LIB = /tmp/loop_over_bdir-547504-LikQu0/Lingua-YaTeA-0.626-0/blib/arch:/tmp/loop_over_bdir-547504-LikQu0/Lingua-YaTeA-0.626-0/blib/lib:/tmp/loop_over_bdir-547504-LikQu0/Linux-InitFS-0.2-0/blib/arch:/tmp/loop_over_bdir-547504-LikQu0/Linux-InitFS-0.2-0/blib/lib:/tmp/loop_over_bdir-547504-LikQu0/Lemonldap-NG-Cli-0.2-0/blib/arch:/tmp/loop_over_bdir-547504-LikQu0/Lemonldap-NG-Cli-0.2-0/blib/lib:/tmp/loop_over_bdir-547504-LikQu0/Alien-SNMP-MIBDEV-2.020000-0/blib/arch:/tmp/loop_over_bdir-547504-LikQu0/Alien-SNMP-MIBDEV-2.020000-0/blib/lib:/tmp/loop_over_bdir-547504-LikQu0/Dpkg-1.22.21-0/blib/arch:/tmp/loop_over_bdir-547504-LikQu0/Dpkg-1.22.21-0/blib/lib:/tmp/loop_over_bdir-547504-LikQu0/Sysync-0.38-0/blib/arch:/tmp/loop_over_bdir-547504-LikQu0/Sysync-0.38-0/blib/lib:/tmp/loop_over_bdir-547504-LikQu0/App-nrun-v1.1.2-0/blib/arch:/tmp/loop_over_bdir-547504-LikQu0/App-nrun-v1.1.2-0/blib/lib:/tmp/loop_over_bdir-547504-LikQu0/ProjectBuilder-0.14.1-0/blib/arch:/tmp/loop_over_bdir-547504-LikQu0/ProjectBuilder-0.14.1-0/blib/lib:/tmp/loop_over_bdir-547504-LikQu0/Device-Kiln-0.03-0/blib/arch:/tmp/loop_over_bdir-547504-LikQu0/Device-Kiln-0.03-0/blib/lib:/tmp/loop_over_bdir-547504-LikQu0/dta-tokwrap-0.98-0/blib/arch:/tmp/loop_over_bdir-547504-LikQu0/dta-tokwrap-0.98-0/blib/lib:/tmp/loop_over_bdir-547504-LikQu0/mmds-1.902-0/blib/arch:/tmp/loop_over_bdir-547504-LikQu0/mmds-1.902-0/blib/lib:/tmp/loop_over_bdir-547504-LikQu0/shishi-0.0.1-0/blib/arch:/tmp/loop_over_bdir-547504-LikQu0/shishi-0.0.1-0/blib/lib:/tmp/loop_over_bdir-547504-LikQu0/CORBA-Python-2.66-0/blib/arch:/tmp/loop_over_bdir-547504-LikQu0/CORBA-Python-2.66-0/blib/lib:/tmp/loop_over_bdir-547504-LikQu0/Devel-Required-0.17-0/blib/arch:/tmp/loop_over_bdir-547504-LikQu0/Devel-Required-0.17-0/blib/lib:/tmp/loop_over_bdir-547504-LikQu0/RDF-NLP-SPARQLQuery-0.1-0/blib/arch:/tmp/loop_over_bdir-547504-LikQu0/RDF-NLP-SPARQLQuery-0.1-0/blib/lib:/tmp/loop_over_bdir-547504-LikQu0/makepp-1.19-0/blib/arch:/tmp/loop_over_bdir-547504-LikQu0/makepp-1.19-0/blib/lib:/tmp/loop_over_bdir-547504-LikQu0/Simulation-Automate-1.0.1-0/blib/arch:/tmp/loop_over_bdir-547504-LikQu0/Simulation-Automate-1.0.1-0/blib/lib:/tmp/loop_over_bdir-547504-LikQu0/NoZone-1.3-0/blib/arch:/tmp/loop_over_bdir-547504-LikQu0/NoZone-1.3-0/blib/lib:/tmp/loop_over_bdir-547504-LikQu0/App-rmcd-0.280-0/blib/arch:/tmp/loop_over_bdir-547504-LikQu0/App-rmcd-0.280-0/blib/lib:/tmp/loop_over_bdir-547504-LikQu0/triceps-2.1.0-0/blib/arch:/tmp/loop_over_bdir-547504-LikQu0/triceps-2.1.0-0/blib/lib:/tmp/loop_over_bdir-547504-LikQu0/EJBCA-CrlPublish-0.60-0/blib/arch:/tmp/loop_over_bdir-547504-LikQu0/EJBCA-CrlPublish-0.60-0/blib/lib
    PERL5OPT = 
    PERL5_CPANPLUS_IS_RUNNING = 547513
    PERL5_CPAN_IS_RUNNING = 547513
    PERL_CANARY_STABILITY_NOPROMPT = 1
    PERL_MM_USE_DEFAULT = 1
    PERL_USE_UNSAFE_INC = 1
    SHELL = /usr/bin/zsh
    TERM = screen

Perl special variables (and OS-specific diagnostics, for MSWin32):

    $^X = /tmp/basesmoker-reloperl-AcoD/bin/perl
    $UID/$EUID = 1005 / 1005
    $GID = 1005 1005
    $EGID = 1005 1005

Perl module toolchain versions installed:

    Module              Have    
    ------------------- --------
    CPAN                2.38    
    CPAN::Meta          2.150010
    Cwd                 3.94    
    ExtUtils::CBuilder  0.280242
    ExtUtils::Command   7.76    
    ExtUtils::Install   2.22    
    ExtUtils::MakeMaker 7.76    
    ExtUtils::Manifest  1.75    
    ExtUtils::ParseXS   3.59    
    File::Spec          3.94    
    JSON                4.10    
    JSON::PP            4.16    
    Module::Build       0.4234  
    Module::Signature   0.93    
    Parse::CPAN::Meta   2.150010
    Test2               1.302214
    Test::Harness       3.52    
    Test::More          1.302214
    YAML                1.31    
    YAML::Syck          1.34    
    version             0.9933  


--

Summary of my perl5 (revision 5 version 43 subversion 2) configuration:
  Commit id: 7afd3f158f75d5730469889406f8f98c681d58c1
  Platform:
    osname=linux
    osvers=5.4.0-216-generic
    archname=x86_64-linux-thread-multi
    uname='linux k93focal 5.4.0-216-generic #236-ubuntu smp fri apr 11 19:53:21 utc 2025 x86_64 x86_64 x86_64 gnulinux '
    config_args='-Dprefix=/home/sand/src/perl/repoperls/installed-perls/host/k93focal/v5.43.2/d119 -Dmyhostname=k93focal -Dinstallusrbinperl=n -Uversiononly -Dusedevel -des -Ui_db -Dlibswanted=cl pthread socket inet nsl gdbm dbm malloc dl ld sun m crypt sec util c cposix posix ucb BSD gdbm_compat -Duseithreads -Uuselongdouble -DEBUGGING=both'
    hint=recommended
    useposix=true
    d_sigaction=define
    useithreads=define
    usemultiplicity=define
    use64bitint=define
    use64bitall=define
    uselongdouble=undef
    usemymalloc=n
    default_inc_excludes_dot=define
  Compiler:
    cc='cc'
    ccflags ='-D_REENTRANT -D_GNU_SOURCE -fwrapv -DDEBUGGING -fno-strict-aliasing -pipe -fstack-protector-strong -I/usr/local/include -D_LARGEFILE_SOURCE -D_FILE_OFFSET_BITS=64'
    optimize='-O2 -g'
    cppflags='-D_REENTRANT -D_GNU_SOURCE -fwrapv -DDEBUGGING -fno-strict-aliasing -pipe -fstack-protector-strong -I/usr/local/include'
    ccversion=''
    gccversion='9.4.0'
    gccosandvers=''
    intsize=4
    longsize=8
    ptrsize=8
    doublesize=8
    byteorder=12345678
    doublekind=3
    d_longlong=define
    longlongsize=8
    d_longdbl=define
    longdblsize=16
    longdblkind=3
    ivtype='long'
    ivsize=8
    nvtype='double'
    nvsize=8
    Off_t='off_t'
    lseeksize=8
    alignbytes=8
    prototype=define
  Linker and Libraries:
    ld='cc'
    ldflags =' -fstack-protector-strong -L/usr/local/lib'
    libpth=/usr/local/lib /usr/lib/x86_64-linux-gnu /usr/lib /usr/lib64
    libs=-lpthread -lnsl -ldl -lm -lcrypt -lutil -lc
    perllibs=-lpthread -lnsl -ldl -lm -lcrypt -lutil -lc
    libc=libc-2.31.so
    so=so
    useshrplib=false
    libperl=libperl.a
    gnulibc_version='2.31'
  Dynamic Linking:
    dlsrc=dl_dlopen.xs
    dlext=so
    d_dlsymun=undef
    ccdlflags='-Wl,-E'
    cccdlflags='-fPIC'
    lddlflags='-shared -O2 -g -L/usr/local/lib -fstack-protector-strong'


Characteristics of this binary (from libperl): 
  Compile-time options:
    DEBUGGING
    HAS_LONG_DOUBLE
    HAS_STRTOLD
    HAS_TIMES
    MULTIPLICITY
    PERLIO_LAYERS
    PERL_COPY_ON_WRITE
    PERL_DONT_CREATE_GVSV
    PERL_HASH_FUNC_SIPHASH13
    PERL_HASH_USE_SBOX32
    PERL_MALLOC_WRAP
    PERL_OP_PARENT
    PERL_PRESERVE_IVUV
    PERL_TRACK_MEMPOOL
    PERL_USE_DEVEL
    PERL_USE_SAFE_PUTENV
    USE_64_BIT_ALL
    USE_64_BIT_INT
    USE_ITHREADS
    USE_LARGE_FILES
    USE_LOCALE
    USE_LOCALE_COLLATE
    USE_LOCALE_CTYPE
    USE_LOCALE_NUMERIC
    USE_LOCALE_TIME
    USE_PERLIO
    USE_PERL_ATOF
    USE_REENTRANT_API
    USE_THREAD_SAFE_LOCALE
  Built under linux
  Compiled at Aug 26 2025 21:07:02
  %ENV:
    PERL5LIB="/tmp/loop_over_bdir-547504-LikQu0/Lingua-YaTeA-0.626-0/blib/arch:/tmp/loop_over_bdir-547504-LikQu0/Lingua-YaTeA-0.626-0/blib/lib:/tmp/loop_over_bdir-547504-LikQu0/Linux-InitFS-0.2-0/blib/arch:/tmp/loop_over_bdir-547504-LikQu0/Linux-InitFS-0.2-0/blib/lib:/tmp/loop_over_bdir-547504-LikQu0/Lemonldap-NG-Cli-0.2-0/blib/arch:/tmp/loop_over_bdir-547504-LikQu0/Lemonldap-NG-Cli-0.2-0/blib/lib:/tmp/loop_over_bdir-547504-LikQu0/Alien-SNMP-MIBDEV-2.020000-0/blib/arch:/tmp/loop_over_bdir-547504-LikQu0/Alien-SNMP-MIBDEV-2.020000-0/blib/lib:/tmp/loop_over_bdir-547504-LikQu0/Dpkg-1.22.21-0/blib/arch:/tmp/loop_over_bdir-547504-LikQu0/Dpkg-1.22.21-0/blib/lib:/tmp/loop_over_bdir-547504-LikQu0/Sysync-0.38-0/blib/arch:/tmp/loop_over_bdir-547504-LikQu0/Sysync-0.38-0/blib/lib:/tmp/loop_over_bdir-547504-LikQu0/App-nrun-v1.1.2-0/blib/arch:/tmp/loop_over_bdir-547504-LikQu0/App-nrun-v1.1.2-0/blib/lib:/tmp/loop_over_bdir-547504-LikQu0/ProjectBuilder-0.14.1-0/blib/arch:/tmp/loop_over_bdir-547504-LikQu0/ProjectBuilder-0.14.1-0/blib/lib:/tmp/loop_over_bdir-547504-LikQu0/Device-Kiln-0.03-0/blib/arch:/tmp/loop_over_bdir-547504-LikQu0/Device-Kiln-0.03-0/blib/lib:/tmp/loop_over_bdir-547504-LikQu0/dta-tokwrap-0.98-0/blib/arch:/tmp/loop_over_bdir-547504-LikQu0/dta-tokwrap-0.98-0/blib/lib:/tmp/loop_over_bdir-547504-LikQu0/mmds-1.902-0/blib/arch:/tmp/loop_over_bdir-547504-LikQu0/mmds-1.902-0/blib/lib:/tmp/loop_over_bdir-547504-LikQu0/shishi-0.0.1-0/blib/arch:/tmp/loop_over_bdir-547504-LikQu0/shishi-0.0.1-0/blib/lib:/tmp/loop_over_bdir-547504-LikQu0/CORBA-Python-2.66-0/blib/arch:/tmp/loop_over_bdir-547504-LikQu0/CORBA-Python-2.66-0/blib/lib:/tmp/loop_over_bdir-547504-LikQu0/Devel-Required-0.17-0/blib/arch:/tmp/loop_over_bdir-547504-LikQu0/Devel-Required-0.17-0/blib/lib:/tmp/loop_over_bdir-547504-LikQu0/RDF-NLP-SPARQLQuery-0.1-0/blib/arch:/tmp/loop_over_bdir-547504-LikQu0/RDF-NLP-SPARQLQuery-0.1-0/blib/lib:/tmp/loop_over_bdir-547504-LikQu0/makepp-1.19-0/blib/arch:/tmp/loop_over_bdir-547504-LikQu0/makepp-1.19-0/blib/lib:/tmp/loop_over_bdir-547504-LikQu0/Simulation-Automate-1.0.1-0/blib/arch:/tmp/loop_over_bdir-547504-LikQu0/Simulation-Automate-1.0.1-0/blib/lib:/tmp/loop_over_bdir-547504-LikQu0/NoZone-1.3-0/blib/arch:/tmp/loop_over_bdir-547504-LikQu0/NoZone-1.3-0/blib/lib:/tmp/loop_over_bdir-547504-LikQu0/App-rmcd-0.280-0/blib/arch:/tmp/loop_over_bdir-547504-LikQu0/App-rmcd-0.280-0/blib/lib:/tmp/loop_over_bdir-547504-LikQu0/triceps-2.1.0-0/blib/arch:/tmp/loop_over_bdir-547504-LikQu0/triceps-2.1.0-0/blib/lib:/tmp/loop_over_bdir-547504-LikQu0/EJBCA-CrlPublish-0.60-0/blib/arch:/tmp/loop_over_bdir-547504-LikQu0/EJBCA-CrlPublish-0.60-0/blib/lib"
    PERL5OPT=""
    PERL5_CPANPLUS_IS_RUNNING="547513"
    PERL5_CPAN_IS_RUNNING="547513"
    PERL_CANARY_STABILITY_NOPROMPT="1"
    PERL_MM_USE_DEFAULT="1"
    PERL_USE_UNSAFE_INC="1"
  @INC:
    /tmp/loop_over_bdir-547504-LikQu0/Lingua-YaTeA-0.626-0/blib/arch
    /tmp/loop_over_bdir-547504-LikQu0/Lingua-YaTeA-0.626-0/blib/lib
    /tmp/loop_over_bdir-547504-LikQu0/Linux-InitFS-0.2-0/blib/arch
    /tmp/loop_over_bdir-547504-LikQu0/Linux-InitFS-0.2-0/blib/lib
    /tmp/loop_over_bdir-547504-LikQu0/Lemonldap-NG-Cli-0.2-0/blib/arch
    /tmp/loop_over_bdir-547504-LikQu0/Lemonldap-NG-Cli-0.2-0/blib/lib
    /tmp/loop_over_bdir-547504-LikQu0/Alien-SNMP-MIBDEV-2.020000-0/blib/arch
    /tmp/loop_over_bdir-547504-LikQu0/Alien-SNMP-MIBDEV-2.020000-0/blib/lib
    /tmp/loop_over_bdir-547504-LikQu0/Dpkg-1.22.21-0/blib/arch
    /tmp/loop_over_bdir-547504-LikQu0/Dpkg-1.22.21-0/blib/lib
    /tmp/loop_over_bdir-547504-LikQu0/Sysync-0.38-0/blib/arch
    /tmp/loop_over_bdir-547504-LikQu0/Sysync-0.38-0/blib/lib
    /tmp/loop_over_bdir-547504-LikQu0/App-nrun-v1.1.2-0/blib/arch
    /tmp/loop_over_bdir-547504-LikQu0/App-nrun-v1.1.2-0/blib/lib
    /tmp/loop_over_bdir-547504-LikQu0/ProjectBuilder-0.14.1-0/blib/arch
    /tmp/loop_over_bdir-547504-LikQu0/ProjectBuilder-0.14.1-0/blib/lib
    /tmp/loop_over_bdir-547504-LikQu0/Device-Kiln-0.03-0/blib/arch
    /tmp/loop_over_bdir-547504-LikQu0/Device-Kiln-0.03-0/blib/lib
    /tmp/loop_over_bdir-547504-LikQu0/dta-tokwrap-0.98-0/blib/arch
    /tmp/loop_over_bdir-547504-LikQu0/dta-tokwrap-0.98-0/blib/lib
    /tmp/loop_over_bdir-547504-LikQu0/mmds-1.902-0/blib/arch
    /tmp/loop_over_bdir-547504-LikQu0/mmds-1.902-0/blib/lib
    /tmp/loop_over_bdir-547504-LikQu0/shishi-0.0.1-0/blib/arch
    /tmp/loop_over_bdir-547504-LikQu0/shishi-0.0.1-0/blib/lib
    /tmp/loop_over_bdir-547504-LikQu0/CORBA-Python-2.66-0/blib/arch
    /tmp/loop_over_bdir-547504-LikQu0/CORBA-Python-2.66-0/blib/lib
    /tmp/loop_over_bdir-547504-LikQu0/Devel-Required-0.17-0/blib/arch
    /tmp/loop_over_bdir-547504-LikQu0/Devel-Required-0.17-0/blib/lib
    /tmp/loop_over_bdir-547504-LikQu0/RDF-NLP-SPARQLQuery-0.1-0/blib/arch
    /tmp/loop_over_bdir-547504-LikQu0/RDF-NLP-SPARQLQuery-0.1-0/blib/lib
    /tmp/loop_over_bdir-547504-LikQu0/makepp-1.19-0/blib/arch
    /tmp/loop_over_bdir-547504-LikQu0/makepp-1.19-0/blib/lib
    /tmp/loop_over_bdir-547504-LikQu0/Simulation-Automate-1.0.1-0/blib/arch
    /tmp/loop_over_bdir-547504-LikQu0/Simulation-Automate-1.0.1-0/blib/lib
    /tmp/loop_over_bdir-547504-LikQu0/NoZone-1.3-0/blib/arch
    /tmp/loop_over_bdir-547504-LikQu0/NoZone-1.3-0/blib/lib
    /tmp/loop_over_bdir-547504-LikQu0/App-rmcd-0.280-0/blib/arch
    /tmp/loop_over_bdir-547504-LikQu0/App-rmcd-0.280-0/blib/lib
    /tmp/loop_over_bdir-547504-LikQu0/triceps-2.1.0-0/blib/arch
    /tmp/loop_over_bdir-547504-LikQu0/triceps-2.1.0-0/blib/lib
    /tmp/loop_over_bdir-547504-LikQu0/EJBCA-CrlPublish-0.60-0/blib/arch
    /tmp/loop_over_bdir-547504-LikQu0/EJBCA-CrlPublish-0.60-0/blib/lib
    /home/sand/src/perl/repoperls/installed-perls/host/k93focal/v5.43.2/d119/lib/site_perl/5.43.2/x86_64-linux-thread-multi
    /home/sand/src/perl/repoperls/installed-perls/host/k93focal/v5.43.2/d119/lib/site_perl/5.43.2
    /home/sand/src/perl/repoperls/installed-perls/host/k93focal/v5.43.2/d119/lib/5.43.2/x86_64-linux-thread-multi
    /home/sand/src/perl/repoperls/installed-perls/host/k93focal/v5.43.2/d119/lib/5.43.2
    .