HTTP-Message v7.00 Perl 5 v5.18.4 MSWin32-x86-multi-thread-64int

Status
Pass
From
NONAME
Dist
HTTP-Message v7.00
Platform
Perl 5 v5.18.4 MSWin32-x86-multi-thread-64int
Date
2024-10-16 21:39:19
ID
d3a7b32c-72db-1014-b107-49b407c19ce6
This distribution has been tested as part of the CPAN Testers
project, supporting the Perl programming language.  See
http://wiki.cpantesters.org/ for more information or email
questions to cpan-testers-discuss@perl.org


--
Dear Olaf Alders,

This is a computer-generated report for HTTP-Message-7.00
on perl 5.18.4, created by CPAN-Reporter-1.2020.

Thank you for uploading your work to CPAN.  Congratulations!
All tests were successful.

Sections of this report:

    * Tester comments
    * Program output
    * Prerequisites
    * Environment and other context

------------------------------
TESTER COMMENTS
------------------------------

Additional comments from tester:

none provided

------------------------------
PROGRAM OUTPUT
------------------------------

Output from 'C:\Strawberry\c\bin\dmake.exe test':

C:\"Strawberry\perl\bin\perl.exe" "-MExtUtils::Command::MM" "-MTest::Harness" "-e" "undef *Test::Harness::Switches; test_harness(0, 'blib\lib', 'blib\arch')" t/*.t
# 
# Versions for all modules listed in MYMETA.json (including optional ones):
# 
# === Configure Requires ===
# 
#     Module               Want     Have
#     ------------------- ----- --------
#     ExtUtils::MakeMaker   any  7.71_01
#     perl                5.006 5.018004
# 
# === Configure Suggests ===
# 
#     Module      Want    Have
#     -------- ------- -------
#     JSON::PP 2.27300 4.17_01
# 
# === Build Requires ===
# 
#     Module              Want    Have
#     ------------------- ---- -------
#     ExtUtils::MakeMaker  any 7.71_01
# 
# === Test Requires ===
# 
#     Module                  Want     Have
#     ------------------- -------- --------
#     ExtUtils::MakeMaker      any  7.71_01
#     File::Spec               any     3.75
#     File::Temp               any   0.2311
#     PerlIO::encoding         any     0.16
#     Test::More              0.88 1.302204
#     Test::Needs              any 0.002010
#     Time::Local              any     1.33
#     Try::Tiny                any     0.32
#     URI::URL                 any     5.30
#     lib                      any     0.63
#     overload                 any     1.22
#     perl                5.008001 5.018004
# 
# === Test Recommends ===
# 
#     Module                     Want     Have
#     ---------------------- -------- --------
#     CPAN::Meta             2.120900 2.150010
#     IO::Compress::Brotli   0.004001    0.018
#     IO::Uncompress::Brotli 0.004001    0.018
# 
# === Runtime Requires ===
# 
#     Module                         Want     Have
#     -------------------------- -------- --------
#     Carp                            any     1.50
#     Clone                          0.46     0.47
#     Compress::Raw::Bzip2            any    2.213
#     Compress::Raw::Zlib           2.062    2.213
#     Encode                         3.01     3.21
#     Encode::Locale                    1     1.05
#     Exporter                       5.57     5.78
#     File::Spec                      any     3.75
#     HTTP::Date                        6     6.06
#     IO::Compress::Bzip2           2.021    2.213
#     IO::Compress::Deflate           any    2.213
#     IO::Compress::Gzip              any    2.213
#     IO::HTML                        any    1.004
#     IO::Uncompress::Inflate         any    2.213
#     IO::Uncompress::RawInflate      any    2.213
#     LWP::MediaTypes                   6     6.02
#     MIME::Base64                    2.1     3.16
#     MIME::QuotedPrint               any     3.16
#     URI                            1.10     5.30
#     parent                          any    0.242
#     perl                       5.008001 5.018004
#     strict                          any     1.07
#     warnings                        any     1.18
# 
# === Runtime Recommends ===
# 
#     Module                     Want  Have
#     ---------------------- -------- -----
#     IO::Compress::Brotli   0.004001 0.018
#     IO::Uncompress::Brotli 0.004001 0.018
# 
t/00-report-prereqs.t .......... ok
t/common-req.t ................. ok
t/headers-auth.t ............... ok
t/headers-etag.t ............... ok
t/headers-util.t ............... ok
t/headers.t .................... ok
t/http-config.t ................ ok
t/message-brotli.t ............. ok
t/message-charset.t ............ ok
t/message-decode-brotlibomb.t .. ok
t/message-decode-bzipbomb.t .... ok
t/message-decode-xml.t ......... ok
t/message-decode-zipbomb.t ..... ok
t/message-old.t ................ ok
t/message-parts.t .............. ok
t/message.t .................... ok
t/request.t .................... ok
t/request_type_with_data.t ..... ok
t/response.t ................... ok
t/status-old.t ................. ok
t/status.t ..................... ok
All tests successful.
Files=21, Tests=852, 39 wallclock secs ( 0.44 usr +  0.05 sys =  0.48 CPU)
Result: PASS

------------------------------
PREREQUISITES
------------------------------

Prerequisite modules loaded:

requires:

    Module                     Need     Have    
    -------------------------- -------- --------
    Carp                       0        1.50    
    Clone                      0.46     0.47    
    Compress::Raw::Bzip2       0        2.213   
    Compress::Raw::Zlib        2.062    2.213   
    Encode                     3.01     3.21    
    Encode::Locale             1        1.05    
    Exporter                   5.57     5.78    
    File::Spec                 0        3.75    
    HTTP::Date                 6        6.06    
    IO::Compress::Bzip2        2.021    2.213   
    IO::Compress::Deflate      0        2.213   
    IO::Compress::Gzip         0        2.213   
    IO::HTML                   0        1.004   
    IO::Uncompress::Inflate    0        2.213   
    IO::Uncompress::RawInflate 0        2.213   
    LWP::MediaTypes            6        6.02    
    MIME::Base64               2.1      3.16    
    MIME::QuotedPrint          0        3.16    
    parent                     0        0.242   
    perl                       5.008001 5.018004
    strict                     0        1.07    
    URI                        1.10     5.30    
    warnings                   0        1.18    

build_requires:

    Module                     Need     Have    
    -------------------------- -------- --------
    ExtUtils::MakeMaker        0        7.71_01 
    File::Spec                 0        3.75    
    File::Temp                 0        0.2311  
    lib                        0        0.63    
    overload                   0        1.22    
    PerlIO::encoding           0        0.16    
    Test::More                 0.88     1.302204
    Test::Needs                0        0.002010
    Time::Local                0        1.33    
    Try::Tiny                  0        0.32    
    URI::URL                   0        5.30    

configure_requires:

    Module                     Need     Have    
    -------------------------- -------- --------
    ExtUtils::MakeMaker        0        7.71_01 
    perl                       5.006    5.018004


------------------------------
ENVIRONMENT AND OTHER CONTEXT
------------------------------

Environment variables:

    COMSPEC = C:\windows\system32\cmd.exe
    NONINTERACTIVE_TESTING = 1
    NUMBER_OF_PROCESSORS = 4
    PATH = C:\home\journey\perl5\bin;C:\windows\system32;C:\windows;C:\windows\System32\Wbem;C:\windows\System32\WindowsPowerShell\v1.0\;C:\Strawberry\c\bin;C:\Strawberry\perl\site\bin;C:\Strawberry\perl\bin
    PERL5LIB = C:\home\journey\perl5\lib\perl5
    PERL5OPT = 
    PERL5_CPANPLUS_IS_RUNNING = 3392
    PERL5_CPAN_IS_RUNNING = 3392
    PERL_LOCAL_LIB_ROOT = C:\home\journey\perl5
    PERL_MB_OPT = --install_base "C:\\home\\journey\\perl5"
    PERL_MM_OPT = INSTALL_BASE=C:\\home\\journey\\perl5
    PERL_MM_USE_DEFAULT = 1
    PERL_USE_UNSAFE_INC = 1
    PROCESSOR_IDENTIFIER = x86 Family 6 Model 37 Stepping 5, GenuineIntel
    TEMP = C:\Users\user\AppData\Local\Temp
    TERM = dumb

Perl special variables (and OS-specific diagnostics, for MSWin32):

    $^X = C:\Strawberry\perl\bin\perl.exe
    $UID/$EUID = 0 / 0
    $GID = 0
    $EGID = 0
    Win32::GetOSName = Win7
    Win32::GetOSVersion = Service Pack 1, 6, 1, 7601, 2, 1, 0, 256, 1
    Win32::FsType = NTFS
    Win32::IsAdminUser = 0

Perl module toolchain versions installed:

    Module              Have    
    ------------------- --------
    CPAN                2.34    
    CPAN::Meta          2.150010
    Cwd                 3.75    
    ExtUtils::CBuilder  0.280236
    ExtUtils::Command   7.71_01 
    ExtUtils::Install   2.22    
    ExtUtils::MakeMaker 7.71_01 
    ExtUtils::Manifest  1.75    
    ExtUtils::ParseXS   3.51    
    File::Spec          3.75    
    JSON                4.10    
    JSON::PP            4.17_01 
    Module::Build       0.4234  
    Module::Signature   0.89    
    Parse::CPAN::Meta   2.150010
    Test2               1.302204
    Test::Harness       3.50    
    Test::More          1.302204
    YAML                1.31    
    YAML::Syck          1.34    
    version             0.9933  


--

Summary of my perl5 (revision 5 version 18 subversion 4) configuration:
   
  Platform:
    osname=MSWin32, osvers=6.3, archname=MSWin32-x86-multi-thread-64int
    uname='Win32 strawberry-perl 5.18.4.1 #1 Thu Oct  2 12:10:29 2014 i386'
    config_args='undef'
    hint=recommended, useposix=true, d_sigaction=undef
    useithreads=define, usemultiplicity=define
    useperlio=define, d_sfio=undef, uselargefiles=define, usesocks=undef
    use64bitint=define, use64bitall=undef, uselongdouble=undef
    usemymalloc=n, bincompat5005=undef
  Compiler:
    cc='gcc', ccflags =' -s -O2 -DWIN32  -DPERL_TEXTMODE_SCRIPTS -DPERL_IMPLICIT_CONTEXT -DPERL_IMPLICIT_SYS -DUSE_PERLIO -fno-strict-aliasing -mms-bitfields',
    optimize='-s -O2',
    cppflags='-DWIN32'
    ccversion='', gccversion='4.7.3', gccosandvers=''
    intsize=4, longsize=4, ptrsize=4, doublesize=8, byteorder=12345678
    d_longlong=define, longlongsize=8, d_longdbl=define, longdblsize=12
    ivtype='long long', ivsize=8, nvtype='double', nvsize=8, Off_t='long long', lseeksize=8
    alignbytes=8, prototype=define
  Linker and Libraries:
    ld='g++', ldflags ='-s -L"C:\Strawberry\perl\lib\CORE" -L"C:\Strawberry\c\lib"'
    libpth=C:\Strawberry\c\lib C:\Strawberry\c\i686-w64-mingw32\lib C:\Strawberry\c\lib\gcc\i686-w64-mingw32\4.7.3
    libs=-lmoldname -lkernel32 -luser32 -lgdi32 -lwinspool -lcomdlg32 -ladvapi32 -lshell32 -lole32 -loleaut32 -lnetapi32 -luuid -lws2_32 -lmpr -lwinmm -lversion -lodbc32 -lodbccp32 -lcomctl32
    perllibs=-lmoldname -lkernel32 -luser32 -lgdi32 -lwinspool -lcomdlg32 -ladvapi32 -lshell32 -lole32 -loleaut32 -lnetapi32 -luuid -lws2_32 -lmpr -lwinmm -lversion -lodbc32 -lodbccp32 -lcomctl32
    libc=, so=dll, useshrplib=true, libperl=libperl518.a
    gnulibc_version=''
  Dynamic Linking:
    dlsrc=dl_win32.xs, dlext=dll, d_dlsymun=undef, ccdlflags=' '
    cccdlflags=' ', lddlflags='-mdll -s -L"C:\Strawberry\perl\lib\CORE" -L"C:\Strawberry\c\lib"'


Characteristics of this binary (from libperl): 
  Compile-time options: HAS_TIMES HAVE_INTERP_INTERN MULTIPLICITY
                        PERLIO_LAYERS PERL_DONT_CREATE_GVSV
                        PERL_HASH_FUNC_ONE_AT_A_TIME_HARD
                        PERL_IMPLICIT_CONTEXT PERL_IMPLICIT_SYS
                        PERL_MALLOC_WRAP PERL_PRESERVE_IVUV PERL_SAWAMPERSAND
                        USE_64_BIT_INT USE_ITHREADS USE_LARGE_FILES
                        USE_LOCALE USE_LOCALE_COLLATE USE_LOCALE_CTYPE
                        USE_LOCALE_NUMERIC USE_PERLIO USE_PERL_ATOF
  Built under MSWin32
  Compiled at Oct  2 2014 12:19:54
  %ENV:
    PERL5LIB="C:\home\journey\perl5\lib\perl5"
    PERL5_CPANPLUS_IS_RUNNING="3392"
    PERL5_CPAN_IS_RUNNING="3392"
    PERL_LOCAL_LIB_ROOT="C:\home\journey\perl5"
    PERL_MB_OPT="--install_base "C:\\home\\journey\\perl5""
    PERL_MM_OPT="INSTALL_BASE=C:\\home\\journey\\perl5"
    PERL_MM_USE_DEFAULT="1"
    PERL_USE_UNSAFE_INC="1"
  @INC:
    C:\home\journey\perl5\lib\perl5/MSWin32-x86-multi-thread-64int
    C:\home\journey\perl5\lib\perl5
    C:/Strawberry/perl/site/lib
    C:/Strawberry/perl/vendor/lib
    C:/Strawberry/perl/lib
    .