Report for Spreadsheet-Simple-1.0.0

Back
From: metabase:user:314402c4-2aae-11df-837a-5e0a49663a4f
Subject: PASS Spreadsheet-Simple-1.0.0 v5.26.0 RC1 GNU/Linux
Date: 2017-05-18T16:48:32Z

This distribution has been tested as part of the CPAN Testers
project, supporting the Perl programming language.  See
http://wiki.cpantesters.org/ for more information or email
questions to cpan-testers-discuss@perl.org


--
Dear Dylan William Hardison,

This is a computer-generated report for Spreadsheet-Simple-1.0.0
on perl 5.26.0, created by CPAN-Reporter-1.2018.

Thank you for uploading your work to CPAN.  Congratulations!
All tests were successful.

Sections of this report:

    * Tester comments
    * Program output
    * Prerequisites
    * Environment and other context

------------------------------
TESTER COMMENTS
------------------------------

Additional comments from tester:

none provided

------------------------------
PROGRAM OUTPUT
------------------------------

Output from '/usr/bin/make test':

PERL_DL_NONLAZY=1 "/opt/perl-5.26.0-RC1/bin/perl" "-MExtUtils::Command::MM" "-MTest::Harness" "-e" "undef *Test::Harness::Switches; test_harness(0, 'blib/lib', 'blib/arch')" t/*.t
# Testing Spreadsheet::Simple 1.0.0, Perl 5.026000, /opt/perl-5.26.0-RC1/bin/perl
t/000-load.t .............. ok
Class::MOP::load_class is deprecated at /opt/perl-5.26.0-RC1/lib/site_perl/5.26.0/x86_64-linux/Class/MOP.pm line 69.
	Class::MOP::load_class("Spreadsheet::Simple::Document") called at /home/cpansand/.cpan/build/2017051815/Spreadsheet-Simple-1.0.0-0/blib/lib/Spreadsheet/Simple.pm line 62
	Spreadsheet::Simple::new_document(Spreadsheet::Simple=HASH(0x562610c7f6b8)) called at t/001-basic.t line 11
Class::MOP::load_class is deprecated at /opt/perl-5.26.0-RC1/lib/site_perl/5.26.0/x86_64-linux/Class/MOP.pm line 69.
	Class::MOP::load_class("Spreadsheet::Simple::Row") called at /home/cpansand/.cpan/build/2017051815/Spreadsheet-Simple-1.0.0-0/blib/lib/Spreadsheet/Simple/Types.pm line 37
	Spreadsheet::Simple::Types::__ANON__(ARRAY(0x562610cec630)) called at /opt/perl-5.26.0-RC1/lib/site_perl/5.26.0/x86_64-linux/Moose/Meta/TypeCoercion.pm line 65
	Moose::Meta::TypeCoercion::__ANON__(ARRAY(0x562610cec630)) called at /opt/perl-5.26.0-RC1/lib/site_perl/5.26.0/x86_64-linux/Moose/Meta/TypeCoercion.pm line 100
	Moose::Meta::TypeCoercion::coerce(Moose::Meta::TypeCoercion=HASH(0x562610c94978), ARRAY(0x562610cec630)) called at /opt/perl-5.26.0-RC1/lib/site_perl/5.26.0/x86_64-linux/Moose/Meta/TypeConstraint.pm line 145
	Moose::Meta::TypeConstraint::coerce(Moose::Meta::TypeConstraint::Parameterizable=HASH(0x562610c91c98), ARRAY(0x562610cec630)) called at /opt/perl-5.26.0-RC1/lib/site_perl/5.26.0/MooseX/Types/TypeDecorator.pm line 221
	MooseX::Types::TypeDecorator::_try_delegate(MooseX::Types::TypeDecorator=HASH(0x562610cffff8), "coerce", ARRAY(0x562610cec630)) called at /opt/perl-5.26.0-RC1/lib/site_perl/5.26.0/MooseX/Types/TypeDecorator.pm line 186
	MooseX::Types::TypeDecorator::AUTOLOAD(MooseX::Types::TypeDecorator=HASH(0x562610cffff8), ARRAY(0x562610cec630)) called at /opt/perl-5.26.0-RC1/lib/site_perl/5.26.0/x86_64-linux/Moose/Meta/Attribute.pm line 1317
	Moose::Meta::Attribute::_coerce_and_verify(Moose::Meta::Class::__ANON__::SERIAL::1=HASH(0x562610e50428), ARRAY(0x562610cec630), Spreadsheet::Simple::Sheet=HASH(0x562610cffad0)) called at /opt/perl-5.26.0-RC1/lib/site_perl/5.26.0/x86_64-linux/Moose/Meta/Attribute.pm line 517
	Moose::Meta::Attribute::initialize_instance_slot(Moose::Meta::Class::__ANON__::SERIAL::1=HASH(0x562610e50428), Moose::Meta::Instance=HASH(0x562610e7a658), Spreadsheet::Simple::Sheet=HASH(0x562610cffad0), HASH(0x562610cec9a8)) called at /opt/perl-5.26.0-RC1/lib/site_perl/5.26.0/x86_64-linux/Class/MOP/Class.pm line 526
	Class::MOP::Class::_construct_instance(Moose::Meta::Class=HASH(0x562610d07b68), HASH(0x562610cec9a8)) called at /opt/perl-5.26.0-RC1/lib/site_perl/5.26.0/x86_64-linux/Class/MOP/Class.pm line 496
	Class::MOP::Class::new_object(Moose::Meta::Class=HASH(0x562610d07b68), HASH(0x562610cec9a8)) called at /opt/perl-5.26.0-RC1/lib/site_perl/5.26.0/x86_64-linux/Moose/Meta/Class.pm line 273
	Moose::Meta::Class::new_object(Moose::Meta::Class=HASH(0x562610d07b68), HASH(0x562610cec9a8)) called at /opt/perl-5.26.0-RC1/lib/site_perl/5.26.0/x86_64-linux/Moose/Object.pm line 24
	Moose::Object::new("Spreadsheet::Simple::Sheet", "name", "test", "rows", ARRAY(0x562610cec630)) called at /home/cpansand/.cpan/build/2017051815/Spreadsheet-Simple-1.0.0-0/blib/lib/Spreadsheet/Simple/Document.pm line 31
	Spreadsheet::Simple::Document::new_sheet(Spreadsheet::Simple::Document=HASH(0x56260ffc5330), "name", "test", "rows", ARRAY(0x562610cec630)) called at t/001-basic.t line 16
t/001-basic.t ............. ok
Class::MOP::load_class is deprecated at /opt/perl-5.26.0-RC1/lib/site_perl/5.26.0/x86_64-linux/Class/MOP.pm line 69.
	Class::MOP::load_class() called at /home/cpansand/.cpan/build/2017051815/Spreadsheet-Simple-1.0.0-0/blib/lib/Spreadsheet/Simple/Types.pm line 26
	Spreadsheet::Simple::Types::__ANON__() called at /opt/perl-5.26.0-RC1/lib/site_perl/5.26.0/x86_64-linux/Moose/Meta/TypeCoercion.pm line 65
	Moose::Meta::TypeCoercion::__ANON__() called at /opt/perl-5.26.0-RC1/lib/site_perl/5.26.0/x86_64-linux/Moose/Meta/TypeCoercion.pm line 100
	Moose::Meta::TypeCoercion::coerce() called at /opt/perl-5.26.0-RC1/lib/site_perl/5.26.0/x86_64-linux/Moose/Meta/TypeConstraint.pm line 145
	Moose::Meta::TypeConstraint::coerce() called at /opt/perl-5.26.0-RC1/lib/site_perl/5.26.0/MooseX/Types/TypeDecorator.pm line 221
	MooseX::Types::TypeDecorator::_try_delegate() called at /opt/perl-5.26.0-RC1/lib/site_perl/5.26.0/MooseX/Types/TypeDecorator.pm line 186
	MooseX::Types::TypeDecorator::AUTOLOAD() called at /opt/perl-5.26.0-RC1/lib/site_perl/5.26.0/x86_64-linux/Moose/Meta/Attribute.pm line 1317
	Moose::Meta::Attribute::_coerce_and_verify() called at /opt/perl-5.26.0-RC1/lib/site_perl/5.26.0/x86_64-linux/Moose/Meta/Attribute.pm line 517
	Moose::Meta::Attribute::initialize_instance_slot() called at /opt/perl-5.26.0-RC1/lib/site_perl/5.26.0/x86_64-linux/Class/MOP/Class.pm line 526
	Class::MOP::Class::_construct_instance() called at /opt/perl-5.26.0-RC1/lib/site_perl/5.26.0/x86_64-linux/Class/MOP/Class.pm line 496
	Class::MOP::Class::new_object() called at /opt/perl-5.26.0-RC1/lib/site_perl/5.26.0/x86_64-linux/Moose/Meta/Class.pm line 273
	Moose::Meta::Class::new_object() called at /opt/perl-5.26.0-RC1/lib/site_perl/5.26.0/x86_64-linux/Moose/Object.pm line 24
	Moose::Object::new() called at t/002-row.t line 10
	Test::Exception::lives_ok() called at t/002-row.t line 11
t/002-row.t ............... ok
t/003-cell.t .............. ok
t/100-excel.t ............. ok
Class::MOP::load_class is deprecated at /opt/perl-5.26.0-RC1/lib/site_perl/5.26.0/x86_64-linux/Class/MOP.pm line 69.
	Class::MOP::load_class("Spreadsheet::Simple::Reader::Excel") called at /home/cpansand/.cpan/build/2017051815/Spreadsheet-Simple-1.0.0-0/blib/lib/Spreadsheet/Simple.pm line 43
	Spreadsheet::Simple::_build_reader(Spreadsheet::Simple=HASH(0x564aa5e1e678)) called at reader Spreadsheet::Simple::reader (defined at /home/cpansand/.cpan/build/2017051815/Spreadsheet-Simple-1.0.0-0/blib/lib/Spreadsheet/Simple.pm line 24) line 8
	Spreadsheet::Simple::reader(Spreadsheet::Simple=HASH(0x564aa5e1e678)) called at inline delegation in Spreadsheet::Simple for reader->read_file (attribute declared in /home/cpansand/.cpan/build/2017051815/Spreadsheet-Simple-1.0.0-0/blib/lib/Spreadsheet/Simple.pm at line 24) line 4
	Spreadsheet::Simple::read_file(Spreadsheet::Simple=HASH(0x564aa5e1e678), "t/data/100-excel.xls") called at t/101-excel.t line 21
t/101-excel.t ............. ok
t/release-pod-coverage.t .. skipped: these tests are for release candidate testing
t/release-pod-syntax.t .... skipped: these tests are for release candidate testing
All tests successful.
Files=8, Tests=92,  4 wallclock secs ( 0.05 usr  0.02 sys +  4.13 cusr  0.23 csys =  4.43 CPU)
Result: PASS

------------------------------
PREREQUISITES
------------------------------

Prerequisite modules loaded:

requires:

    Module                    Need Have    
    ------------------------- ---- --------
    Moose                     0    2.2005  
    Moose::Role               0    2.2005  
    MooseX::Types             0    0.50    
    MooseX::Types::Moose      0    0.50    
    MooseX::Types::Structured 0    0.36    
    namespace::autoclean      0    0.28    
    Spreadsheet::ParseExcel   0.59 0.65    
    strict                    0    1.11    
    warnings                  0    1.37    

build_requires:

    Module                    Need Have    
    ------------------------- ---- --------
    Path::Class               0.25 0.37    
    Test::Exception           0    0.43    
    Test::More                0    1.302085

configure_requires:

    Module                    Need Have    
    ------------------------- ---- --------
    ExtUtils::MakeMaker       6.30 7.24    


------------------------------
ENVIRONMENT AND OTHER CONTEXT
------------------------------

Environment variables:

    LANG = en_US.UTF-8
    LANGUAGE = en_US:en
    PATH = /usr/local/bin:/usr/bin:/bin:/usr/local/sbin:/usr/sbin:/sbin:/home/cpansand/bin/linux-gnu:/home/cpansand/bin/sh:/home/cpansand/bin:/usr/games:/home/cpansand/devel:/home/eserte/src/srezic-misc/scripts
    PERL5LIB = 
    PERL5OPT = 
    PERL5_CPANPLUS_IS_RUNNING = 9014
    PERL5_CPAN_IS_RUNNING = 9014
    PERL5_CPAN_IS_RUNNING_IN_RECURSION = 19293,9014
    PERLDOC = -MPod::Perldoc::ToTextOverstrike
    PERL_BATCH = yes
    PERL_CANARY_STABILITY_NOPROMPT = 1
    PERL_CPAN_REPORTER_CONFIG = /var/tmp/cpansmoker-1002/2017051815/cpanreporter_000_config.ini
    PERL_EXTUTILS_AUTOINSTALL = --defaultdeps
    PERL_USE_UNSAFE_INC = 1
    SHELL = /bin/zsh
    TERM = screen.xterm-256color
    TMPDIR = /var/tmp/cpansmoker-1002/2017051815

Perl special variables (and OS-specific diagnostics, for MSWin32):

    $^X = /opt/perl-5.26.0-RC1/bin/perl
    $UID/$EUID = 1002 / 1002
    $GID = 1002 1002
    $EGID = 1002 1002

Perl module toolchain versions installed:

    Module              Have      
    ------------------- ----------
    CPAN                2.18      
    CPAN::Meta          2.150010  
    Cwd                 3.62      
    ExtUtils::CBuilder  0.280224  
    ExtUtils::Command   7.24      
    ExtUtils::Install   2.08      
    ExtUtils::MakeMaker 7.24      
    ExtUtils::Manifest  1.70      
    ExtUtils::ParseXS   3.30      
    File::Spec          3.62      
    JSON                2.92      
    JSON::PP            2.27400_02
    Module::Build       0.4222    
    Module::Signature   0.81      
    Parse::CPAN::Meta   2.150010  
    Test::Harness       3.39      
    Test::More          1.302085  
    YAML                1.23      
    YAML::Syck          1.30      
    version             0.9918    


--

Summary of my perl5 (revision 5 version 26 subversion 0) configuration:
   
  Platform:
    osname=linux
    osvers=4.9.0-2-amd64
    archname=x86_64-linux
    uname='linux prod4 4.9.0-2-amd64 #1 smp debian 4.9.18-1 (2017-03-30) x86_64 gnulinux '
    config_args='-ds -e -Dprefix=/opt/perl-5.26.0-RC1 -Dcf_email=srezic@cpan.org'
    hint=recommended
    useposix=true
    d_sigaction=define
    useithreads=undef
    usemultiplicity=undef
    use64bitint=define
    use64bitall=define
    uselongdouble=undef
    usemymalloc=n
    default_inc_excludes_dot=define
    bincompat5005=undef
  Compiler:
    cc='cc'
    ccflags ='-fwrapv -fno-strict-aliasing -pipe -fstack-protector-strong -I/usr/local/include -D_LARGEFILE_SOURCE -D_FILE_OFFSET_BITS=64'
    optimize='-O2'
    cppflags='-fwrapv -fno-strict-aliasing -pipe -fstack-protector-strong -I/usr/local/include'
    ccversion=''
    gccversion='6.3.0 20170425'
    gccosandvers=''
    intsize=4
    longsize=8
    ptrsize=8
    doublesize=8
    byteorder=12345678
    doublekind=3
    d_longlong=define
    longlongsize=8
    d_longdbl=define
    longdblsize=16
    longdblkind=3
    ivtype='long'
    ivsize=8
    nvtype='double'
    nvsize=8
    Off_t='off_t'
    lseeksize=8
    alignbytes=8
    prototype=define
  Linker and Libraries:
    ld='cc'
    ldflags =' -fstack-protector-strong -L/usr/local/lib'
    libpth=/usr/local/lib /usr/lib/gcc/x86_64-linux-gnu/6/include-fixed /usr/include/x86_64-linux-gnu /usr/lib /lib/x86_64-linux-gnu /lib/../lib /usr/lib/x86_64-linux-gnu /usr/lib/../lib /lib
    libs=-lpthread -lnsl -lgdbm -ldb -ldl -lm -lcrypt -lutil -lc -lgdbm_compat
    perllibs=-lpthread -lnsl -ldl -lm -lcrypt -lutil -lc
    libc=libc-2.24.so
    so=so
    useshrplib=false
    libperl=libperl.a
    gnulibc_version='2.24'
  Dynamic Linking:
    dlsrc=dl_dlopen.xs
    dlext=so
    d_dlsymun=undef
    ccdlflags='-Wl,-E'
    cccdlflags='-fPIC'
    lddlflags='-shared -O2 -L/usr/local/lib -fstack-protector-strong'


Characteristics of this binary (from libperl): 
  Compile-time options:
    HAS_TIMES
    PERLIO_LAYERS
    PERL_COPY_ON_WRITE
    PERL_DONT_CREATE_GVSV
    PERL_MALLOC_WRAP
    PERL_OP_PARENT
    PERL_PRESERVE_IVUV
    USE_64_BIT_ALL
    USE_64_BIT_INT
    USE_LARGE_FILES
    USE_LOCALE
    USE_LOCALE_COLLATE
    USE_LOCALE_CTYPE
    USE_LOCALE_NUMERIC
    USE_LOCALE_TIME
    USE_PERLIO
    USE_PERL_ATOF
  Locally applied patches:
    RC1
  Built under linux
  Compiled at May 11 2017 21:08:17
  %ENV:
    PERL5LIB=""
    PERL5OPT=""
    PERL5_CPANPLUS_IS_RUNNING="9014"
    PERL5_CPAN_IS_RUNNING="9014"
    PERL5_CPAN_IS_RUNNING_IN_RECURSION="19293,9014"
    PERLDOC="-MPod::Perldoc::ToTextOverstrike"
    PERL_BATCH="yes"
    PERL_CANARY_STABILITY_NOPROMPT="1"
    PERL_CPAN_REPORTER_CONFIG="/var/tmp/cpansmoker-1002/2017051815/cpanreporter_000_config.ini"
    PERL_EXTUTILS_AUTOINSTALL="--defaultdeps"
    PERL_USE_UNSAFE_INC="1"
  @INC:
    /opt/perl-5.26.0-RC1/lib/site_perl/5.26.0/x86_64-linux
    /opt/perl-5.26.0-RC1/lib/site_perl/5.26.0
    /opt/perl-5.26.0-RC1/lib/5.26.0/x86_64-linux
    /opt/perl-5.26.0-RC1/lib/5.26.0
    .