Algorithm-AM v3.11 Perl 5 v5.20.0 darwin-thread-multi-2level

Status
Pass
From
Nigel Horne
Dist
Algorithm-AM v3.11
Platform
Perl 5 v5.20.0 darwin-thread-multi-2level
Date
2017-11-19 06:28:16
ID
d3c96dba-ccf2-11e7-90cb-863ebf6c69fe
This distribution has been tested as part of the CPAN Testers
project, supporting the Perl programming language.  See
http://wiki.cpantesters.org/ for more information or email
questions to cpan-testers-discuss@perl.org


--
Dear Nathan Gary Glenn,

This is a computer-generated report for Algorithm-AM-3.11
on perl 5.20.0, created by CPAN-Reporter-1.2018.

Thank you for uploading your work to CPAN.  Congratulations!
All tests were successful.

Sections of this report:

    * Tester comments
    * Program output
    * Prerequisites
    * Environment and other context

------------------------------
TESTER COMMENTS
------------------------------

Additional comments from tester:

this report is from an automated smoke testing program
and was not reviewed by a human for accuracy

------------------------------
PROGRAM OUTPUT
------------------------------

Output from '/sw/bin/make test':

"/Users/hornenj/perl5/perlbrew/perls/perl-5.20.0/bin/perl" -MExtUtils::Command::MM -e 'cp_nonempty' -- AM.bs blib/arch/auto/Algorithm/AM/AM.bs 644
PERL_DL_NONLAZY=1 "/Users/hornenj/perl5/perlbrew/perls/perl-5.20.0/bin/perl" "-MExtUtils::Command::MM" "-MTest::Harness" "-e" "undef *Test::Harness::Switches; test_harness(0, 'blib/lib', 'blib/arch')" t/*.t
t/0-use_AM.t ........... ok
t/0-use_Batch.t ........ ok
# 
# Versions for all modules listed in MYMETA.json (including optional ones):
# 
# === Configure Requires ===
# 
#     Module              Want Have
#     ------------------- ---- ----
#     ExtUtils::MakeMaker 6.17 7.30
# 
# === Build Requires ===
# 
#     Module              Want Have
#     ------------------- ---- ----
#     ExtUtils::MakeMaker  any 7.30
# 
# === Test Requires ===
# 
#     Module              Want     Have
#     ------------------- ---- --------
#     ExtUtils::MakeMaker  any     7.30
#     File::Spec           any     3.62
#     FindBin              any     1.51
#     Test::Deep           any    1.127
#     Test::Exception      any     0.43
#     Test::LongString     any     0.17
#     Test::More          0.88 1.302106
#     Test::NoWarnings     any     1.04
# 
# === Test Recommends ===
# 
#     Module         Want     Have
#     ---------- -------- --------
#     CPAN::Meta 2.120900 2.150010
# 
# === Runtime Requires ===
# 
#     Module            Want     Have
#     ----------------- ---- --------
#     Carp               any     1.38
#     Class::Tiny        any    1.006
#     Exporter::Easy     any     0.18
#     Getopt::Long      2.13      2.5
#     Import::Into       any 1.002005
#     Log::Any           any    1.701
#     Log::Any::Adapter  any    1.701
#     Path::Tiny         any    0.104
#     Pod::Usage         any     1.69
#     Text::Table        any    1.133
#     XSLoader           any     0.24
#     feature            any     1.36
#     integer            any     1.01
#     strict             any     1.08
#     warnings           any     1.23
# 
t/00-report-prereqs.t .. ok
t/01-Item.t ............ ok
t/02-DataSet.t ......... ok
t/03-AM.t .............. ok
t/04-Result.t .......... ok
t/05-Bigint.t .......... ok
t/06-Batch.t ........... ok
t/07-Batch_hooks.t ..... ok
t/08-finnverb.t ........ ok
t/09-soybean.t ......... ok
All tests successful.
Files=12, Tests=143,  1 wallclock secs ( 0.06 usr  0.03 sys +  1.42 cusr  0.18 csys =  1.69 CPU)
Result: PASS

------------------------------
PREREQUISITES
------------------------------

Prerequisite modules loaded:

requires:

    Module              Need     Have    
    ------------------- -------- --------
    Carp                0        1.38    
    Class::Tiny         0        1.006   
    Exporter::Easy      0        0.18    
    feature             0        1.36    
    Getopt::Long        2.13     2.5     
    Import::Into        0        1.002005
    integer             0        1.01    
    Log::Any            0        1.701   
    Log::Any::Adapter   0        1.701   
    Path::Tiny          0        0.104   
    perl                5.010000 5.020000
    Pod::Usage          0        1.69    
    strict              0        1.08    
    Text::Table         0        1.133   
    warnings            0        1.23    
    XSLoader            0        0.24    

build_requires:

    Module              Need     Have    
    ------------------- -------- --------
    ExtUtils::MakeMaker 0        7.30    
    File::Spec          0        3.62    
    FindBin             0        1.51    
    Test::Deep          0        1.127   
    Test::Exception     0        0.43    
    Test::LongString    0        0.17    
    Test::More          0.88     1.302106
    Test::NoWarnings    0        1.04    

configure_requires:

    Module              Need     Have    
    ------------------- -------- --------
    ExtUtils::MakeMaker 6.17     7.30    
    perl                5.010    5.020000


------------------------------
ENVIRONMENT AND OTHER CONTEXT
------------------------------

Environment variables:

    AUTOMATED_TESTING = 1
    LANG = en_US.UTF-8
    LC_ALL = POSIX
    PATH = /Users/hornenj/perl5/perlbrew/bin:/Users/hornenj/perl5/perlbrew/perls/perl-5.20.0/bin:/Users/hornenj/perl5/perlbrew/bin:/Users/hornenj/perl5/perlbrew/perls/perl-5.26.1-thread/bin:/Users/hornenj/bin:/usr/bin:/bin:/usr/X11R6/bin:/sw/bin
    PERL5LIB = /Users/hornenj/.cpan/build/Text-Table-1.133-7/blib/arch:/Users/hornenj/.cpan/build/Text-Table-1.133-7/blib/lib:/Users/hornenj/.cpan/build/Text-Aligner-0.13-7/blib/arch:/Users/hornenj/.cpan/build/Text-Aligner-0.13-7/blib/lib:/Users/hornenj/.cpan/build/Exporter-Easy-0.18-5/blib/arch:/Users/hornenj/.cpan/build/Exporter-Easy-0.18-5/blib/lib
    PERL5OPT = 
    PERL5_CPANPLUS_IS_RUNNING = 40845
    PERL5_CPAN_IS_RUNNING = 40845
    PERL5_MINISMOKEBOX = 0.68
    PERLBREW_BASHRC_VERSION = 0.80
    PERLBREW_HOME = /Users/hornenj/.perlbrew
    PERLBREW_LIB = 
    PERLBREW_MANPATH = /Users/hornenj/perl5/perlbrew/perls/perl-5.20.0/man
    PERLBREW_PATH = /Users/hornenj/perl5/perlbrew/bin:/Users/hornenj/perl5/perlbrew/perls/perl-5.20.0/bin
    PERLBREW_PERL = perl-5.20.0
    PERLBREW_ROOT = /Users/hornenj/perl5/perlbrew
    PERLBREW_VERSION = 0.80
    PERL_EXTUTILS_AUTOINSTALL = --defaultdeps
    PERL_LOCAL_LIB_ROOT = 
    PERL_MM_USE_DEFAULT = 1
    SHELL = /bin/bash
    TERM = xterm-256color
    TMPDIR = /var/folders/pz/pd7y1qjs6s3cbk170cw50fjc000c61/T/

Perl special variables (and OS-specific diagnostics, for MSWin32):

    $^X = /Users/hornenj/perl5/perlbrew/perls/perl-5.20.0/bin/perl
    $UID/$EUID = 12481 / 12481
    $GID = 14 14 5344 37191 527 12 62 204 399 206 37223 241 223
    $EGID = 14 14 5344 37191 527 12 62 204 399 206 37223 241 223

Perl module toolchain versions installed:

    Module              Have    
    ------------------- --------
    CPAN                2.16    
    CPAN::Meta          2.150010
    Cwd                 3.62    
    ExtUtils::CBuilder  0.280226
    ExtUtils::Command   7.30    
    ExtUtils::Install   2.14    
    ExtUtils::MakeMaker 7.30    
    ExtUtils::Manifest  1.70    
    ExtUtils::ParseXS   3.35    
    File::Spec          3.62    
    JSON                2.94    
    JSON::PP            2.94    
    Module::Build       0.4224  
    Module::Signature   n/a     
    Parse::CPAN::Meta   2.150010
    Test::Harness       3.39    
    Test::More          1.302106
    YAML                1.23    
    YAML::Syck          1.30    
    version             0.9918  


--

Summary of my perl5 (revision 5 version 20 subversion 0) configuration:
   
  Platform:
    osname=darwin, osvers=12.5.0, archname=darwin-thread-multi-2level
    uname='darwin ncbimac2008.ncbi.nlm.nih.gov 12.5.0 darwin kernel version 12.5.0: sun sep 29 13:33:47 pdt 2013; root:xnu-2050.48.12~1release_x86_64 x86_64 '
    config_args='-de -Dprefix=/Users/hornenj/perl5/perlbrew/perls/perl-5.20.0 -Duseithreads -Dusemultiplicity -Accflags=-O2 -W -Wformat=2 -Wswitch -Wshadow -Wwrite-strings -Wuninitialized -Wall -pipe -mtune=native -march=native -fomit-frame-pointer -msse2 -msse -mmmx -pedantic -D_FORTIFY_SOURCE=2 -Wpointer-arith -Wstrict-prototypes -fstack-protector -Wstack-protector -Wextra -Wbad-function-cast -Wcast-align -Wcast-qual -Wdisabled-optimization -Wendif-labels -Wfloat-equal -Wformat-nonliteral -Winline -Wmissing-declarations -Wmissing-prototypes -Wnested-externs -Wpointer-arith -Wundef -Wformat-security -fassociative-math -Acc=cc -Aeval:scriptdir=/Users/hornenj/perl5/perlbrew/perls/perl-5.20.0/bin'
    hint=recommended, useposix=true, d_sigaction=define
    useithreads=define, usemultiplicity=define
    use64bitint=define, use64bitall=define, uselongdouble=undef
    usemymalloc=n, bincompat5005=undef
  Compiler:
    cc=' cc', ccflags ='-fno-common -DPERL_DARWIN -O2 -W -Wformat=2 -Wswitch -Wshadow -Wwrite-strings -Wuninitialized -Wall -pipe -mtune=native -march=native -fomit-frame-pointer -msse2 -msse -mmmx -pedantic -D_FORTIFY_SOURCE=2 -Wpointer-arith -Wstrict-prototypes -fstack-protector -Wstack-protector -Wextra -Wbad-function-cast -Wcast-align -Wcast-qual -Wdisabled-optimization -Wendif-labels -Wfloat-equal -Wformat-nonliteral -Winline -Wmissing-declarations -Wmissing-prototypes -Wnested-externs -Wpointer-arith -Wundef -Wformat-security -fassociative-math -fno-strict-aliasing -I/usr/local/include',
    optimize='-O3',
    cppflags='-fno-common -DPERL_DARWIN -O2 -W -Wformat=2 -Wswitch -Wshadow -Wwrite-strings -Wuninitialized -Wall -pipe -mtune=native -march=native -fomit-frame-pointer -msse2 -msse -mmmx -pedantic -D_FORTIFY_SOURCE=2 -Wpointer-arith -Wstrict-prototypes -fstack-protector -Wstack-protector -Wextra -Wbad-function-cast -Wcast-align -Wcast-qual -Wdisabled-optimization -Wendif-labels -Wfloat-equal -Wformat-nonliteral -Winline -Wmissing-declarations -Wmissing-prototypes -Wnested-externs -Wpointer-arith -Wundef -Wformat-security -fassociative-math -fno-strict-aliasing -I/usr/local/include'
    ccversion='', gccversion='4.2.1 Compatible Apple LLVM 4.2 (clang-425.0.24)', gccosandvers=''
    intsize=4, longsize=8, ptrsize=8, doublesize=8, byteorder=12345678
    d_longlong=define, longlongsize=8, d_longdbl=define, longdblsize=16
    ivtype='long', ivsize=8, nvtype='double', nvsize=8, Off_t='off_t', lseeksize=8
    alignbytes=8, prototype=define
  Linker and Libraries:
    ld='env MACOSX_DEPLOYMENT_TARGET=10.3 cc', ldflags =' -fstack-protector -L/usr/local/lib'
    libpth=/usr/local/lib /usr/bin/../lib/clang/4.2/lib /usr/lib
    libs=-ldbm -ldl -lm -lutil -lc
    perllibs=-ldl -lm -lutil -lc
    libc=, so=dylib, useshrplib=false, libperl=libperl.a
    gnulibc_version=''
  Dynamic Linking:
    dlsrc=dl_dlopen.xs, dlext=bundle, d_dlsymun=undef, ccdlflags=' '
    cccdlflags=' ', lddlflags=' -bundle -undefined dynamic_lookup -L/usr/local/lib -fstack-protector'


Characteristics of this binary (from libperl): 
  Compile-time options: HAS_TIMES MULTIPLICITY PERLIO_LAYERS
                        PERL_DONT_CREATE_GVSV
                        PERL_HASH_FUNC_ONE_AT_A_TIME_HARD
                        PERL_IMPLICIT_CONTEXT PERL_MALLOC_WRAP
                        PERL_NEW_COPY_ON_WRITE PERL_PRESERVE_IVUV
                        USE_64_BIT_ALL USE_64_BIT_INT USE_ITHREADS
                        USE_LARGE_FILES USE_LOCALE USE_LOCALE_COLLATE
                        USE_LOCALE_CTYPE USE_LOCALE_NUMERIC USE_PERLIO
                        USE_PERL_ATOF USE_REENTRANT_API
  Built under darwin
  Compiled at May 28 2014 08:29:41
  %ENV:
    PERL5LIB="/Users/hornenj/.cpan/build/Text-Table-1.133-7/blib/arch:/Users/hornenj/.cpan/build/Text-Table-1.133-7/blib/lib:/Users/hornenj/.cpan/build/Text-Aligner-0.13-7/blib/arch:/Users/hornenj/.cpan/build/Text-Aligner-0.13-7/blib/lib:/Users/hornenj/.cpan/build/Exporter-Easy-0.18-5/blib/arch:/Users/hornenj/.cpan/build/Exporter-Easy-0.18-5/blib/lib"
    PERL5OPT=""
    PERL5_CPANPLUS_IS_RUNNING="40845"
    PERL5_CPAN_IS_RUNNING="40845"
    PERL5_MINISMOKEBOX="0.68"
    PERLBREW_BASHRC_VERSION="0.80"
    PERLBREW_HOME="/Users/hornenj/.perlbrew"
    PERLBREW_LIB=""
    PERLBREW_MANPATH="/Users/hornenj/perl5/perlbrew/perls/perl-5.20.0/man"
    PERLBREW_PATH="/Users/hornenj/perl5/perlbrew/bin:/Users/hornenj/perl5/perlbrew/perls/perl-5.20.0/bin"
    PERLBREW_PERL="perl-5.20.0"
    PERLBREW_ROOT="/Users/hornenj/perl5/perlbrew"
    PERLBREW_VERSION="0.80"
    PERL_EXTUTILS_AUTOINSTALL="--defaultdeps"
    PERL_LOCAL_LIB_ROOT=""
    PERL_MM_USE_DEFAULT="1"
  @INC:
    /Users/hornenj/.cpan/build/Text-Table-1.133-7/blib/arch
    /Users/hornenj/.cpan/build/Text-Table-1.133-7/blib/lib
    /Users/hornenj/.cpan/build/Text-Aligner-0.13-7/blib/arch
    /Users/hornenj/.cpan/build/Text-Aligner-0.13-7/blib/lib
    /Users/hornenj/.cpan/build/Exporter-Easy-0.18-5/blib/arch
    /Users/hornenj/.cpan/build/Exporter-Easy-0.18-5/blib/lib
    /Users/hornenj/perl5/perlbrew/perls/perl-5.20.0/lib/site_perl/5.20.0/darwin-thread-multi-2level
    /Users/hornenj/perl5/perlbrew/perls/perl-5.20.0/lib/site_perl/5.20.0
    /Users/hornenj/perl5/perlbrew/perls/perl-5.20.0/lib/5.20.0/darwin-thread-multi-2level
    /Users/hornenj/perl5/perlbrew/perls/perl-5.20.0/lib/5.20.0
    .