Zonemaster-Engine vv5.0.0 Perl 5 v5.16.2 i386-freebsd-64int
- Status
- Pass
- From
- Chris Williams (BINGOS)
- Dist
-
Zonemaster-Engine vv5.0.0
- Platform
- Perl 5 v5.16.2 i386-freebsd-64int
- Date
- 2024-04-05 03:23:09
- ID
- d3d2c94c-f2fb-11ee-98b0-b3c3213a625c
This distribution has been tested as part of the CPAN Testers
project, supporting the Perl programming language. See
http://wiki.cpantesters.org/ for more information or email
questions to cpan-testers-discuss@perl.org
--
Dear Afnic and IIS Zonemaster Project,
This is a computer-generated error report created automatically by
CPANPLUS, version 0.9914. Testers personal comments may appear
at the end of this report.
Thank you for uploading your work to CPAN. Congratulations!
All tests were successful.
TEST RESULTS:
Below is the error stack from stage 'make test':
cd share && "gmake" all
gmake[1]: Entering directory '/usr/home/cpan/pit/64bit/conf/perl-5.16.2/.cpanplus/5.16.2/build/gPVDGxEDYj/Zonemaster-Engine-v5.0.0/share'
gmake[1]: Nothing to be done for 'all'.
gmake[1]: Leaving directory '/usr/home/cpan/pit/64bit/conf/perl-5.16.2/.cpanplus/5.16.2/build/gPVDGxEDYj/Zonemaster-Engine-v5.0.0/share'
PERL_DL_NONLAZY=1 "/usr/home/cpan/pit/64bit/perl-5.16.2/bin/perl" "-MExtUtils::Command::MM" "-MTest::Harness" "-e" "undef *Test::Harness::Switches; test_harness(0, 'inc', 'blib/lib', 'blib/arch')" t/*.t
# Testing Zonemaster Engine v5.0.0, Perl 5.016002, /usr/home/cpan/pit/64bit/perl-5.16.2/bin/perl
t/00-load.t ............... ok
t/asn.t ................... ok
t/dnsname.t ............... ok
t/logger.t ................ ok
t/manifest.t .............. ok
t/nameserver-axfr.t ....... ok
t/nameserver.t ............ ok
t/normalization.t ......... ok
t/old-bugs.t .............. ok
# requiring 'Zonemaster::Engine::Nameserver::Cache::RedisCache' failed for Zonemaster::Engine::Nameserver::Cache::RedisCache
t/pod-coverage.t .......... ok
t/pod.t ................... ok
t/profiles.t .............. ok
t/recursor.t .............. ok
t/Test-address.t .......... ok
t/Test-basic.t ............ ok
t/Test-basic02-A.t ........ ok
t/Test-basic02-B.t ........ ok
t/Test-connectivity.t ..... ok
Need to find/create zones with those errors:
EMPTY_ASN_SET
ERROR_ASN_DATABASE
IPV4_DIFFERENT_ASN
IPV4_SAME_ASN
IPV6_DIFFERENT_ASN
IPV6_SAME_ASN
t/Test-connectivity03.t ... ok
Need to find/create zones with those errors:
CN04_EMPTY_PREFIX_SET
CN04_ERROR_PREFIX_DATABASE
t/Test-connectivity04.t ... ok
t/Test-consistency.t ...... ok
t/Test-consistency05-F.t .. ok
Untested scenarios:
Scenario CHILD-ZONE-LAME-1 cannot be tested.
Scenario IB-ADDR-MISMATCH-3 cannot be tested.
t/Test-consistency05.t .... ok
t/Test-consistency06-B.t .. ok
Untested scenarios:
Scenario NO-RESPONSE cannot be tested.
Scenario ONE-SOA-MNAME-4 cannot be tested.
t/Test-consistency06.t .... ok
t/Test-delegation.t ....... ok
t/Test-delegation01-A.t ... ok
t/Test-delegation01-B.t ... ok
t/Test-delegation01-C.t ... ok
t/Test-delegation01-D.t ... ok
t/Test-delegation01-E.t ... ok
t/Test-delegation01-F.t ... ok
t/Test-delegation01-G.t ... ok
t/Test-delegation01-H.t ... ok
t/Test-delegation01-I.t ... ok
t/Test-delegation01-J.t ... ok
t/Test-delegation01-K.t ... ok
t/Test-delegation01-L.t ... ok
t/Test-delegation01-M.t ... ok
t/Test-delegation02-A.t ... ok
t/Test-delegation02-B.t ... ok
t/Test-delegation02-C.t ... ok
t/Test-delegation02-D.t ... ok
t/Test-delegation03-A.t ... ok
t/Test-delegation03-B.t ... ok
t/Test-delegation03-C.t ... ok
t/Test-dnssec-more.t ...... ok
t/Test-dnssec.t ........... ok
t/Test-dnssec03.t ......... ok
t/Test-dnssec05-A.t ....... ok
t/Test-dnssec05-B.t ....... ok
t/Test-dnssec05-C.t ....... ok
t/Test-dnssec05-D.t ....... ok
t/Test-dnssec05-E.t ....... ok
t/Test-dnssec05-F.t ....... ok
t/Test-dnssec05-G.t ....... ok
t/Test-dnssec05-H.t ....... ok
t/Test-dnssec05-I.t ....... ok
t/Test-dnssec05-J.t ....... ok
t/Test-dnssec16.t ......... ok
t/Test-nameserver.t ....... ok
t/Test-nameserver01-A.t ... ok
t/Test-nameserver01-B.t ... ok
t/Test-nameserver01-C.t ... ok
t/Test-nameserver01-D.t ... ok
t/Test-nameserver15.t ..... ok
t/Test-syntax.t ........... ok
t/Test-syntax06-A.t ....... ok
t/Test-syntax06-B.t ....... ok
t/Test-syntax06-C.t ....... ok
t/Test-syntax06-D.t ....... ok
t/Test-syntax06-E.t ....... ok
t/Test-syntax06-F.t ....... ok
t/Test-syntax06-G.t ....... ok
t/Test-syntax06-I.t ....... ok
t/Test-syntax06-J.t ....... ok
t/Test-syntax06-K.t ....... ok
t/Test-syntax06-L.t ....... ok
t/Test-zone.t ............. ok
t/Test-zone01-A.t ......... ok
t/Test-zone01-B.t ......... ok
t/Test-zone09-1.t ......... ok
Untested scenarios:
Scenario NON-AUTH-MX-RESPONSE cannot be tested.
t/Test-zone09.t ........... ok
t/Test-zone11.t ........... ok
t/translator.t ............ ok
t/undelegated.t ........... ok
unable to parse RR string at /usr/home/cpan/pit/jail/g0P4pVI3se/lib/perl5/Net/DNS/RR.pm line 104.
at /usr/home/cpan/pit/64bit/conf/perl-5.16.2/.cpanplus/5.16.2/build/gPVDGxEDYj/Zonemaster-Engine-v5.0.0/blib/lib/Zonemaster/Engine/Util.pm line 115.
t/util.t .................. ok
t/zone.t .................. ok
t/zonemaster.t ............ ok
All tests successful.
Test Summary Report
-------------------
t/old-bugs.t (Wstat: 0 Tests: 16 Failed: 0)
TODO passed: 4
Files=89, Tests=2163, 305 wallclock secs ( 0.59 usr 0.77 sys + 269.83 cusr 32.70 csys = 303.89 CPU)
Result: PASS
PREREQUISITES:
Here is a list of prerequisites you specified and versions we
managed to load:
Module Name Have Want
Class::Accessor 0.51 0
Clone 0.46 0
Email::Valid 1.204 0
ExtUtils::MakeMaker 7.70 6.59
File::ShareDir 1.118 1
File::Slurp 9999.32 0
IO::Socket::INET6 2.73 2.69
List::MoreUtils 0.430 0
Locale::PO 0.27 0
Locale::TextDomain 1.33 1.2
Log::Any 1.717 0
Mail::SPF 3.20240206 0
Module::Find 0.16 0.1
Moose 2.2207 2.0401
MooseX::Singleton 0.30 0.3
Net::DNS 1.44 0
Net::IP::XS 0.22 0.21
Pod::Coverage 0.23 0
Readonly 2.05 0
Test::Differences 0.71 0
Test::Exception 0.43 0
Test::Fatal 0.017 0
Test::NoWarnings 1.06 0
Test::Pod 1.52 1.22
Text::CSV 2.04 0
YAML::XS 0.89 0
Zonemaster::LDNS 4.0.1 4
Perl module toolchain versions installed:
Module Name Have
CPANPLUS 0.9914
CPANPLUS::Dist::Build 0.90
Cwd 3.75
ExtUtils::CBuilder 0.280236
ExtUtils::Command 7.70
ExtUtils::Install 2.22
ExtUtils::MakeMaker 7.70
ExtUtils::Manifest 1.75
ExtUtils::ParseXS 3.51
File::Spec 3.75
Module::Build 0.4234
Pod::Parser 1.51
Pod::Simple 3.20
Test2 1.302198
Test::Harness 3.48
Test::More 1.302198
version 0.9930
******************************** NOTE ********************************
The comments above are created mechanically, possibly without manual
checking by the sender. As there are many people performing automatic
tests on each upload to CPAN, it is likely that you will receive
identical messages about the same problem.
If you believe that the message is mistaken, please reply to the first
one with correction and/or additional informations, and do not take
it personally. We appreciate your patience. :)
**********************************************************************
Additional comments:
This report was machine-generated by CPANPLUS::Dist::YACSmoke 1.08.
Powered by minismokebox version 0.68
CPANPLUS is prefering Build.PL
------------------------------
ENVIRONMENT AND OTHER CONTEXT
------------------------------
Environment variables:
AUTOMATED_TESTING = 1
NONINTERACTIVE_TESTING = 1
PATH = /sbin:/bin:/usr/sbin:/usr/bin:/usr/local/sbin:/usr/local/bin:/home/cpan/bin
PERL5LIB = /usr/home/cpan/pit/jail/g0P4pVI3se/lib/perl5:/usr/home/cpan/pit/64bit/conf/perl-5.16.2/.cpanplus/5.16.2/build/gPVDGxEDYj/Zonemaster-Engine-v5.0.0/blib/lib:/usr/home/cpan/pit/64bit/conf/perl-5.16.2/.cpanplus/5.16.2/build/gPVDGxEDYj/Zonemaster-Engine-v5.0.0/blib/arch
PERL5_CPANPLUS_IS_RUNNING = 97707
PERL5_CPANPLUS_IS_VERSION = 0.9914
PERL5_MINISMOKEBOX = 0.68
PERL5_YACSMOKE_BASE = /usr/home/cpan/pit/64bit/conf/perl-5.16.2
PERL_EXTUTILS_AUTOINSTALL = --defaultdeps
PERL_LOCAL_LIB_ROOT = /usr/home/cpan/pit/jail/g0P4pVI3se
PERL_MB_OPT = --install_base "/usr/home/cpan/pit/jail/g0P4pVI3se"
PERL_MM_OPT = INSTALL_BASE=/usr/home/cpan/pit/jail/g0P4pVI3se
PERL_MM_USE_DEFAULT = 1
PERL_USE_UNSAFE_INC = 1
SHELL = /usr/local/bin/bash
TERM = screen
Perl special variables (and OS-specific diagnostics, for MSWin32):
Perl: $^X = /usr/home/cpan/pit/64bit/perl-5.16.2/bin/perl
UID: $< = 1002
EUID: $> = 1002
GID: $( = 1002 1002
EGID: $) = 1002 1002
-------------------------------
--
Summary of my perl5 (revision 5 version 16 subversion 2) configuration:
Platform:
osname=freebsd, osvers=12.4-release, archname=i386-freebsd-64int
uname='freebsd ffyrc 12.4-release freebsd 12.4-release r372781 generic i386 '
config_args='-des -Dprefix=/usr/home/cpan/pit/64bit/perl-5.16.2 -Duse64bitint'
hint=recommended, useposix=true, d_sigaction=define
useithreads=undef, usemultiplicity=undef
useperlio=define, d_sfio=undef, uselargefiles=define, usesocks=undef
use64bitint=define, use64bitall=undef, uselongdouble=undef
usemymalloc=n, bincompat5005=undef
Compiler:
cc='cc', ccflags ='-DHAS_FPSETMASK -DHAS_FLOATINGPOINT_H -fno-strict-aliasing -pipe -fstack-protector -I/usr/local/include',
optimize='-O2',
cppflags='-DHAS_FPSETMASK -DHAS_FLOATINGPOINT_H -fno-strict-aliasing -pipe -fstack-protector -I/usr/local/include'
ccversion='', gccversion='FreeBSD Clang 13.0.0 (git@github.com:llvm/llvm-project.git llvmorg-13.0.0-0-gd7b669b3a303)', gccosandvers=''
intsize=4, longsize=4, ptrsize=4, doublesize=8, byteorder=12345678
d_longlong=define, longlongsize=8, d_longdbl=define, longdblsize=12
ivtype='long long', ivsize=8, nvtype='double', nvsize=8, Off_t='off_t', lseeksize=8
alignbytes=4, prototype=define
Linker and Libraries:
ld='cc', ldflags ='-Wl,-E -fstack-protector -L/usr/local/lib'
libpth=/usr/lib /usr/local/lib
libs=-lgdbm -ldl -lm -lcrypt -lutil -lc
perllibs=-ldl -lm -lcrypt -lutil -lc
libc=, so=so, useshrplib=false, libperl=libperl.a
gnulibc_version=''
Dynamic Linking:
dlsrc=dl_dlopen.xs, dlext=so, d_dlsymun=undef, ccdlflags=' '
cccdlflags='-DPIC -fPIC', lddlflags='-shared -L/usr/local/lib -fstack-protector'
Characteristics of this binary (from libperl):
Compile-time options: HAS_TIMES PERLIO_LAYERS PERL_DONT_CREATE_GVSV
PERL_MALLOC_WRAP PERL_PRESERVE_IVUV USE_64_BIT_INT
USE_LARGE_FILES USE_LOCALE USE_LOCALE_COLLATE
USE_LOCALE_CTYPE USE_LOCALE_NUMERIC USE_PERLIO
USE_PERL_ATOF
Locally applied patches:
Devel::PatchPerl 2.08
Built under freebsd
Compiled at Apr 6 2023 13:55:01
%ENV:
PERL5LIB="/usr/home/cpan/pit/jail/g0P4pVI3se/lib/perl5:/usr/home/cpan/pit/64bit/conf/perl-5.16.2/.cpanplus/5.16.2/build/gPVDGxEDYj/Zonemaster-Engine-v5.0.0/blib/lib:/usr/home/cpan/pit/64bit/conf/perl-5.16.2/.cpanplus/5.16.2/build/gPVDGxEDYj/Zonemaster-Engine-v5.0.0/blib/arch"
PERL5_CPANPLUS_IS_RUNNING="97707"
PERL5_CPANPLUS_IS_VERSION="0.9914"
PERL5_MINISMOKEBOX="0.68"
PERL5_YACSMOKE_BASE="/usr/home/cpan/pit/64bit/conf/perl-5.16.2"
PERL_EXTUTILS_AUTOINSTALL="--defaultdeps"
PERL_LOCAL_LIB_ROOT="/usr/home/cpan/pit/jail/g0P4pVI3se"
PERL_MB_OPT="--install_base "/usr/home/cpan/pit/jail/g0P4pVI3se""
PERL_MM_OPT="INSTALL_BASE=/usr/home/cpan/pit/jail/g0P4pVI3se"
PERL_MM_USE_DEFAULT="1"
PERL_USE_UNSAFE_INC="1"
@INC:
/usr/home/cpan/pit/jail/g0P4pVI3se/lib/perl5/5.16.2/i386-freebsd-64int
/usr/home/cpan/pit/jail/g0P4pVI3se/lib/perl5/5.16.2
/usr/home/cpan/pit/jail/g0P4pVI3se/lib/perl5/i386-freebsd-64int
/usr/home/cpan/pit/jail/g0P4pVI3se/lib/perl5
/usr/home/cpan/pit/64bit/conf/perl-5.16.2/.cpanplus/5.16.2/build/gPVDGxEDYj/Zonemaster-Engine-v5.0.0/blib/lib
/usr/home/cpan/pit/64bit/conf/perl-5.16.2/.cpanplus/5.16.2/build/gPVDGxEDYj/Zonemaster-Engine-v5.0.0/blib/arch
/usr/home/cpan/pit/64bit/perl-5.16.2/lib/site_perl/5.16.2/i386-freebsd-64int
/usr/home/cpan/pit/64bit/perl-5.16.2/lib/site_perl/5.16.2
/usr/home/cpan/pit/64bit/perl-5.16.2/lib/5.16.2/i386-freebsd-64int
/usr/home/cpan/pit/64bit/perl-5.16.2/lib/5.16.2
.