DBGp-Client v0.12 Perl 5 v5.10.0 x86_64-dragonfly-thread-multi-ld
- Status
- Pass
- From
- Nigel Horne
- Dist
-
DBGp-Client v0.12
- Platform
- Perl 5 v5.10.0 x86_64-dragonfly-thread-multi-ld
- Date
- 2018-05-14 20:24:39
- ID
- d3e1e5fa-57b4-11e8-9da6-f703c768dc7a
This distribution has been tested as part of the CPAN Testers
project, supporting the Perl programming language. See
http://wiki.cpantesters.org/ for more information or email
questions to cpan-testers-discuss@perl.org
--
Dear Mattia Barbon,
This is a computer-generated report for DBGp-Client-0.12
on perl 5.10.0, created by CPAN-Reporter-1.2018.
Thank you for uploading your work to CPAN. Congratulations!
All tests were successful.
Sections of this report:
* Tester comments
* Program output
* Prerequisites
* Environment and other context
------------------------------
TESTER COMMENTS
------------------------------
Additional comments from tester:
this report is from an automated smoke testing program
and was not reviewed by a human for accuracy
------------------------------
PROGRAM OUTPUT
------------------------------
Output from '/usr/bin/make test':
PERL_DL_NONLAZY=1 "/home/njh/perl5/perlbrew/perls/perl-5.10.0-thread-multi-ld/bin/perl5.10.0" "-MExtUtils::Command::MM" "-MTest::Harness" "-e" "undef *Test::Harness::Switches; test_harness(0, 'blib/lib', 'blib/arch')" t/*.t
t/001_load.t ..................... ok
t/050_basic_client.t ............. ok
t/055_async_client.t ............. ok
t/200_parse_init.t ............... ok
t/205_parse_error.t .............. ok
t/207_parse_feature.t ............ ok
t/210_parse_status.t ............. ok
t/215_parse_step.t ............... ok
t/220_parse_context_names.t ...... ok
t/225_parse_context_get.t ........ ok
t/227_parse_eval.t ............... ok
t/230_parse_stack_get.t .......... ok
t/232_parse_stack_depth.t ........ ok
t/240_parse_breakpoint_change.t .. ok
t/245_parse_breakpoint_list.t .... ok
t/255_parse_typemap.t ............ ok
t/260_parse_properties.t ......... ok
t/265_parse_source.t ............. ok
t/270_parse_redirects.t .......... ok
t/275_parse_break.t .............. ok
t/280_parse_interact.t ........... ok
t/285_parse_oob_notifications.t .. ok
All tests successful.
Files=22, Tests=58, 6 wallclock secs ( 0.15 usr 0.14 sys + 3.99 cusr 1.64 csys = 5.92 CPU)
Result: PASS
------------------------------
PREREQUISITES
------------------------------
Prerequisite modules loaded:
requires:
Module Need Have
--------------------- ----- --------
perl 5.006 5.010000
XML::Parser 0 2.44
XML::Parser::EasyTree 0 0.01
build_requires:
Module Need Have
--------------------- ----- --------
ExtUtils::MakeMaker 0 7.30
Test::DBGp 0.06 0.07
configure_requires:
Module Need Have
--------------------- ----- --------
ExtUtils::MakeMaker 0 7.30
------------------------------
ENVIRONMENT AND OTHER CONTEXT
------------------------------
Environment variables:
AUTOMATED_TESTING = 1
PATH = /home/njh/perl5/perlbrew/bin:/home/njh/perl5/perlbrew/perls/perl-5.10.0-thread-multi-ld/bin:src/njh/smoker/bin:/bin:/sbin:/usr/bin:/usr/sbin:/usr/local/bin:/usr/local/sbin:/usr/pkg/bin:/usr/pkg/sbin
PERL5LIB = /home/njh/.cpan/build/XML-Parser-EasyTree-0.01-0/blib/arch:/home/njh/.cpan/build/XML-Parser-EasyTree-0.01-0/blib/lib:/home/njh/.cpan/build/XML-Parser-2.44-0/blib/arch:/home/njh/.cpan/build/XML-Parser-2.44-0/blib/lib:/home/njh/.cpan/build/Test-DBGp-0.07-0/blib/arch:/home/njh/.cpan/build/Test-DBGp-0.07-0/blib/lib:/home/njh/.cpan/build/Test-Differences-0.64-0/blib/arch:/home/njh/.cpan/build/Test-Differences-0.64-0/blib/lib:/home/njh/.cpan/build/Data-Dumper-2.161-0/blib/arch:/home/njh/.cpan/build/Data-Dumper-2.161-0/blib/lib
PERL5OPT =
PERL5_CPANPLUS_IS_RUNNING = 340112
PERL5_CPAN_IS_RUNNING = 340112
PERLBREW_HOME = /home/njh/.perlbrew
PERLBREW_MANPATH = /home/njh/perl5/perlbrew/perls/perl-5.10.0-thread-multi-ld/man
PERLBREW_PATH = /home/njh/perl5/perlbrew/bin:/home/njh/perl5/perlbrew/perls/perl-5.10.0-thread-multi-ld/bin
PERLBREW_PERL = perl-5.10.0-thread-multi-ld
PERLBREW_ROOT = /home/njh/perl5/perlbrew
PERLBREW_SHELLRC_VERSION = 0.82
PERLBREW_VERSION = 0.82
SHELL = /bin/sh
TMPDIR = /tmp/testwrapper.340102
Perl special variables (and OS-specific diagnostics, for MSWin32):
$^X = /home/njh/perl5/perlbrew/perls/perl-5.10.0-thread-multi-ld/bin/perl5.10.0
$UID/$EUID = 1001 / 1001
$GID = 1001 1001 0
$EGID = 1001 1001 0
Perl module toolchain versions installed:
Module Have
------------------- ---------
CPAN 2.16
CPAN::Meta 2.150010
Cwd 3.62
ExtUtils::CBuilder 0.21
ExtUtils::Command 7.30
ExtUtils::Install 2.06
ExtUtils::MakeMaker 7.30
ExtUtils::Manifest 1.70
ExtUtils::ParseXS 2.18_02
File::Spec 3.62
JSON n/a
JSON::PP 2.97001
Module::Build 0.2808_01
Module::Signature n/a
Parse::CPAN::Meta 2.150010
Test::Harness 3.39
Test::More 1.302122
YAML 1.24
YAML::Syck 1.30
version 0.9918
--
Summary of my perl5 (revision 5 version 10 subversion 0) configuration:
Platform:
osname=dragonfly, osvers=5.0-release, archname=x86_64-dragonfly-thread-multi-ld
uname='dragonfly david.bandsman.co.uk 5.0-release dragonfly v5.0.2-release #4: sun dec 3 17:42:25 est 2017 root@www.shiningsilence.com:usrobjhomejustinrelease5_0sysx86_64_generic x86_64 '
config_args='-de -Dprefix=/home/njh/perl5/perlbrew/perls/perl-5.10.0-thread-multi-ld -Dusedevel -Dusethreads -Duselongdouble -Dusemultiplicity -Accflags= -Aeval:scriptdir=/home/njh/perl5/perlbrew/perls/perl-5.10.0-thread-multi-ld/bin'
hint=recommended, useposix=true, d_sigaction=define
useithreads=define, usemultiplicity=define
useperlio=define, d_sfio=undef, uselargefiles=define, usesocks=undef
use64bitint=define, use64bitall=define, uselongdouble=define
usemymalloc=n, bincompat5005=undef
Compiler:
cc='cc', ccflags ='-DHAS_FPSETMASK -DHAS_FLOATINGPOINT_H -fno-strict-aliasing -pipe -I/usr/local/include',
optimize='-O',
cppflags='-DHAS_FPSETMASK -DHAS_FLOATINGPOINT_H -fno-strict-aliasing -pipe -I/usr/local/include'
ccversion='', gccversion='5.4.1 [DragonFly] Release/2016-08-27', gccosandvers=''
intsize=4, longsize=8, ptrsize=8, doublesize=8, byteorder=12345678
d_longlong=define, longlongsize=8, d_longdbl=define, longdblsize=16
ivtype='long', ivsize=8, nvtype='long double', nvsize=16, Off_t='off_t', lseeksize=8
alignbytes=16, prototype=define
Linker and Libraries:
ld='cc', ldflags ='-pthread -Wl,-E -L/usr/local/lib'
libpth=/usr/lib /usr/local/lib
libs=-ldl -lm -lcrypt -lutil -lc
perllibs=-ldl -lm -lcrypt -lutil -lc
libc=, so=so, useshrplib=false, libperl=libperl.a
gnulibc_version=''
Dynamic Linking:
dlsrc=dl_dlopen.xs, dlext=so, d_dlsymun=undef, ccdlflags=' '
cccdlflags='-DPIC -fPIC', lddlflags='-shared -L/usr/local/lib'
Characteristics of this binary (from libperl):
Compile-time options: MULTIPLICITY PERL_DONT_CREATE_GVSV
PERL_IMPLICIT_CONTEXT PERL_MALLOC_WRAP USE_64_BIT_ALL
USE_64_BIT_INT USE_ITHREADS USE_LARGE_FILES
USE_LONG_DOUBLE USE_PERLIO USE_REENTRANT_API
Locally applied patches:
Devel::PatchPerl 1.48
Built under dragonfly
Compiled at Jan 30 2018 01:20:17
%ENV:
PERL5LIB="/home/njh/.cpan/build/XML-Parser-EasyTree-0.01-0/blib/arch:/home/njh/.cpan/build/XML-Parser-EasyTree-0.01-0/blib/lib:/home/njh/.cpan/build/XML-Parser-2.44-0/blib/arch:/home/njh/.cpan/build/XML-Parser-2.44-0/blib/lib:/home/njh/.cpan/build/Test-DBGp-0.07-0/blib/arch:/home/njh/.cpan/build/Test-DBGp-0.07-0/blib/lib:/home/njh/.cpan/build/Test-Differences-0.64-0/blib/arch:/home/njh/.cpan/build/Test-Differences-0.64-0/blib/lib:/home/njh/.cpan/build/Data-Dumper-2.161-0/blib/arch:/home/njh/.cpan/build/Data-Dumper-2.161-0/blib/lib"
PERL5OPT=""
PERL5_CPANPLUS_IS_RUNNING="340112"
PERL5_CPAN_IS_RUNNING="340112"
PERLBREW_HOME="/home/njh/.perlbrew"
PERLBREW_MANPATH="/home/njh/perl5/perlbrew/perls/perl-5.10.0-thread-multi-ld/man"
PERLBREW_PATH="/home/njh/perl5/perlbrew/bin:/home/njh/perl5/perlbrew/perls/perl-5.10.0-thread-multi-ld/bin"
PERLBREW_PERL="perl-5.10.0-thread-multi-ld"
PERLBREW_ROOT="/home/njh/perl5/perlbrew"
PERLBREW_SHELLRC_VERSION="0.82"
PERLBREW_VERSION="0.82"
@INC:
/home/njh/.cpan/build/XML-Parser-EasyTree-0.01-0/blib/arch
/home/njh/.cpan/build/XML-Parser-EasyTree-0.01-0/blib/lib
/home/njh/.cpan/build/XML-Parser-2.44-0/blib/arch
/home/njh/.cpan/build/XML-Parser-2.44-0/blib/lib
/home/njh/.cpan/build/Test-DBGp-0.07-0/blib/arch
/home/njh/.cpan/build/Test-DBGp-0.07-0/blib/lib
/home/njh/.cpan/build/Test-Differences-0.64-0/blib/arch
/home/njh/.cpan/build/Test-Differences-0.64-0/blib/lib
/home/njh/.cpan/build/Data-Dumper-2.161-0/blib/arch
/home/njh/.cpan/build/Data-Dumper-2.161-0/blib/lib
/home/njh/perl5/perlbrew/perls/perl-5.10.0-thread-multi-ld/lib/5.10.0/x86_64-dragonfly-thread-multi-ld
/home/njh/perl5/perlbrew/perls/perl-5.10.0-thread-multi-ld/lib/5.10.0
/home/njh/perl5/perlbrew/perls/perl-5.10.0-thread-multi-ld/lib/site_perl/5.10.0/x86_64-dragonfly-thread-multi-ld
/home/njh/perl5/perlbrew/perls/perl-5.10.0-thread-multi-ld/lib/site_perl/5.10.0
.