autodie v2.29 Perl 5 v5.22.4 arm-freebsd

Status
Pass
From
Nigel Horne
Dist
autodie v2.29
Platform
Perl 5 v5.22.4 arm-freebsd
Date
2019-06-07 15:20:48
ID
d3e28e78-8937-11e9-9997-9db8de51d2a1
This distribution has been tested as part of the CPAN Testers
project, supporting the Perl programming language.  See
http://wiki.cpantesters.org/ for more information or email
questions to cpan-testers-discuss@perl.org


--
Dear Paul Jamieson Fenwick,

This is a computer-generated report for autodie-2.29
on perl 5.22.4, created by CPAN-Reporter-1.2018.

Thank you for uploading your work to CPAN.  Congratulations!
All tests were successful.

Sections of this report:

    * Tester comments
    * Program output
    * Prerequisites
    * Environment and other context

------------------------------
TESTER COMMENTS
------------------------------

Additional comments from tester:

none provided

------------------------------
PROGRAM OUTPUT
------------------------------

Output from '/usr/bin/make test':

PERL_DL_NONLAZY=1 "/mnt/nas/home/pi2b/njh/perl5/perlbrew/perls/perl-5.22.4/bin/perl5.22.4" "-MExtUtils::Command::MM" "-MTest::Harness" "-e" "undef *Test::Harness::Switches; test_harness(0, 'blib/lib', 'blib/arch')" t/*.t
t/author-critic.t ................ skipped: these tests are for testing by the author
t/00-load.t ...................... ok
t/args.t ......................... ok
t/backcompat.t ................... ok
t/autodie.t ...................... ok
t/binmode.t ...................... ok
t/basic_exceptions.t ............. ok
t/blog_hints.t ................... ok
t/caller.t ....................... ok
t/chmod.t ........................ ok
t/chown.t ........................ ok
t/context.t ...................... ok
t/context_lexical.t .............. ok
t/core-trampoline-slurp.t ........ ok
t/critic.t ....................... skipped: Author test.  Set $ENV{AUTHOR_TESTING} to true to run.
t/crickey.t ...................... ok
t/eval_error.t ................... ok
t/dbmopen.t ...................... ok
t/exceptions.t ................... ok
t/exception_class.t .............. ok
t/exec.t ......................... ok
t/filehandles.t .................. ok
t/Fatal.t ........................ ok
t/fileno.t ....................... ok
t/flock.t ........................ ok
t/format-clobber.t ............... ok
# Sub::Identify is not loaded
t/hints.t ........................ ok
t/hints_insist.t ................. ok
t/fork.t ......................... ok
t/hints_provider_does.t .......... ok
t/hints_pod_examples.t ........... ok
t/hints_provider_easy_does_it.t .. ok
t/import-into.t .................. skipped: Test needs Import::Into >= 1.002004
t/internal-backcompat.t .......... ok
t/hints_provider_isa.t ........... ok
t/internal.t ..................... ok
t/kill.t ......................... ok
t/kwalitee.t ..................... skipped: Author test.  Set $ENV{RELEASE_TESTING} to true to run.
t/lex58.t ........................ skipped: IPC::System::Simple required
t/lethal.t ....................... ok
t/no_carp.t ...................... ok
t/pod-coverage.t ................. skipped: Author test.  Set $ENV{AUTHOR_TESTING} to true to run.
t/mkdir.t ........................ ok
t/pod.t .......................... skipped: Author test.  Set $ENV{AUTHOR_TESTING} to true to run.
t/release-pod-coverage.t ......... skipped: these tests are for release candidate testing
t/open.t ......................... ok
t/release-pod-syntax.t ........... skipped: these tests are for release candidate testing
t/read.t ......................... ok
t/recv.t ......................... ok
t/repeat.t ....................... ok
t/rt-74246.t ..................... ok
t/scope_leak.t ................... ok
t/socket.t ....................... skipped: Author test.  Set $ENV{AUTHOR_TESTING} to true to run.
t/skip.t ......................... ok
t/string-eval-basic.t ............ ok
t/system.t ....................... skipped: IPC::System::Simple not installed
t/string-eval-leak.t ............. ok
t/sysopen.t ...................... ok
t/truncate.t ..................... ok
t/usersub.t ...................... ok
t/unlink.t ....................... ok
t/user-context.t ................. ok
t/version.t ...................... skipped: Release test.  Set $ENV{RELEASE_TESTING} to true to run.
t/utime.t ........................ ok
t/version_tag.t .................. ok
t/utf8_open.t .................... ok
All tests successful.
Files=66, Tests=498, 12 wallclock secs ( 1.93 usr  0.82 sys + 28.60 cusr  7.71 csys = 39.06 CPU)
Result: PASS

------------------------------
PREREQUISITES
------------------------------

Prerequisite modules loaded:

requires:

    Module              Need     Have    
    ------------------- -------- --------
    B                   0        1.58    
    Carp                0        1.36    
    constant            0        1.33    
    Exporter            5.57     5.72    
    Fcntl               0        1.13    
    overload            0        1.26    
    parent              0        0.232   
    perl                5.008004 5.022004
    POSIX               0        1.53_01 
    Scalar::Util        0        1.41    
    strict              0        1.09    
    Tie::RefHash        0        1.39    
    warnings            0        1.34    

build_requires:

    Module              Need     Have    
    ------------------- -------- --------
    ExtUtils::MakeMaker 0        7.34    
    File::Copy          0        2.30    
    File::Spec          0        3.75    
    File::Temp          0        0.2304  
    FindBin             0        1.51    
    if                  0        0.0604  
    IO::Handle          0        1.35    
    lib                 0        0.63    
    Socket              0        2.018   
    Test::More          0        1.001014

configure_requires:

    Module              Need     Have    
    ------------------- -------- --------
    ExtUtils::MakeMaker 0        7.34    


------------------------------
ENVIRONMENT AND OTHER CONTEXT
------------------------------

Environment variables:

    HARNESS_OPTIONS = j4:c
    LD_LIBRARY_PATH = /usr/local/lib:
    PATH = /home/njh/perl5/perlbrew/bin:/home/njh/perl5/perlbrew/perls/perl-5.22.4/bin:/sbin:/bin:/usr/sbin:/usr/bin:/usr/local/sbin:/usr/local/bin:/home/njh/bin
    PERL5LIB = 
    PERL5OPT = 
    PERL5_CPANPLUS_IS_RUNNING = 55385
    PERL5_CPAN_IS_RUNNING = 55385
    PERLBREW_HOME = /home/njh/.perlbrew
    PERLBREW_MANPATH = /home/njh/perl5/perlbrew/perls/perl-5.22.4/man
    PERLBREW_PATH = /home/njh/perl5/perlbrew/bin:/home/njh/perl5/perlbrew/perls/perl-5.22.4/bin
    PERLBREW_PERL = perl-5.22.4
    PERLBREW_ROOT = /home/njh/perl5/perlbrew
    PERLBREW_SHELLRC_VERSION = 0.84
    PERLBREW_VERSION = 0.84
    PERL_USE_UNSAFE_INC = 1
    SHELL = /usr/local/bin/bash
    TERM = xterm-256color
    TMPDIR = /var/tmp

Perl special variables (and OS-specific diagnostics, for MSWin32):

    $^X = /mnt/nas/home/pi2b/njh/perl5/perlbrew/perls/perl-5.22.4/bin/perl5.22.4
    $UID/$EUID = 1000 / 1000
    $GID = 1000 1000 0
    $EGID = 1000 1000 0

Perl module toolchain versions installed:

    Module              Have      
    ------------------- ----------
    CPAN                2.26      
    CPAN::Meta          2.150001  
    Cwd                 3.75      
    ExtUtils::CBuilder  0.280221  
    ExtUtils::Command   7.34      
    ExtUtils::Install   2.06      
    ExtUtils::MakeMaker 7.34      
    ExtUtils::Manifest  1.70      
    ExtUtils::ParseXS   3.28      
    File::Spec          3.75      
    JSON                4.02      
    JSON::PP            2.27300_01
    Module::Build       0.4229    
    Module::Signature   n/a       
    Parse::CPAN::Meta   1.4414_001
    Test::Harness       3.35_01   
    Test::More          1.001014  
    YAML                1.29      
    YAML::Syck          1.31      
    version             0.9909    


--

Summary of my perl5 (revision 5 version 22 subversion 4) configuration:
   
  Platform:
    osname=freebsd, osvers=12.0-release, archname=arm-freebsd
    uname='freebsd pi2b 12.0-release freebsd 12.0-release r341666 generic arm '
    config_args='-de -Dprefix=/home/njh/perl5/perlbrew/perls/perl-5.22.4 -Dusedevel -Accflags=-O2 -W -Wformat=2 -Wswitch -Wshadow -Wwrite-strings -Wuninitialized -Wall -pipe -fomit-frame-pointer -D_FORTIFY_SOURCE=2 -Wpointer-arith -Wstrict-prototypes -fstack-protector -Wstack-protector -Wextra -Wbad-function-cast -Wcast-align -Wcast-qual -Wdisabled-optimization -Wendif-labels -Wfloat-equal -Wformat-nonliteral -Winline -Wmissing-declarations -Wmissing-prototypes -Wnested-externs -Wpointer-arith -Wundef -Wformat-security -mfloat-abi=hard -mfpu=neon-vfpv4 -mtune=cortex-a7 -fdiagnostics-color=auto -mtune=native -Aeval:scriptdir=/home/njh/perl5/perlbrew/perls/perl-5.22.4/bin'
    hint=recommended, useposix=true, d_sigaction=define
    useithreads=undef, usemultiplicity=undef
    use64bitint=undef, use64bitall=undef, uselongdouble=undef
    usemymalloc=n, bincompat5005=undef
  Compiler:
    cc='cc', ccflags ='-DHAS_FPSETMASK -DHAS_FLOATINGPOINT_H -O2 -W -Wformat=2 -Wswitch -Wshadow -Wwrite-strings -Wuninitialized -Wall -pipe -fomit-frame-pointer -D_FORTIFY_SOURCE=2 -Wpointer-arith -Wstrict-prototypes -fstack-protector -Wstack-protector -Wextra -Wbad-function-cast -Wcast-align -Wcast-qual -Wdisabled-optimization -Wendif-labels -Wfloat-equal -Wformat-nonliteral -Winline -Wmissing-declarations -Wmissing-prototypes -Wnested-externs -Wpointer-arith -Wundef -Wformat-security -mfloat-abi=hard -mfpu=neon-vfpv4 -mtune=cortex-a7 -fdiagnostics-color=auto -mtune=native -fno-strict-aliasing -fstack-protector-strong -I/usr/local/include',
    optimize='-O2',
    cppflags='-DHAS_FPSETMASK -DHAS_FLOATINGPOINT_H -O2 -W -Wformat=2 -Wswitch -Wshadow -Wwrite-strings -Wuninitialized -Wall -pipe -fomit-frame-pointer -D_FORTIFY_SOURCE=2 -Wpointer-arith -Wstrict-prototypes -fstack-protector -Wstack-protector -Wextra -Wbad-function-cast -Wcast-align -Wcast-qual -Wdisabled-optimization -Wendif-labels -Wfloat-equal -Wformat-nonliteral -Winline -Wmissing-declarations -Wmissing-prototypes -Wnested-externs -Wpointer-arith -Wundef -Wformat-security -mfloat-abi=hard -mfpu=neon-vfpv4 -mtune=cortex-a7 -fdiagnostics-color=auto -mtune=native -fno-strict-aliasing -fstack-protector-strong -I/usr/local/include'
    ccversion='', gccversion='4.2.1 Compatible FreeBSD Clang 6.0.1 (tags/RELEASE_601/final 335540)', gccosandvers=''
    intsize=4, longsize=4, ptrsize=4, doublesize=8, byteorder=1234, doublekind=3
    d_longlong=define, longlongsize=8, d_longdbl=define, longdblsize=8, longdblkind=0
    ivtype='long', ivsize=4, nvtype='double', nvsize=8, Off_t='off_t', lseeksize=8
    alignbytes=8, prototype=define
  Linker and Libraries:
    ld='cc', ldflags ='-Wl,-E  -fstack-protector-strong -L/usr/local/lib'
    libpth=/usr/lib /usr/local/lib /usr/lib/clang/6.0.1/lib /usr/lib
    libs=-lpthread -ldl -lm -lcrypt -lutil -lc
    perllibs=-lpthread -ldl -lm -lcrypt -lutil -lc
    libc=, so=so, useshrplib=false, libperl=libperl.a
    gnulibc_version=''
  Dynamic Linking:
    dlsrc=dl_dlopen.xs, dlext=so, d_dlsymun=undef, ccdlflags=' '
    cccdlflags='-DPIC -fPIC', lddlflags='-shared  -L/usr/local/lib -fstack-protector-strong'


Characteristics of this binary (from libperl): 
  Compile-time options: HAS_TIMES PERLIO_LAYERS PERL_DONT_CREATE_GVSV
                        PERL_HASH_FUNC_ONE_AT_A_TIME_HARD PERL_MALLOC_WRAP
                        PERL_NEW_COPY_ON_WRITE PERL_PRESERVE_IVUV
                        PERL_USE_DEVEL USE_LARGE_FILES USE_LOCALE
                        USE_LOCALE_COLLATE USE_LOCALE_CTYPE
                        USE_LOCALE_NUMERIC USE_LOCALE_TIME USE_PERLIO
                        USE_PERL_ATOF
  Locally applied patches:
	Devel::PatchPerl 1.52
  Built under freebsd
  Compiled at Feb 17 2019 17:49:25
  %ENV:
    PERL5LIB=""
    PERL5OPT=""
    PERL5_CPANPLUS_IS_RUNNING="55385"
    PERL5_CPAN_IS_RUNNING="55385"
    PERLBREW_HOME="/home/njh/.perlbrew"
    PERLBREW_MANPATH="/home/njh/perl5/perlbrew/perls/perl-5.22.4/man"
    PERLBREW_PATH="/home/njh/perl5/perlbrew/bin:/home/njh/perl5/perlbrew/perls/perl-5.22.4/bin"
    PERLBREW_PERL="perl-5.22.4"
    PERLBREW_ROOT="/home/njh/perl5/perlbrew"
    PERLBREW_SHELLRC_VERSION="0.84"
    PERLBREW_VERSION="0.84"
    PERL_USE_UNSAFE_INC="1"
  @INC:
    /home/njh/perl5/perlbrew/perls/perl-5.22.4/lib/site_perl/5.22.4/arm-freebsd
    /home/njh/perl5/perlbrew/perls/perl-5.22.4/lib/site_perl/5.22.4
    /home/njh/perl5/perlbrew/perls/perl-5.22.4/lib/5.22.4/arm-freebsd
    /home/njh/perl5/perlbrew/perls/perl-5.22.4/lib/5.22.4
    .