Report for Google-AJAX-Library-0.022

Back
From: metabase:user:320bfe00-2aae-11df-837a-5e0a49663a4f
Subject: PASS Google-AJAX-Library-0.022 v5.15.6 GNU/Linux
Date: 2011-12-21T11:35:05Z

This distribution has been tested as part of the CPAN Testers
project, supporting the Perl programming language.  See
http://wiki.cpantesters.org/ for more information or email
questions to cpan-testers-discuss@perl.org


--
Dear Robert Krimen,

This is a computer-generated report for Google-AJAX-Library-0.022
on perl 5.15.6, created by CPAN-Reporter-1.2003.

Thank you for uploading your work to CPAN.  Congratulations!
All tests were successful.

Sections of this report:

    * Tester comments
    * Program output
    * Prerequisites
    * Environment and other context

------------------------------
TESTER COMMENTS
------------------------------

Additional comments from tester:

this report is from an automated smoke testing program
and was not reviewed by a human for accuracy

------------------------------
PROGRAM OUTPUT
------------------------------

Output from '/usr/bin/make test':

PERL_DL_NONLAZY=1 /home/sand/src/perl/repoperls/installed-perls/perl/v5.15.6-4-g1bdf360/a2da/bin/perl "-MExtUtils::Command::MM" "-e" "test_harness(0, 'blib/lib', 'blib/arch')" t/*.t
You are overwriting a locally defined function (file) with an accessor at /home/src/perl/repoperls/installed-perls/perl/v5.15.6-4-g1bdf360/a2da/lib/site_perl/5.15.6/x86_64-linux-thread-multi-ld/Moose/Meta/Attribute.pm line 1066
	Moose::Meta::Attribute::_process_accessors('Moose::Meta::Attribute=HASH(0x1da2420)', 'reader', 'file', undef) called at /home/src/perl/repoperls/installed-perls/perl/v5.15.6-4-g1bdf360/a2da/lib/site_perl/5.15.6/x86_64-linux-thread-multi-ld/Class/MOP/Attribute.pm line 428
	Class::MOP::Attribute::install_accessors('Moose::Meta::Attribute=HASH(0x1da2420)') called at /home/src/perl/repoperls/installed-perls/perl/v5.15.6-4-g1bdf360/a2da/lib/site_perl/5.15.6/x86_64-linux-thread-multi-ld/Moose/Meta/Attribute.pm line 1013
	Moose::Meta::Attribute::install_accessors('Moose::Meta::Attribute=HASH(0x1da2420)') called at /home/src/perl/repoperls/installed-perls/perl/v5.15.6-4-g1bdf360/a2da/lib/site_perl/5.15.6/x86_64-linux-thread-multi-ld/Class/MOP/Class.pm line 891
	Class::MOP::Class::__ANON__() called at /home/src/perl/repoperls/installed-perls/perl/v5.15.6-4-g1bdf360/a2da/lib/site_perl/5.15.6/Try/Tiny.pm line 76
	eval {...} called at /home/src/perl/repoperls/installed-perls/perl/v5.15.6-4-g1bdf360/a2da/lib/site_perl/5.15.6/Try/Tiny.pm line 67
	Try::Tiny::try('CODE(0xb781e8)', 'Try::Tiny::Catch=REF(0x1da9be8)') called at /home/src/perl/repoperls/installed-perls/perl/v5.15.6-4-g1bdf360/a2da/lib/site_perl/5.15.6/x86_64-linux-thread-multi-ld/Class/MOP/Class.pm line 896
	Class::MOP::Class::_post_add_attribute('Moose::Meta::Class=HASH(0x16b4fa8)', 'Moose::Meta::Attribute=HASH(0x1da2420)') called at /home/src/perl/repoperls/installed-perls/perl/v5.15.6-4-g1bdf360/a2da/lib/site_perl/5.15.6/x86_64-linux-thread-multi-ld/Class/MOP/Mixin/HasAttributes.pm line 44
	Class::MOP::Mixin::HasAttributes::add_attribute('Moose::Meta::Class=HASH(0x16b4fa8)', 'Moose::Meta::Attribute=HASH(0x1da2420)') called at /home/src/perl/repoperls/installed-perls/perl/v5.15.6-4-g1bdf360/a2da/lib/site_perl/5.15.6/x86_64-linux-thread-multi-ld/Moose/Meta/Class.pm line 570
	Moose::Meta::Class::add_attribute('Moose::Meta::Class=HASH(0x16b4fa8)', 'file', 'definition_context', 'HASH(0xb75b58)', 'is', 'ro') called at /home/src/perl/repoperls/installed-perls/perl/v5.15.6-4-g1bdf360/a2da/lib/site_perl/5.15.6/x86_64-linux-thread-multi-ld/Moose.pm line 79
	Moose::has('Moose::Meta::Class=HASH(0x16b4fa8)', 'file', 'is', 'ro') called at /home/src/perl/repoperls/installed-perls/perl/v5.15.6-4-g1bdf360/a2da/lib/site_perl/5.15.6/x86_64-linux-thread-multi-ld/Moose/Exporter.pm line 370
	Moose::has('file', 'is', 'ro') called at /tmp/loop_over_bdir-0jqbLh/Google-AJAX-Library-0.022-2mAxnZ/blib/lib/Google/AJAX/Library.pm line 32
	require Google/AJAX/Library.pm called at t/01-basic.t line 5
	main::BEGIN() called at /tmp/loop_over_bdir-0jqbLh/Google-AJAX-Library-0.022-2mAxnZ/blib/lib/Google/AJAX/Library.pm line 0
	eval {...} called at /tmp/loop_over_bdir-0jqbLh/Google-AJAX-Library-0.022-2mAxnZ/blib/lib/Google/AJAX/Library.pm line 0
t/01-basic.t .... ok
You are overwriting a locally defined function (file) with an accessor at /home/src/perl/repoperls/installed-perls/perl/v5.15.6-4-g1bdf360/a2da/lib/site_perl/5.15.6/x86_64-linux-thread-multi-ld/Moose/Meta/Attribute.pm line 1066
	Moose::Meta::Attribute::_process_accessors('Moose::Meta::Attribute=HASH(0x27347c0)', 'reader', 'file', undef) called at /home/src/perl/repoperls/installed-perls/perl/v5.15.6-4-g1bdf360/a2da/lib/site_perl/5.15.6/x86_64-linux-thread-multi-ld/Class/MOP/Attribute.pm line 428
	Class::MOP::Attribute::install_accessors('Moose::Meta::Attribute=HASH(0x27347c0)') called at /home/src/perl/repoperls/installed-perls/perl/v5.15.6-4-g1bdf360/a2da/lib/site_perl/5.15.6/x86_64-linux-thread-multi-ld/Moose/Meta/Attribute.pm line 1013
	Moose::Meta::Attribute::install_accessors('Moose::Meta::Attribute=HASH(0x27347c0)') called at /home/src/perl/repoperls/installed-perls/perl/v5.15.6-4-g1bdf360/a2da/lib/site_perl/5.15.6/x86_64-linux-thread-multi-ld/Class/MOP/Class.pm line 891
	Class::MOP::Class::__ANON__() called at /home/src/perl/repoperls/installed-perls/perl/v5.15.6-4-g1bdf360/a2da/lib/site_perl/5.15.6/Try/Tiny.pm line 76
	eval {...} called at /home/src/perl/repoperls/installed-perls/perl/v5.15.6-4-g1bdf360/a2da/lib/site_perl/5.15.6/Try/Tiny.pm line 67
	Try::Tiny::try('CODE(0x150a488)', 'Try::Tiny::Catch=REF(0x273bf98)') called at /home/src/perl/repoperls/installed-perls/perl/v5.15.6-4-g1bdf360/a2da/lib/site_perl/5.15.6/x86_64-linux-thread-multi-ld/Class/MOP/Class.pm line 896
	Class::MOP::Class::_post_add_attribute('Moose::Meta::Class=HASH(0x20472c8)', 'Moose::Meta::Attribute=HASH(0x27347c0)') called at /home/src/perl/repoperls/installed-perls/perl/v5.15.6-4-g1bdf360/a2da/lib/site_perl/5.15.6/x86_64-linux-thread-multi-ld/Class/MOP/Mixin/HasAttributes.pm line 44
	Class::MOP::Mixin::HasAttributes::add_attribute('Moose::Meta::Class=HASH(0x20472c8)', 'Moose::Meta::Attribute=HASH(0x27347c0)') called at /home/src/perl/repoperls/installed-perls/perl/v5.15.6-4-g1bdf360/a2da/lib/site_perl/5.15.6/x86_64-linux-thread-multi-ld/Moose/Meta/Class.pm line 570
	Moose::Meta::Class::add_attribute('Moose::Meta::Class=HASH(0x20472c8)', 'file', 'definition_context', 'HASH(0x1507df8)', 'is', 'ro') called at /home/src/perl/repoperls/installed-perls/perl/v5.15.6-4-g1bdf360/a2da/lib/site_perl/5.15.6/x86_64-linux-thread-multi-ld/Moose.pm line 79
	Moose::has('Moose::Meta::Class=HASH(0x20472c8)', 'file', 'is', 'ro') called at /home/src/perl/repoperls/installed-perls/perl/v5.15.6-4-g1bdf360/a2da/lib/site_perl/5.15.6/x86_64-linux-thread-multi-ld/Moose/Exporter.pm line 370
	Moose::has('file', 'is', 'ro') called at /tmp/loop_over_bdir-0jqbLh/Google-AJAX-Library-0.022-2mAxnZ/blib/lib/Google/AJAX/Library.pm line 32
	require Google/AJAX/Library.pm called at t/02-library.t line 5
	main::BEGIN() called at /tmp/loop_over_bdir-0jqbLh/Google-AJAX-Library-0.022-2mAxnZ/blib/lib/Google/AJAX/Library.pm line 0
	eval {...} called at /tmp/loop_over_bdir-0jqbLh/Google-AJAX-Library-0.022-2mAxnZ/blib/lib/Google/AJAX/Library.pm line 0
t/02-library.t .. ok
You are overwriting a locally defined function (file) with an accessor at /home/src/perl/repoperls/installed-perls/perl/v5.15.6-4-g1bdf360/a2da/lib/site_perl/5.15.6/x86_64-linux-thread-multi-ld/Moose/Meta/Attribute.pm line 1066
	Moose::Meta::Attribute::_process_accessors('Moose::Meta::Attribute=HASH(0x278d240)', 'reader', 'file', undef) called at /home/src/perl/repoperls/installed-perls/perl/v5.15.6-4-g1bdf360/a2da/lib/site_perl/5.15.6/x86_64-linux-thread-multi-ld/Class/MOP/Attribute.pm line 428
	Class::MOP::Attribute::install_accessors('Moose::Meta::Attribute=HASH(0x278d240)') called at /home/src/perl/repoperls/installed-perls/perl/v5.15.6-4-g1bdf360/a2da/lib/site_perl/5.15.6/x86_64-linux-thread-multi-ld/Moose/Meta/Attribute.pm line 1013
	Moose::Meta::Attribute::install_accessors('Moose::Meta::Attribute=HASH(0x278d240)') called at /home/src/perl/repoperls/installed-perls/perl/v5.15.6-4-g1bdf360/a2da/lib/site_perl/5.15.6/x86_64-linux-thread-multi-ld/Class/MOP/Class.pm line 891
	Class::MOP::Class::__ANON__() called at /home/src/perl/repoperls/installed-perls/perl/v5.15.6-4-g1bdf360/a2da/lib/site_perl/5.15.6/Try/Tiny.pm line 76
	eval {...} called at /home/src/perl/repoperls/installed-perls/perl/v5.15.6-4-g1bdf360/a2da/lib/site_perl/5.15.6/Try/Tiny.pm line 67
	Try::Tiny::try('CODE(0x1562f98)', 'Try::Tiny::Catch=REF(0x2794a08)') called at /home/src/perl/repoperls/installed-perls/perl/v5.15.6-4-g1bdf360/a2da/lib/site_perl/5.15.6/x86_64-linux-thread-multi-ld/Class/MOP/Class.pm line 896
	Class::MOP::Class::_post_add_attribute('Moose::Meta::Class=HASH(0x209fe38)', 'Moose::Meta::Attribute=HASH(0x278d240)') called at /home/src/perl/repoperls/installed-perls/perl/v5.15.6-4-g1bdf360/a2da/lib/site_perl/5.15.6/x86_64-linux-thread-multi-ld/Class/MOP/Mixin/HasAttributes.pm line 44
	Class::MOP::Mixin::HasAttributes::add_attribute('Moose::Meta::Class=HASH(0x209fe38)', 'Moose::Meta::Attribute=HASH(0x278d240)') called at /home/src/perl/repoperls/installed-perls/perl/v5.15.6-4-g1bdf360/a2da/lib/site_perl/5.15.6/x86_64-linux-thread-multi-ld/Moose/Meta/Class.pm line 570
	Moose::Meta::Class::add_attribute('Moose::Meta::Class=HASH(0x209fe38)', 'file', 'definition_context', 'HASH(0x1560908)', 'is', 'ro') called at /home/src/perl/repoperls/installed-perls/perl/v5.15.6-4-g1bdf360/a2da/lib/site_perl/5.15.6/x86_64-linux-thread-multi-ld/Moose.pm line 79
	Moose::has('Moose::Meta::Class=HASH(0x209fe38)', 'file', 'is', 'ro') called at /home/src/perl/repoperls/installed-perls/perl/v5.15.6-4-g1bdf360/a2da/lib/site_perl/5.15.6/x86_64-linux-thread-multi-ld/Moose/Exporter.pm line 370
	Moose::has('file', 'is', 'ro') called at /tmp/loop_over_bdir-0jqbLh/Google-AJAX-Library-0.022-2mAxnZ/blib/lib/Google/AJAX/Library.pm line 32
	require Google/AJAX/Library.pm called at t/03-fetch.t line 5
	main::BEGIN() called at /tmp/loop_over_bdir-0jqbLh/Google-AJAX-Library-0.022-2mAxnZ/blib/lib/Google/AJAX/Library.pm line 0
	eval {...} called at /tmp/loop_over_bdir-0jqbLh/Google-AJAX-Library-0.022-2mAxnZ/blib/lib/Google/AJAX/Library.pm line 0
t/03-fetch.t .... skipped: Not going out to http://ajax.googleapis.com to test fetching/writing
All tests successful.
Files=3, Tests=61,  2 wallclock secs ( 0.02 usr  0.01 sys +  0.92 cusr  0.08 csys =  1.03 CPU)
Result: PASS

------------------------------
PREREQUISITES
------------------------------

Prerequisite modules loaded:

requires:

    Module              Need Have   
    ------------------- ---- -------
    Carp::Clan::Share   0    0.013  
    HTML::Declare       0    2.4    
    LWP::UserAgent      0    6.03   
    Moose               0    2.0401 
    Path::Class         0    0.24   
    URI                 0    1.59   

build_requires:

    Module              Need Have   
    ------------------- ---- -------
    File::Temp          0    0.22   
    Test::Most          0    0.25   

configure_requires:

    Module              Need Have   
    ------------------- ---- -------
    ExtUtils::MakeMaker 6.31 6.63_02


------------------------------
ENVIRONMENT AND OTHER CONTEXT
------------------------------

Environment variables:

    AUTOMATED_TESTING = 1
    LANG = en_US.UTF-8
    LANGUAGE = en_US:en
    PATH = /home/sand/bin:/usr/local/bin:/usr/bin:/bin:/usr/bin/X11:/usr/games:/usr/local/perl/bin:/usr/X11/bin:/sbin:/usr/sbin
    PERL5LIB = 
    PERL5OPT = 
    PERL5_CPANPLUS_IS_RUNNING = 19497
    PERL5_CPAN_IS_RUNNING = 19497
    PERL_MM_USE_DEFAULT = 1
    SHELL = /usr/bin/zsh
    TERM = screen

Perl special variables (and OS-specific diagnostics, for MSWin32):

    $^X = /home/sand/src/perl/repoperls/installed-perls/perl/v5.15.6-4-g1bdf360/a2da/bin/perl
    $UID/$EUID = 1005 / 1005
    $GID = 1005 1005
    $EGID = 1005 1005

Perl module toolchain versions installed:

    Module              Have    
    ------------------- --------
    CPAN                1.9800  
    CPAN::Meta          2.112621
    Cwd                 3.39_01 
    ExtUtils::CBuilder  0.280205
    ExtUtils::Command   1.17    
    ExtUtils::Install   1.57    
    ExtUtils::MakeMaker 6.63_02 
    ExtUtils::Manifest  1.60    
    ExtUtils::ParseXS   3.08    
    File::Spec          3.39_01 
    JSON                2.53    
    JSON::PP            2.27200 
    Module::Build       0.39_01 
    Module::Signature   0.68    
    Parse::CPAN::Meta   1.4401  
    Test::Harness       3.23    
    Test::More          0.98    
    YAML                n/a     
    YAML::Syck          1.19    
    version             0.95    


--

Summary of my perl5 (revision 5 version 15 subversion 6) configuration:
  Commit id: 1bdf3602089bbd91290b5f82acfbe4387f9e3c97
  Platform:
    osname=linux, osvers=2.6.32-5-amd64, archname=x86_64-linux-thread-multi-ld
    uname='linux k83 2.6.32-5-amd64 #1 smp thu nov 3 03:41:26 utc 2011 x86_64 gnulinux '
    config_args='-Dprefix=/home/src/perl/repoperls/installed-perls/perl/v5.15.6-4-g1bdf360/a2da -Dmyhostname=k83 -Dinstallusrbinperl=n -Uversiononly -Dusedevel -des -Ui_db -Duseithreads -Duselongdouble -DDEBUGGING=-g'
    hint=recommended, useposix=true, d_sigaction=define
    useithreads=define, usemultiplicity=define
    useperlio=define, d_sfio=undef, uselargefiles=define, usesocks=undef
    use64bitint=define, use64bitall=define, uselongdouble=define
    usemymalloc=n, bincompat5005=undef
  Compiler:
    cc='cc', ccflags ='-D_REENTRANT -D_GNU_SOURCE -fno-strict-aliasing -pipe -fstack-protector -I/usr/local/include -D_LARGEFILE_SOURCE -D_FILE_OFFSET_BITS=64',
    optimize='-O2 -g',
    cppflags='-D_REENTRANT -D_GNU_SOURCE -fno-strict-aliasing -pipe -fstack-protector -I/usr/local/include'
    ccversion='', gccversion='4.4.5', gccosandvers=''
    intsize=4, longsize=8, ptrsize=8, doublesize=8, byteorder=12345678
    d_longlong=define, longlongsize=8, d_longdbl=define, longdblsize=16
    ivtype='long', ivsize=8, nvtype='long double', nvsize=16, Off_t='off_t', lseeksize=8
    alignbytes=16, prototype=define
  Linker and Libraries:
    ld='cc', ldflags =' -fstack-protector -L/usr/local/lib'
    libpth=/usr/local/lib /lib/../lib /usr/lib/../lib /lib /usr/lib /lib64 /usr/lib64
    libs=-lnsl -ldb -ldl -lm -lcrypt -lutil -lpthread -lc
    perllibs=-lnsl -ldl -lm -lcrypt -lutil -lpthread -lc
    libc=/lib/libc-2.11.2.so, so=so, useshrplib=false, libperl=libperl.a
    gnulibc_version='2.11.2'
  Dynamic Linking:
    dlsrc=dl_dlopen.xs, dlext=so, d_dlsymun=undef, ccdlflags='-Wl,-E'
    cccdlflags='-fPIC', lddlflags='-shared -O2 -g -L/usr/local/lib -fstack-protector'


Characteristics of this binary (from libperl): 
  Compile-time options: HAS_TIMES MULTIPLICITY PERLIO_LAYERS
                        PERL_DONT_CREATE_GVSV PERL_IMPLICIT_CONTEXT
                        PERL_MALLOC_WRAP PERL_PRESERVE_IVUV PERL_USE_DEVEL
                        USE_64_BIT_ALL USE_64_BIT_INT USE_ITHREADS
                        USE_LARGE_FILES USE_LOCALE USE_LOCALE_COLLATE
                        USE_LOCALE_CTYPE USE_LOCALE_NUMERIC USE_LONG_DOUBLE
                        USE_PERLIO USE_PERL_ATOF USE_REENTRANT_API
  Built under linux
  Compiled at Dec 20 2011 20:44:47
  %ENV:
    PERL5LIB=""
    PERL5OPT=""
    PERL5_CPANPLUS_IS_RUNNING="19497"
    PERL5_CPAN_IS_RUNNING="19497"
    PERL_MM_USE_DEFAULT="1"
  @INC:
    /home/src/perl/repoperls/installed-perls/perl/v5.15.6-4-g1bdf360/a2da/lib/site_perl/5.15.6/x86_64-linux-thread-multi-ld
    /home/src/perl/repoperls/installed-perls/perl/v5.15.6-4-g1bdf360/a2da/lib/site_perl/5.15.6
    /home/src/perl/repoperls/installed-perls/perl/v5.15.6-4-g1bdf360/a2da/lib/5.15.6/x86_64-linux-thread-multi-ld
    /home/src/perl/repoperls/installed-perls/perl/v5.15.6-4-g1bdf360/a2da/lib/5.15.6
    .