Report for XML-TreePP-0.43

Back
From: metabase:user:30f4dfbe-2aae-11df-837a-5e0a49663a4f
Subject: PASS XML-TreePP-0.43 v5.14.4 Mac OS X
Date: 2015-03-04T01:21:48Z

This distribution has been tested as part of the CPAN Testers
project, supporting the Perl programming language.  See
http://wiki.cpantesters.org/ for more information or email
questions to cpan-testers-discuss@perl.org


--
Dear Yusuke Kawasaki,

This is a computer-generated report for XML-TreePP-0.43
on perl 5.14.4, created by CPAN-Reporter-1.2011.

Thank you for uploading your work to CPAN.  Congratulations!
All tests were successful.

Sections of this report:

    * Tester comments
    * Program output
    * Prerequisites
    * Environment and other context

------------------------------
TESTER COMMENTS
------------------------------

Additional comments from tester:

this report is from an automated smoke testing program
and was not reviewed by a human for accuracy

------------------------------
PROGRAM OUTPUT
------------------------------

Output from '/sw/bin/make test':

PERL_DL_NONLAZY=1 /Users/hornenj/perl5/perlbrew/perls/perl-5.14.4/bin/perl "-MExtUtils::Command::MM" "-MTest::Harness" "-e" "undef *Test::Harness::Switches; test_harness(0, 'blib/lib', 'blib/arch')" t/*.t
t/00_pod.t .................... ok
t/01_parse.t .................. ok
t/02_write.t .................. ok
t/03_parsefile.t .............. ok
t/04_escape.t ................. ok
t/05_empty.t .................. ok
t/06_cdata.t .................. ok
t/07_attr_prefix.t ............ ok
t/08_force_array.t ............ ok
t/09_http-lite.t .............. skipped: HTTP::Lite is not loaded.
t/10_http-lwp.t ............... skipped: define $MORE_TESTS to test LWP::UserAgent.
t/11_escape_cdata.t ........... ok
t/12_escape_charref.t ......... ok
t/13_encoding_en.t ............ ok
t/14_encoding_zh.t ............ ok
t/15_encoding_ja.t ............ ok
t/16_encoding_ko.t ............ ok
t/17_output_encoding.t ........ ok
t/18_escape_amp.t ............. ok
t/19_multi_text.t ............. ok
t/20_http-lite-cached.t ....... skipped: HTTP::Lite is not loaded.
t/21_http-lwp-cached.t ........ skipped: define $MORE_TESTS to test this.
t/22_http-lite-headers.t ...... skipped: HTTP::Lite is not loaded.
t/23_http-lwp-headers.t ....... skipped: define $MORE_TESTS to test this.
t/24_ignore_error.t ........... ok
t/25_text_node_key.t .......... ok
t/26_attr_prefix_null.t ....... ok
t/27_http-lite-force.t ........ skipped: HTTP::Lite is not loaded.
t/28_http-lwp-force.t ......... skipped: define $MORE_TESTS to test this.
t/29_http-lwp-withcache.t ..... skipped: LWP::UserAgent::WithCache is not loaded.
t/30_first_out.t .............. ok
t/31_tie_ixhash.t ............. ok
t/32_base_class.t ............. ok
t/33_indent.t ................. ok
t/34_utf8_flag.t .............. ok
t/35_force_hash.t ............. ok
t/36_elem_class.t ............. ok
t/37_undef.t .................. ok
t/38_cdata_cdsect.t ........... ok
t/39_writefile.t .............. ok
t/40_writefile_jcode.t ........ skipped: Jcode is not loaded.
t/41_writefile_encode.t ....... ok
t/42_cdata_comment.t .......... ok
t/43_encoding_quote.t ......... ok
t/44_utf8_bom.t ............... ok
t/45_attr_space.t ............. ok
t/46_xml_deref.t .............. ok
t/47_xml_deref_utf8.t ......... ok
t/48_blobref.t ................ ok
t/49_invalid_encoding.t ....... ok
t/50_invalid_tree.t ........... ok
t/51_RT_42441.t ............... ok
t/52_require_xml_decl.t ....... ok
t/53_empty_text_node.t ........ ok
t/54_empty_element_tag_end.t .. ok
All tests successful.
Files=55, Tests=1093,  1 wallclock secs ( 0.13 usr  0.09 sys +  1.01 cusr  0.36 csys =  1.59 CPU)
Result: PASS

------------------------------
PREREQUISITES
------------------------------

Prerequisite modules loaded:

requires:

    Module              Need  Have    
    ------------------- ----- --------
    LWP                 5.811 6.08    
    Test::More          0     1.001014

build_requires:

    Module              Need  Have    
    ------------------- ----- --------
    ExtUtils::MakeMaker 0     6.98    

configure_requires:

    Module              Need  Have    
    ------------------- ----- --------
    ExtUtils::MakeMaker 0     6.98    


------------------------------
ENVIRONMENT AND OTHER CONTEXT
------------------------------

Environment variables:

    AUTOMATED_TESTING = 1
    LANG = en_US.UTF-8
    LC_ALL = POSIX
    LD_LIBRARY_PATH = :/net/traces01.be-md.ncbi.nlm.nih.gov/trace_software/vdb/mac/release/x86_64/lib
    PATH = /Users/hornenj/perl5/perlbrew/bin:/Users/hornenj/perl5/perlbrew/perls/perl-5.14.4/bin:/Users/hornenj/perl5/perlbrew/bin:/Users/hornenj/perl5/perlbrew/perls/perl-5.20.2/bin:/Users/hornenj/bin:/sw/lib/perl5/ExtUtils:/sw/bin:/am/ncbiapdata/bin:/usr/bin:/bin:/usr/X11R6/bin:/netopt/ncbi_tools/bin:/usr/local/ncbi/blast/bin:/net/traces01.be-md.ncbi.nlm.nih.gov/trace_software/vdb/mac/release/x86_64/bin
    PERL5LIB = 
    PERL5OPT = 
    PERL5_CPANPLUS_IS_RUNNING = 39792
    PERL5_CPAN_IS_RUNNING = 39792
    PERL5_MINISMOKEBOX = 0.58
    PERLBREW_BASHRC_VERSION = 0.69
    PERLBREW_HOME = /Users/hornenj/.perlbrew
    PERLBREW_LIB = 
    PERLBREW_MANPATH = /Users/hornenj/perl5/perlbrew/perls/perl-5.14.4/man
    PERLBREW_PATH = /Users/hornenj/perl5/perlbrew/bin:/Users/hornenj/perl5/perlbrew/perls/perl-5.14.4/bin
    PERLBREW_PERL = perl-5.14.4
    PERLBREW_ROOT = /Users/hornenj/perl5/perlbrew
    PERLBREW_VERSION = 0.73
    PERL_EXTUTILS_AUTOINSTALL = --defaultdeps
    PERL_LOCAL_LIB_ROOT = 
    PERL_MM_USE_DEFAULT = 1
    SHELL = /bin/bash
    TERM = xterm-256color
    TMPDIR = /var/folders/pz/pd7y1qjs6s3cbk170cw50fjc000c61/T/
    VERSIONER_PERL_PREFER_32_BIT = no
    VERSIONER_PERL_VERSION = 5.18
    ac_cv_path_INTLTOOL_PERL = /usr/bin/perl

Perl special variables (and OS-specific diagnostics, for MSWin32):

    $^X = /Users/hornenj/perl5/perlbrew/perls/perl-5.14.4/bin/perl
    $UID/$EUID = 12481 / 12481
    $GID = 14 14 5344 527 241
    $EGID = 14 14 5344 527 241

Perl module toolchain versions installed:

    Module              Have    
    ------------------- --------
    CPAN                2.05    
    CPAN::Meta          2.142690
    Cwd                 3.47    
    ExtUtils::CBuilder  0.280216
    ExtUtils::Command   1.18    
    ExtUtils::Install   1.68    
    ExtUtils::MakeMaker 6.98    
    ExtUtils::Manifest  1.65    
    ExtUtils::ParseXS   3.24    
    File::Spec          3.47    
    JSON                2.90    
    JSON::PP            2.27203 
    Module::Build       0.4210  
    Module::Signature   n/a     
    Parse::CPAN::Meta   1.4414  
    Test::Harness       3.33    
    Test::More          1.001014
    YAML                1.01    
    YAML::Syck          1.29    
    version             0.9908  


--

Summary of my perl5 (revision 5 version 14 subversion 4) configuration:
   
  Platform:
    osname=darwin, osvers=12.2.1, archname=darwin-2level
    uname='darwin ncbimac2008.ncbi.nlm.nih.gov 12.2.1 darwin kernel version 12.2.1: thu oct 18 12:13:47 pdt 2012; root:xnu-2050.20.9~1release_x86_64 x86_64 '
    config_args='-de -Dprefix=/Users/hornenj/perl5/perlbrew/perls/perl-5.14.4'
    hint=recommended, useposix=true, d_sigaction=define
    useithreads=undef, usemultiplicity=undef
    useperlio=define, d_sfio=undef, uselargefiles=define, usesocks=undef
    use64bitint=define, use64bitall=define, uselongdouble=undef
    usemymalloc=n, bincompat5005=undef
  Compiler:
    cc='cc', ccflags ='-fno-common -DPERL_DARWIN -fno-strict-aliasing -pipe -fstack-protector',
    optimize='-O3',
    cppflags='-fno-common -DPERL_DARWIN -fno-strict-aliasing -pipe -fstack-protector'
    ccversion='', gccversion='4.2.1 Compatible Apple LLVM 4.2 (clang-425.0.24)', gccosandvers=''
    intsize=4, longsize=8, ptrsize=8, doublesize=8, byteorder=12345678
    d_longlong=define, longlongsize=8, d_longdbl=define, longdblsize=16
    ivtype='long', ivsize=8, nvtype='double', nvsize=8, Off_t='off_t', lseeksize=8
    alignbytes=8, prototype=define
  Linker and Libraries:
    ld='env MACOSX_DEPLOYMENT_TARGET=10.3 cc', ldflags =' -fstack-protector'
    libpth=/usr/lib
    libs=-ldbm -ldl -lm -lutil -lc
    perllibs=-ldl -lm -lutil -lc
    libc=, so=dylib, useshrplib=false, libperl=libperl.a
    gnulibc_version=''
  Dynamic Linking:
    dlsrc=dl_dlopen.xs, dlext=bundle, d_dlsymun=undef, ccdlflags=' '
    cccdlflags=' ', lddlflags=' -bundle -undefined dynamic_lookup -fstack-protector'


Characteristics of this binary (from libperl): 
  Compile-time options: PERL_DONT_CREATE_GVSV PERL_MALLOC_WRAP
                        PERL_PRESERVE_IVUV USE_64_BIT_ALL USE_64_BIT_INT
                        USE_LARGE_FILES USE_PERLIO USE_PERL_ATOF
  Built under darwin
  Compiled at Mar 11 2013 08:11:05
  %ENV:
    PERL5LIB=""
    PERL5OPT=""
    PERL5_CPANPLUS_IS_RUNNING="39792"
    PERL5_CPAN_IS_RUNNING="39792"
    PERL5_MINISMOKEBOX="0.58"
    PERLBREW_BASHRC_VERSION="0.69"
    PERLBREW_HOME="/Users/hornenj/.perlbrew"
    PERLBREW_LIB=""
    PERLBREW_MANPATH="/Users/hornenj/perl5/perlbrew/perls/perl-5.14.4/man"
    PERLBREW_PATH="/Users/hornenj/perl5/perlbrew/bin:/Users/hornenj/perl5/perlbrew/perls/perl-5.14.4/bin"
    PERLBREW_PERL="perl-5.14.4"
    PERLBREW_ROOT="/Users/hornenj/perl5/perlbrew"
    PERLBREW_VERSION="0.73"
    PERL_EXTUTILS_AUTOINSTALL="--defaultdeps"
    PERL_LOCAL_LIB_ROOT=""
    PERL_MM_USE_DEFAULT="1"
  @INC:
    /Users/hornenj/perl5/perlbrew/perls/perl-5.14.4/lib/site_perl/5.14.4/darwin-2level
    /Users/hornenj/perl5/perlbrew/perls/perl-5.14.4/lib/site_perl/5.14.4
    /Users/hornenj/perl5/perlbrew/perls/perl-5.14.4/lib/5.14.4/darwin-2level
    /Users/hornenj/perl5/perlbrew/perls/perl-5.14.4/lib/5.14.4
    .