Back
From: metabase:user:320bfe00-2aae-11df-837a-5e0a49663a4f
Subject: PASS TM-1.56 v5.14.4 GNU/Linux
Date: 2016-09-18T22:47:08Z
This distribution has been tested as part of the CPAN Testers
project, supporting the Perl programming language. See
http://wiki.cpantesters.org/ for more information or email
questions to cpan-testers-discuss@perl.org
--
Dear Robert Barta,
This is a computer-generated report for TM-1.56
on perl 5.14.4, created by CPAN-Reporter-1.2018.
Thank you for uploading your work to CPAN. Congratulations!
All tests were successful.
Sections of this report:
* Tester comments
* Program output
* Prerequisites
* Environment and other context
------------------------------
TESTER COMMENTS
------------------------------
Additional comments from tester:
this report is from an automated smoke testing program
and was not reviewed by a human for accuracy
------------------------------
PROGRAM OUTPUT
------------------------------
Output from '/usr/bin/make test':
PERL_DL_NONLAZY=1 "/tmp/basesmoker-reloperl-0Z7E/bin/perl" "-MExtUtils::Command::MM" "-MTest::Harness" "-e" "undef *Test::Harness::Switches; test_harness(0, 'blib/lib', 'blib/arch')" t/*.t
t/00pods.t ............. ok
t/00utils.t ............ ok
t/010infrastructure.t .. ok
t/011manipulate.t ...... ok
t/012analysis.t ........ ok
t/013index.t ........... ok
t/014insane.t .......... ok
# 1measurable speedup (taxo) with lazy index ? (0.0455229282379150391 < 0.302480936050415039, 6.64)
# 1measurable speedup (taxo) with eager index ? (0.0967180728912353516 < 1.91813397407531738, 19.83)
# 1measurable speedup (char) with lazy index ? (0.0488440990447998047 < 0.203478097915649414, 4.17)
# no measurable speedup (reify) with lazy index + MLDBM ? (0.151566982269287109 < 0.144693851470947266, 0.95)
t/015indexable.t ....... ok
t/021ctmdeserialize.t .. ok
t/031synchronize.t ..... ok
t/032serialize.t ....... ok
t/03resource.t ......... ok
t/041astmafact.t ....... ok
t/042merge.t ........... ok
t/043diff.t ............ ok
t/044merge2.t .......... ok
t/045astma2fact.t ...... ok
t/046astma1serial.t .... ok
t/050astma.t ........... ok
t/051mldbm.t ........... ok
t/052mldbm2.t .......... ok
t/054ltm.t ............. ok
t/055jtm.t ............. ok
# populating map ...
# ...done
t/056bdb.t ............. ok
# no MEMCACHEDS environment variable defined, tests skipped
t/057memcached.t ....... ok
t/061xtmdeserialize.t .. ok
t/061xtmserialize.t .... ok
t/062xtmdeserialize.t .. ok
t/062xtmserialize.t .... ok
t/063xtm.t ............. ok
t/064csv.t ............. ok
t/072bulk.t ............ ok
t/091taufilter.t ....... ok
t/092taufederate.t ..... ok
t/095tau.t ............. ok
t/096taumapsphere.t .... ok
t/100mapsphere.t ....... ok
t/101mapsphere.t ....... ok
t/102mapsphere.t ....... ok
t/103objectable.t ...... ok
t/13tmdm.t ............. ok
All tests successful.
Files=41, Tests=11405, 28 wallclock secs ( 0.37 usr 0.40 sys + 25.70 cusr 0.72 csys = 27.19 CPU)
Result: PASS
------------------------------
PREREQUISITES
------------------------------
Prerequisite modules loaded:
requires:
Module Need Have
------------------- ----- ----------
BerkeleyDB 0.26 0.55
Cache::Memcached 0 1.30
Class::Trait 0.22 0.31
Config::General 2.26 2.63
IO::String 1.08 1.08
Log::Log4perl 0.5 1.47
LWP::Simple 1.41 6.15
MLDBM 2.01 2.05
MLDBM::Sync 0.3 0.30
Parse::RecDescent 0 1.967013
Parse::Yapp::Driver 1.05 1.05
Pod::Usage 1.16 1.69
Regexp::Common 0 2016060801
Term::ReadLine 1.01 1.14
Test::Deep 0.093 1.123
Test::More 0.47 1.302056
Test::Pod 1 1.51
Text::CSV 0 1.33
URI 1.35 1.71
XML::LibXML 1.58 2.0128
XML::Simple 2.13 2.22
XML::Writer 0.602 0.625
YAML::Syck 0 1.29
build_requires:
Module Need Have
------------------- ----- ----------
ExtUtils::MakeMaker 0 7.24
configure_requires:
Module Need Have
------------------- ----- ----------
ExtUtils::MakeMaker 0 7.24
------------------------------
ENVIRONMENT AND OTHER CONTEXT
------------------------------
Environment variables:
AUTOMATED_TESTING = 1
LANG = C
PATH = /home/sand/bin:/usr/local/bin:/usr/bin:/bin:/usr/games:/usr/local/perl/bin:/usr/X11/bin:/sbin:/usr/sbin
PERL5LIB = /tmp/loop_over_bdir-6850-AtikU_/ProjectBuilder-0.12.2-0/blib/arch:/tmp/loop_over_bdir-6850-AtikU_/ProjectBuilder-0.12.2-0/blib/lib:/tmp/loop_over_bdir-6850-AtikU_/FusionInventory-Agent-2.3.18-0/blib/arch:/tmp/loop_over_bdir-6850-AtikU_/FusionInventory-Agent-2.3.18-0/blib/lib
PERL5OPT =
PERL5_CPANPLUS_IS_RUNNING = 17757
PERL5_CPAN_IS_RUNNING = 17757
PERL_CANARY_STABILITY_NOPROMPT = 1
PERL_MM_USE_DEFAULT = 1
SHELL = /usr/bin/zsh
TERM = screen
Perl special variables (and OS-specific diagnostics, for MSWin32):
$^X = /tmp/basesmoker-reloperl-0Z7E/bin/perl
$UID/$EUID = 1005 / 1005
$GID = 1005 1005
$EGID = 1005 1005
Perl module toolchain versions installed:
Module Have
------------------- --------
CPAN 2.15
CPAN::Meta 2.150010
Cwd 3.62
ExtUtils::CBuilder 0.280224
ExtUtils::Command 7.24
ExtUtils::Install 2.04
ExtUtils::MakeMaker 7.24
ExtUtils::Manifest 1.70
ExtUtils::ParseXS 3.30
File::Spec 3.62
JSON 2.90
JSON::PP 2.27400
Module::Build 0.4220
Module::Signature 0.81
Parse::CPAN::Meta 2.150010
Test::Harness 3.36
Test::More 1.302056
YAML 1.18
YAML::Syck 1.29
version 0.9917
--
Summary of my perl5 (revision 5 version 14 subversion 4) configuration:
Derived from: 26c5c13a4ece9084f310610bb17fb2f24c72a73e
Platform:
osname=linux, osvers=4.7.0-1-amd64, archname=x86_64-linux-ld
uname='linux k93x64sid 4.7.0-1-amd64 #1 smp debian 4.7.2-1 (2016-08-28) x86_64 gnulinux '
config_args='-Dprefix=/home/sand/src/perl/repoperls/installed-perls/host/k93x64sid/v5.14.4/3bd2 -Dmyhostname=k93x64sid -Dinstallusrbinperl=n -Uversiononly -Dusedevel -des -Ui_db -Dlibswanted=cl pthread socket inet nsl gdbm dbm malloc dl ld sun m crypt sec util c cposix posix ucb BSD gdbm_compat -Uuseithreads -Duselongdouble -DDEBUGGING=-g'
hint=recommended, useposix=true, d_sigaction=define
useithreads=undef, usemultiplicity=undef
useperlio=define, d_sfio=undef, uselargefiles=define, usesocks=undef
use64bitint=define, use64bitall=define, uselongdouble=define
usemymalloc=n, bincompat5005=undef
Compiler:
cc='cc', ccflags ='-fno-strict-aliasing -pipe -fstack-protector -I/usr/local/include -D_LARGEFILE_SOURCE -D_FILE_OFFSET_BITS=64',
optimize='-O2 -g',
cppflags='-fno-strict-aliasing -pipe -fstack-protector -I/usr/local/include'
ccversion='', gccversion='6.2.0 20160914', gccosandvers=''
intsize=4, longsize=8, ptrsize=8, doublesize=8, byteorder=12345678
d_longlong=define, longlongsize=8, d_longdbl=define, longdblsize=16
ivtype='long', ivsize=8, nvtype='long double', nvsize=16, Off_t='off_t', lseeksize=8
alignbytes=16, prototype=define
Linker and Libraries:
ld='cc', ldflags =' -fstack-protector -L/usr/local/lib'
libpth=/usr/local/lib /lib/x86_64-linux-gnu /lib/../lib /usr/lib/x86_64-linux-gnu /usr/lib/../lib /lib /usr/lib
libs=-lpthread -lnsl -ldl -lm -lcrypt -lutil -lc
perllibs=-lpthread -lnsl -ldl -lm -lcrypt -lutil -lc
libc=libc-2.24.so, so=so, useshrplib=false, libperl=libperl.a
gnulibc_version='2.24'
Dynamic Linking:
dlsrc=dl_dlopen.xs, dlext=so, d_dlsymun=undef, ccdlflags='-Wl,-E'
cccdlflags='-fPIC', lddlflags='-shared -O2 -g -L/usr/local/lib -fstack-protector'
Characteristics of this binary (from libperl):
Compile-time options: PERL_DONT_CREATE_GVSV PERL_MALLOC_WRAP
PERL_PRESERVE_IVUV PERL_USE_DEVEL USE_64_BIT_ALL
USE_64_BIT_INT USE_LARGE_FILES USE_LONG_DOUBLE
USE_PERLIO USE_PERL_ATOF
Locally applied patches:
uncommitted-changes
Built under linux
Compiled at Sep 18 2016 07:05:01
%ENV:
PERL5LIB="/tmp/loop_over_bdir-6850-AtikU_/ProjectBuilder-0.12.2-0/blib/arch:/tmp/loop_over_bdir-6850-AtikU_/ProjectBuilder-0.12.2-0/blib/lib:/tmp/loop_over_bdir-6850-AtikU_/FusionInventory-Agent-2.3.18-0/blib/arch:/tmp/loop_over_bdir-6850-AtikU_/FusionInventory-Agent-2.3.18-0/blib/lib"
PERL5OPT=""
PERL5_CPANPLUS_IS_RUNNING="17757"
PERL5_CPAN_IS_RUNNING="17757"
PERL_CANARY_STABILITY_NOPROMPT="1"
PERL_MM_USE_DEFAULT="1"
@INC:
/tmp/loop_over_bdir-6850-AtikU_/ProjectBuilder-0.12.2-0/blib/arch
/tmp/loop_over_bdir-6850-AtikU_/ProjectBuilder-0.12.2-0/blib/lib
/tmp/loop_over_bdir-6850-AtikU_/FusionInventory-Agent-2.3.18-0/blib/arch
/tmp/loop_over_bdir-6850-AtikU_/FusionInventory-Agent-2.3.18-0/blib/lib
/home/sand/src/perl/repoperls/installed-perls/host/k93x64sid/v5.14.4/3bd2/lib/site_perl/5.14.4/x86_64-linux-ld
/home/sand/src/perl/repoperls/installed-perls/host/k93x64sid/v5.14.4/3bd2/lib/site_perl/5.14.4
/home/sand/src/perl/repoperls/installed-perls/host/k93x64sid/v5.14.4/3bd2/lib/5.14.4/x86_64-linux-ld
/home/sand/src/perl/repoperls/installed-perls/host/k93x64sid/v5.14.4/3bd2/lib/5.14.4
.