HTTP-Session2 v1.10 Perl 5 v5.24.1 x86_64-linux

Status
Pass
From
Slaven Rezić (SREZIC)
Dist
HTTP-Session2 v1.10
Platform
Perl 5 v5.24.1 x86_64-linux
Date
2018-01-26 06:33:33
ID
d486f31c-0262-11e8-86cd-f76f6ee1ca60
This distribution has been tested as part of the CPAN Testers
project, supporting the Perl programming language.  See
http://wiki.cpantesters.org/ for more information or email
questions to cpan-testers-discuss@perl.org


--
Dear Author,

This is a computer-generated report for HTTP-Session2-1.10
on perl 5.24.1, created by CPAN-Reporter-1.2018.

Thank you for uploading your work to CPAN.  Congratulations!
All tests were successful.

Sections of this report:

    * Tester comments
    * Program output
    * Prerequisites
    * Environment and other context

------------------------------
TESTER COMMENTS
------------------------------

Additional comments from tester:

none provided

------------------------------
PROGRAM OUTPUT
------------------------------

Output from './Build test':

t/00_compile.t .............. ok
Secret string too short at /home/cpansand/.cpan/build/2018012603/HTTP-Session2-1.10-6/blib/lib/HTTP/Session2/Base.pm line 79.
	HTTP::Session2::Base::__ANON__(HTTP::Session2::ServerStore=HASH(0x24be158), "s3cret") called at t/01_server_side.t line 23
	main::__ANON__("client -> server: request without cookie", CODE(0x24bddf8)) called at t/01_server_side.t line 25
	main::__ANON__() called at /opt/perl-5.24.1/lib/site_perl/5.24.1/Test/Builder.pm line 337
	eval {...} called at /opt/perl-5.24.1/lib/site_perl/5.24.1/Test/Builder.pm line 337
	Test::Builder::subtest(Test::Builder=HASH(0x1bdeea0), "First request", CODE(0x2209a60)) called at /opt/perl-5.24.1/lib/site_perl/5.24.1/Test/More.pm line 807
	Test::More::subtest("First request", CODE(0x2209a60)) called at t/01_server_side.t line 11
	main::scenario("First request", CODE(0x2209a60)) called at t/01_server_side.t line 31
Secret string too short at /home/cpansand/.cpan/build/2018012603/HTTP-Session2-1.10-6/blib/lib/HTTP/Session2/Base.pm line 79.
	HTTP::Session2::Base::__ANON__(HTTP::Session2::ServerStore=HASH(0x24c8c30), "s3cret") called at t/01_server_side.t line 40
	main::__ANON__("client -> server: request without cookie", CODE(0x24c8978)) called at t/01_server_side.t line 42
	main::__ANON__() called at /opt/perl-5.24.1/lib/site_perl/5.24.1/Test/Builder.pm line 337
	eval {...} called at /opt/perl-5.24.1/lib/site_perl/5.24.1/Test/Builder.pm line 337
	Test::Builder::subtest(Test::Builder=HASH(0x1bdeea0), "Store something without login", CODE(0x2286560)) called at /opt/perl-5.24.1/lib/site_perl/5.24.1/Test/More.pm line 807
	Test::More::subtest("Store something without login", CODE(0x2286560)) called at t/01_server_side.t line 11
	main::scenario("Store something without login", CODE(0x2286560)) called at t/01_server_side.t line 58
Secret string too short at /home/cpansand/.cpan/build/2018012603/HTTP-Session2-1.10-6/blib/lib/HTTP/Session2/Base.pm line 79.
	HTTP::Session2::Base::__ANON__(HTTP::Session2::ServerStore=HASH(0x24d39d8), "s3cret") called at t/01_server_side.t line 70
	main::__ANON__("client -> server: request without cookie", CODE(0x24d34b0)) called at t/01_server_side.t line 72
	main::__ANON__() called at /opt/perl-5.24.1/lib/site_perl/5.24.1/Test/Builder.pm line 337
	eval {...} called at /opt/perl-5.24.1/lib/site_perl/5.24.1/Test/Builder.pm line 337
	Test::Builder::subtest(Test::Builder=HASH(0x1bdeea0), "Login", CODE(0x2206b80)) called at /opt/perl-5.24.1/lib/site_perl/5.24.1/Test/More.pm line 807
	Test::More::subtest("Login", CODE(0x2206b80)) called at t/01_server_side.t line 11
	main::scenario("Login", CODE(0x2206b80)) called at t/01_server_side.t line 96
Secret string too short at /home/cpansand/.cpan/build/2018012603/HTTP-Session2-1.10-6/blib/lib/HTTP/Session2/Base.pm line 79.
	HTTP::Session2::Base::__ANON__(HTTP::Session2::ServerStore=HASH(0x24dbb98), "s3cret") called at t/01_server_side.t line 108
	main::__ANON__("client -> server: request without cookie", CODE(0x24d9cc0)) called at t/01_server_side.t line 110
	main::__ANON__() called at /opt/perl-5.24.1/lib/site_perl/5.24.1/Test/Builder.pm line 337
	eval {...} called at /opt/perl-5.24.1/lib/site_perl/5.24.1/Test/Builder.pm line 337
	Test::Builder::subtest(Test::Builder=HASH(0x1bdeea0), "In a login session", CODE(0x22072d0)) called at /opt/perl-5.24.1/lib/site_perl/5.24.1/Test/More.pm line 807
	Test::More::subtest("In a login session", CODE(0x22072d0)) called at t/01_server_side.t line 11
	main::scenario("In a login session", CODE(0x22072d0)) called at t/01_server_side.t line 124
Secret string too short at /home/cpansand/.cpan/build/2018012603/HTTP-Session2-1.10-6/blib/lib/HTTP/Session2/Base.pm line 79.
	HTTP::Session2::Base::__ANON__(HTTP::Session2::ServerStore=HASH(0x24dc918), "s3cret") called at t/01_server_side.t line 136
	main::__ANON__("client -> server: request without cookie", CODE(0x24dddf0)) called at t/01_server_side.t line 138
	main::__ANON__() called at /opt/perl-5.24.1/lib/site_perl/5.24.1/Test/Builder.pm line 337
	eval {...} called at /opt/perl-5.24.1/lib/site_perl/5.24.1/Test/Builder.pm line 337
	Test::Builder::subtest(Test::Builder=HASH(0x1bdeea0), "Invalid session id", CODE(0x24a8940)) called at /opt/perl-5.24.1/lib/site_perl/5.24.1/Test/More.pm line 807
	Test::More::subtest("Invalid session id", CODE(0x24a8940)) called at t/01_server_side.t line 11
	main::scenario("Invalid session id", CODE(0x24a8940)) called at t/01_server_side.t line 153
Secret string too short at /home/cpansand/.cpan/build/2018012603/HTTP-Session2-1.10-6/blib/lib/HTTP/Session2/Base.pm line 79.
	HTTP::Session2::Base::__ANON__(HTTP::Session2::ServerStore=HASH(0x24e4768), "s3cret") called at t/01_server_side.t line 160
	main::__ANON__("client -> server: request without cookie", CODE(0x24e0618)) called at t/01_server_side.t line 167
	main::__ANON__() called at /opt/perl-5.24.1/lib/site_perl/5.24.1/Test/Builder.pm line 337
	eval {...} called at /opt/perl-5.24.1/lib/site_perl/5.24.1/Test/Builder.pm line 337
	Test::Builder::subtest(Test::Builder=HASH(0x1bdeea0), "Logout", CODE(0x24a8dd8)) called at /opt/perl-5.24.1/lib/site_perl/5.24.1/Test/More.pm line 807
	Test::More::subtest("Logout", CODE(0x24a8dd8)) called at t/01_server_side.t line 11
	main::scenario("Logout", CODE(0x24a8dd8)) called at t/01_server_side.t line 182
t/01_server_side.t .......... ok
Secret string too short at /home/cpansand/.cpan/build/2018012603/HTTP-Session2-1.10-6/blib/lib/HTTP/Session2/Base.pm line 79.
	HTTP::Session2::Base::__ANON__(HTTP::Session2::ClientStore=HASH(0x2504fe0), "s3cret") called at t/02_client_side.t line 17
	main::__ANON__("client -> server: request without cookie", CODE(0x2504cb0)) called at t/02_client_side.t line 22
	main::__ANON__() called at /opt/perl-5.24.1/lib/site_perl/5.24.1/Test/Builder.pm line 337
	eval {...} called at /opt/perl-5.24.1/lib/site_perl/5.24.1/Test/Builder.pm line 337
	Test::Builder::subtest(Test::Builder=HASH(0x1b93920), "First request", CODE(0x21b1148)) called at /opt/perl-5.24.1/lib/site_perl/5.24.1/Test/More.pm line 807
	Test::More::subtest("First request", CODE(0x21b1148)) called at t/02_client_side.t line 9
	main::scenario("First request", CODE(0x21b1148)) called at t/02_client_side.t line 28
Secret string too short at /home/cpansand/.cpan/build/2018012603/HTTP-Session2-1.10-6/blib/lib/HTTP/Session2/Base.pm line 79.
	HTTP::Session2::Base::__ANON__(HTTP::Session2::ClientStore=HASH(0x250e698), "s3cret") called at t/02_client_side.t line 33
	main::__ANON__("client -> server: request without cookie", CODE(0x250e5a8)) called at t/02_client_side.t line 38
	main::__ANON__() called at /opt/perl-5.24.1/lib/site_perl/5.24.1/Test/Builder.pm line 337
	eval {...} called at /opt/perl-5.24.1/lib/site_perl/5.24.1/Test/Builder.pm line 337
	Test::Builder::subtest(Test::Builder=HASH(0x1b93920), "Store something without login", CODE(0x24dee58)) called at /opt/perl-5.24.1/lib/site_perl/5.24.1/Test/More.pm line 807
	Test::More::subtest("Store something without login", CODE(0x24dee58)) called at t/02_client_side.t line 9
	main::scenario("Store something without login", CODE(0x24dee58)) called at t/02_client_side.t line 54
Do not use HTTP::Session2::ClientStore. Use HTTP::Session2::ServerStore or HTTP::Session2::ClientStore2 instead. at /home/cpansand/.cpan/build/2018012603/HTTP-Session2-1.10-6/blib/lib/HTTP/Session2/ClientStore.pm line 25.
Secret string too short at /home/cpansand/.cpan/build/2018012603/HTTP-Session2-1.10-6/blib/lib/HTTP/Session2/Base.pm line 79.
	HTTP::Session2::Base::__ANON__(HTTP::Session2::ClientStore=HASH(0x251c918), "s3cret") called at t/02_client_side.t line 60
	main::__ANON__("client -> server: request without cookie", CODE(0x251c780)) called at t/02_client_side.t line 66
	main::__ANON__() called at /opt/perl-5.24.1/lib/site_perl/5.24.1/Test/Builder.pm line 337
	eval {...} called at /opt/perl-5.24.1/lib/site_perl/5.24.1/Test/Builder.pm line 337
	Test::Builder::subtest(Test::Builder=HASH(0x1b93920), "Login", CODE(0x24df080)) called at /opt/perl-5.24.1/lib/site_perl/5.24.1/Test/More.pm line 807
	Test::More::subtest("Login", CODE(0x24df080)) called at t/02_client_side.t line 9
	main::scenario("Login", CODE(0x24df080)) called at t/02_client_side.t line 86
Do not use HTTP::Session2::ClientStore. Use HTTP::Session2::ServerStore or HTTP::Session2::ClientStore2 instead. at /home/cpansand/.cpan/build/2018012603/HTTP-Session2-1.10-6/blib/lib/HTTP/Session2/ClientStore.pm line 35.
Do not use HTTP::Session2::ClientStore. Use HTTP::Session2::ServerStore or HTTP::Session2::ClientStore2 instead. at /home/cpansand/.cpan/build/2018012603/HTTP-Session2-1.10-6/blib/lib/HTTP/Session2/ClientStore.pm line 25.
Secret string too short at /home/cpansand/.cpan/build/2018012603/HTTP-Session2-1.10-6/blib/lib/HTTP/Session2/Base.pm line 79.
	HTTP::Session2::Base::__ANON__(HTTP::Session2::ClientStore=HASH(0x2524380), "s3cret") called at t/02_client_side.t line 92
	main::__ANON__("client -> server: request without cookie", CODE(0x25241b8)) called at t/02_client_side.t line 98
	main::__ANON__() called at /opt/perl-5.24.1/lib/site_perl/5.24.1/Test/Builder.pm line 337
	eval {...} called at /opt/perl-5.24.1/lib/site_perl/5.24.1/Test/Builder.pm line 337
	Test::Builder::subtest(Test::Builder=HASH(0x1b93920), "In a login session", CODE(0x24ee440)) called at /opt/perl-5.24.1/lib/site_perl/5.24.1/Test/More.pm line 807
	Test::More::subtest("In a login session", CODE(0x24ee440)) called at t/02_client_side.t line 9
	main::scenario("In a login session", CODE(0x24ee440)) called at t/02_client_side.t line 107
Do not use HTTP::Session2::ClientStore. Use HTTP::Session2::ServerStore or HTTP::Session2::ClientStore2 instead. at /home/cpansand/.cpan/build/2018012603/HTTP-Session2-1.10-6/blib/lib/HTTP/Session2/ClientStore.pm line 35.
Do not use HTTP::Session2::ClientStore. Use HTTP::Session2::ServerStore or HTTP::Session2::ClientStore2 instead. at /home/cpansand/.cpan/build/2018012603/HTTP-Session2-1.10-6/blib/lib/HTTP/Session2/ClientStore.pm line 25.
Secret string too short at /home/cpansand/.cpan/build/2018012603/HTTP-Session2-1.10-6/blib/lib/HTTP/Session2/Base.pm line 79.
	HTTP::Session2::Base::__ANON__(HTTP::Session2::ClientStore=HASH(0x2526e00), "s3cret") called at t/02_client_side.t line 112
	main::__ANON__("client -> server: request without cookie", CODE(0x2526e90)) called at t/02_client_side.t line 118
	main::__ANON__() called at /opt/perl-5.24.1/lib/site_perl/5.24.1/Test/Builder.pm line 337
	eval {...} called at /opt/perl-5.24.1/lib/site_perl/5.24.1/Test/Builder.pm line 337
	Test::Builder::subtest(Test::Builder=HASH(0x1b93920), "Logout", CODE(0x24ee4b8)) called at /opt/perl-5.24.1/lib/site_perl/5.24.1/Test/More.pm line 807
	Test::More::subtest("Logout", CODE(0x24ee4b8)) called at t/02_client_side.t line 9
	main::scenario("Logout", CODE(0x24ee4b8)) called at t/02_client_side.t line 131
t/02_client_side.t .......... ok
Secret string too short at /home/cpansand/.cpan/build/2018012603/HTTP-Session2-1.10-6/blib/lib/HTTP/Session2/Base.pm line 79.
	HTTP::Session2::Base::__ANON__(HTTP::Session2::ServerStore=HASH(0x39fa968), "s3cret") called at t/03_mech.t line 121
	main::server_session(HASH(0x364f240)) called at t/03_mech.t line 17
	main::__ANON__(HASH(0x364f240)) called at /opt/perl-5.24.1/lib/site_perl/5.24.1/Test/WWW/Mechanize/PSGI.pm line 43
	Test::WWW::Mechanize::PSGI::try {...} () called at /opt/perl-5.24.1/lib/site_perl/5.24.1/Try/Tiny.pm line 102
	eval {...} called at /opt/perl-5.24.1/lib/site_perl/5.24.1/Try/Tiny.pm line 93
	Try::Tiny::try(CODE(0x3a0d108), Try::Tiny::Catch=REF(0x2c4b820)) called at /opt/perl-5.24.1/lib/site_perl/5.24.1/Test/WWW/Mechanize/PSGI.pm line 50
	Test::WWW::Mechanize::PSGI::simple_request(Test::WWW::Mechanize::PSGI=HASH(0x38c7878), HTTP::Request=HASH(0x398b1f0), undef, undef) called at /opt/perl-5.24.1/lib/site_perl/5.24.1/LWP/UserAgent.pm line 297
	LWP::UserAgent::request(Test::WWW::Mechanize::PSGI=HASH(0x38c7878), HTTP::Request=HASH(0x398b1f0)) called at /opt/perl-5.24.1/lib/site_perl/5.24.1/WWW/Mechanize.pm line 1413
	WWW::Mechanize::_make_request(Test::WWW::Mechanize::PSGI=HASH(0x38c7878), HTTP::Request=HASH(0x398b1f0)) called at /opt/perl-5.24.1/lib/site_perl/5.24.1/WWW/Mechanize.pm line 1253
	WWW::Mechanize::request(Test::WWW::Mechanize::PSGI=HASH(0x38c7878), HTTP::Request=HASH(0x398b1f0)) called at /opt/perl-5.24.1/lib/site_perl/5.24.1/LWP/UserAgent.pm line 435
	LWP::UserAgent::get(Test::WWW::Mechanize::PSGI=HASH(0x38c7878), "/") called at /opt/perl-5.24.1/lib/site_perl/5.24.1/WWW/Mechanize.pm line 117
	WWW::Mechanize::get(Test::WWW::Mechanize::PSGI=HASH(0x38c7878), "/") called at /opt/perl-5.24.1/lib/site_perl/5.24.1/Test/WWW/Mechanize.pm line 160
	Test::WWW::Mechanize::get_ok(Test::WWW::Mechanize::PSGI=HASH(0x38c7878), "/") called at t/03_mech.t line 74
Secret string too short at /home/cpansand/.cpan/build/2018012603/HTTP-Session2-1.10-6/blib/lib/HTTP/Session2/Base.pm line 79.
	HTTP::Session2::Base::__ANON__(HTTP::Session2::ServerStore=HASH(0x3a22f10), "s3cret") called at t/03_mech.t line 121
	main::server_session(HASH(0x39fab60)) called at t/03_mech.t line 17
	main::__ANON__(HASH(0x39fab60)) called at /opt/perl-5.24.1/lib/site_perl/5.24.1/Test/WWW/Mechanize/PSGI.pm line 43
	Test::WWW::Mechanize::PSGI::try {...} () called at /opt/perl-5.24.1/lib/site_perl/5.24.1/Try/Tiny.pm line 102
	eval {...} called at /opt/perl-5.24.1/lib/site_perl/5.24.1/Try/Tiny.pm line 93
	Try::Tiny::try(CODE(0x39fb460), Try::Tiny::Catch=REF(0x39fa7b8)) called at /opt/perl-5.24.1/lib/site_perl/5.24.1/Test/WWW/Mechanize/PSGI.pm line 50
	Test::WWW::Mechanize::PSGI::simple_request(Test::WWW::Mechanize::PSGI=HASH(0x38c7878), HTTP::Request=HASH(0x398a9e0), undef, undef) called at /opt/perl-5.24.1/lib/site_perl/5.24.1/LWP/UserAgent.pm line 297
	LWP::UserAgent::request(Test::WWW::Mechanize::PSGI=HASH(0x38c7878), HTTP::Request=HASH(0x398a9e0)) called at /opt/perl-5.24.1/lib/site_perl/5.24.1/WWW/Mechanize.pm line 1413
	WWW::Mechanize::_make_request(Test::WWW::Mechanize::PSGI=HASH(0x38c7878), HTTP::Request=HASH(0x398a9e0)) called at /opt/perl-5.24.1/lib/site_perl/5.24.1/WWW/Mechanize.pm line 1253
	WWW::Mechanize::request(Test::WWW::Mechanize::PSGI=HASH(0x38c7878), HTTP::Request=HASH(0x398a9e0)) called at /opt/perl-5.24.1/lib/site_perl/5.24.1/LWP/UserAgent.pm line 478
	LWP::UserAgent::post(Test::WWW::Mechanize::PSGI=HASH(0x38c7878), "/wishlist?foo", HASH(0x35a9248)) called at /opt/perl-5.24.1/lib/site_perl/5.24.1/Test/WWW/Mechanize.pm line 237
	Test::WWW::Mechanize::post_ok(Test::WWW::Mechanize::PSGI=HASH(0x38c7878), "/wishlist?foo") called at t/03_mech.t line 75
Secret string too short at /home/cpansand/.cpan/build/2018012603/HTTP-Session2-1.10-6/blib/lib/HTTP/Session2/Base.pm line 79.
	HTTP::Session2::Base::__ANON__(HTTP::Session2::ServerStore=HASH(0x3a23810), "s3cret") called at t/03_mech.t line 121
	main::server_session(HASH(0x3a22dd8)) called at t/03_mech.t line 17
	main::__ANON__(HASH(0x3a22dd8)) called at /opt/perl-5.24.1/lib/site_perl/5.24.1/Test/WWW/Mechanize/PSGI.pm line 43
	Test::WWW::Mechanize::PSGI::try {...} () called at /opt/perl-5.24.1/lib/site_perl/5.24.1/Try/Tiny.pm line 102
	eval {...} called at /opt/perl-5.24.1/lib/site_perl/5.24.1/Try/Tiny.pm line 93
	Try::Tiny::try(CODE(0x38b4088), Try::Tiny::Catch=REF(0x3a22df0)) called at /opt/perl-5.24.1/lib/site_perl/5.24.1/Test/WWW/Mechanize/PSGI.pm line 50
	Test::WWW::Mechanize::PSGI::simple_request(Test::WWW::Mechanize::PSGI=HASH(0x38c7878), HTTP::Request=HASH(0x38c7ce0), undef, undef) called at /opt/perl-5.24.1/lib/site_perl/5.24.1/LWP/UserAgent.pm line 297
	LWP::UserAgent::request(Test::WWW::Mechanize::PSGI=HASH(0x38c7878), HTTP::Request=HASH(0x38c7ce0)) called at /opt/perl-5.24.1/lib/site_perl/5.24.1/WWW/Mechanize.pm line 1413
	WWW::Mechanize::_make_request(Test::WWW::Mechanize::PSGI=HASH(0x38c7878), HTTP::Request=HASH(0x38c7ce0)) called at /opt/perl-5.24.1/lib/site_perl/5.24.1/WWW/Mechanize.pm line 1253
	WWW::Mechanize::request(Test::WWW::Mechanize::PSGI=HASH(0x38c7878), HTTP::Request=HASH(0x38c7ce0)) called at /opt/perl-5.24.1/lib/site_perl/5.24.1/LWP/UserAgent.pm line 435
	LWP::UserAgent::get(Test::WWW::Mechanize::PSGI=HASH(0x38c7878), "http://localhost/wishlist") called at /opt/perl-5.24.1/lib/site_perl/5.24.1/WWW/Mechanize.pm line 117
	WWW::Mechanize::get(Test::WWW::Mechanize::PSGI=HASH(0x38c7878), "/wishlist") called at /opt/perl-5.24.1/lib/site_perl/5.24.1/Test/WWW/Mechanize.pm line 160
	Test::WWW::Mechanize::get_ok(Test::WWW::Mechanize::PSGI=HASH(0x38c7878), "/wishlist") called at t/03_mech.t line 76
Secret string too short at /home/cpansand/.cpan/build/2018012603/HTTP-Session2-1.10-6/blib/lib/HTTP/Session2/Base.pm line 79.
	HTTP::Session2::Base::__ANON__(HTTP::Session2::ServerStore=HASH(0x3a2aa40), "s3cret") called at t/03_mech.t line 121
	main::server_session(HASH(0x3a23528)) called at t/03_mech.t line 17
	main::__ANON__(HASH(0x3a23528)) called at /opt/perl-5.24.1/lib/site_perl/5.24.1/Test/WWW/Mechanize/PSGI.pm line 43
	Test::WWW::Mechanize::PSGI::try {...} () called at /opt/perl-5.24.1/lib/site_perl/5.24.1/Try/Tiny.pm line 102
	eval {...} called at /opt/perl-5.24.1/lib/site_perl/5.24.1/Try/Tiny.pm line 93
	Try::Tiny::try(CODE(0x3a238a0), Try::Tiny::Catch=REF(0x3a236d8)) called at /opt/perl-5.24.1/lib/site_perl/5.24.1/Test/WWW/Mechanize/PSGI.pm line 50
	Test::WWW::Mechanize::PSGI::simple_request(Test::WWW::Mechanize::PSGI=HASH(0x38c7878), HTTP::Request=HASH(0x3a2a8f0), undef, undef) called at /opt/perl-5.24.1/lib/site_perl/5.24.1/LWP/UserAgent.pm line 297
	LWP::UserAgent::request(Test::WWW::Mechanize::PSGI=HASH(0x38c7878), HTTP::Request=HASH(0x3a2a8f0)) called at /opt/perl-5.24.1/lib/site_perl/5.24.1/WWW/Mechanize.pm line 1413
	WWW::Mechanize::_make_request(Test::WWW::Mechanize::PSGI=HASH(0x38c7878), HTTP::Request=HASH(0x3a2a8f0)) called at /opt/perl-5.24.1/lib/site_perl/5.24.1/WWW/Mechanize.pm line 1253
	WWW::Mechanize::request(Test::WWW::Mechanize::PSGI=HASH(0x38c7878), HTTP::Request=HASH(0x3a2a8f0)) called at /opt/perl-5.24.1/lib/site_perl/5.24.1/LWP/UserAgent.pm line 478
	LWP::UserAgent::post(Test::WWW::Mechanize::PSGI=HASH(0x38c7878), "/wishlist?bar") called at t/03_mech.t line 78
Secret string too short at /home/cpansand/.cpan/build/2018012603/HTTP-Session2-1.10-6/blib/lib/HTTP/Session2/Base.pm line 79.
	HTTP::Session2::Base::__ANON__(HTTP::Session2::ServerStore=HASH(0x3a2b0a0), "s3cret") called at t/03_mech.t line 121
	main::server_session(HASH(0x3a23360)) called at t/03_mech.t line 17
	main::__ANON__(HASH(0x3a23360)) called at /opt/perl-5.24.1/lib/site_perl/5.24.1/Test/WWW/Mechanize/PSGI.pm line 43
	Test::WWW::Mechanize::PSGI::try {...} () called at /opt/perl-5.24.1/lib/site_perl/5.24.1/Try/Tiny.pm line 102
	eval {...} called at /opt/perl-5.24.1/lib/site_perl/5.24.1/Try/Tiny.pm line 93
	Try::Tiny::try(CODE(0x3a2aaa0), Try::Tiny::Catch=REF(0x3a23300)) called at /opt/perl-5.24.1/lib/site_perl/5.24.1/Test/WWW/Mechanize/PSGI.pm line 50
	Test::WWW::Mechanize::PSGI::simple_request(Test::WWW::Mechanize::PSGI=HASH(0x38c7878), HTTP::Request=HASH(0x3a2a938), undef, undef) called at /opt/perl-5.24.1/lib/site_perl/5.24.1/LWP/UserAgent.pm line 297
	LWP::UserAgent::request(Test::WWW::Mechanize::PSGI=HASH(0x38c7878), HTTP::Request=HASH(0x3a2a938)) called at /opt/perl-5.24.1/lib/site_perl/5.24.1/WWW/Mechanize.pm line 1413
	WWW::Mechanize::_make_request(Test::WWW::Mechanize::PSGI=HASH(0x38c7878), HTTP::Request=HASH(0x3a2a938)) called at /opt/perl-5.24.1/lib/site_perl/5.24.1/WWW/Mechanize.pm line 1253
	WWW::Mechanize::request(Test::WWW::Mechanize::PSGI=HASH(0x38c7878), HTTP::Request=HASH(0x3a2a938)) called at /opt/perl-5.24.1/lib/site_perl/5.24.1/LWP/UserAgent.pm line 478
	LWP::UserAgent::post(Test::WWW::Mechanize::PSGI=HASH(0x38c7878), "/wishlist?bar", HASH(0x35a9248)) called at /opt/perl-5.24.1/lib/site_perl/5.24.1/Test/WWW/Mechanize.pm line 237
	Test::WWW::Mechanize::post_ok(Test::WWW::Mechanize::PSGI=HASH(0x38c7878), "/wishlist?bar") called at t/03_mech.t line 81
Secret string too short at /home/cpansand/.cpan/build/2018012603/HTTP-Session2-1.10-6/blib/lib/HTTP/Session2/Base.pm line 79.
	HTTP::Session2::Base::__ANON__(HTTP::Session2::ServerStore=HASH(0x3a2b568), "s3cret") called at t/03_mech.t line 121
	main::server_session(HASH(0x3a2b0a0)) called at t/03_mech.t line 17
	main::__ANON__(HASH(0x3a2b0a0)) called at /opt/perl-5.24.1/lib/site_perl/5.24.1/Test/WWW/Mechanize/PSGI.pm line 43
	Test::WWW::Mechanize::PSGI::try {...} () called at /opt/perl-5.24.1/lib/site_perl/5.24.1/Try/Tiny.pm line 102
	eval {...} called at /opt/perl-5.24.1/lib/site_perl/5.24.1/Try/Tiny.pm line 93
	Try::Tiny::try(CODE(0x3a2ac80), Try::Tiny::Catch=REF(0x3a2af68)) called at /opt/perl-5.24.1/lib/site_perl/5.24.1/Test/WWW/Mechanize/PSGI.pm line 50
	Test::WWW::Mechanize::PSGI::simple_request(Test::WWW::Mechanize::PSGI=HASH(0x38c7878), HTTP::Request=HASH(0x3a2ac38), undef, undef) called at /opt/perl-5.24.1/lib/site_perl/5.24.1/LWP/UserAgent.pm line 297
	LWP::UserAgent::request(Test::WWW::Mechanize::PSGI=HASH(0x38c7878), HTTP::Request=HASH(0x3a2ac38)) called at /opt/perl-5.24.1/lib/site_perl/5.24.1/WWW/Mechanize.pm line 1413
	WWW::Mechanize::_make_request(Test::WWW::Mechanize::PSGI=HASH(0x38c7878), HTTP::Request=HASH(0x3a2ac38)) called at /opt/perl-5.24.1/lib/site_perl/5.24.1/WWW/Mechanize.pm line 1253
	WWW::Mechanize::request(Test::WWW::Mechanize::PSGI=HASH(0x38c7878), HTTP::Request=HASH(0x3a2ac38)) called at /opt/perl-5.24.1/lib/site_perl/5.24.1/LWP/UserAgent.pm line 435
	LWP::UserAgent::get(Test::WWW::Mechanize::PSGI=HASH(0x38c7878), "http://localhost/wishlist") called at /opt/perl-5.24.1/lib/site_perl/5.24.1/WWW/Mechanize.pm line 117
	WWW::Mechanize::get(Test::WWW::Mechanize::PSGI=HASH(0x38c7878), "/wishlist") called at /opt/perl-5.24.1/lib/site_perl/5.24.1/Test/WWW/Mechanize.pm line 160
	Test::WWW::Mechanize::get_ok(Test::WWW::Mechanize::PSGI=HASH(0x38c7878), "/wishlist") called at t/03_mech.t line 82
Secret string too short at /home/cpansand/.cpan/build/2018012603/HTTP-Session2-1.10-6/blib/lib/HTTP/Session2/Base.pm line 79.
	HTTP::Session2::Base::__ANON__(HTTP::Session2::ServerStore=HASH(0x3a2b790), "s3cret") called at t/03_mech.t line 121
	main::server_session(HASH(0x3a2b7d8)) called at t/03_mech.t line 17
	main::__ANON__(HASH(0x3a2b7d8)) called at /opt/perl-5.24.1/lib/site_perl/5.24.1/Test/WWW/Mechanize/PSGI.pm line 43
	Test::WWW::Mechanize::PSGI::try {...} () called at /opt/perl-5.24.1/lib/site_perl/5.24.1/Try/Tiny.pm line 102
	eval {...} called at /opt/perl-5.24.1/lib/site_perl/5.24.1/Try/Tiny.pm line 93
	Try::Tiny::try(CODE(0x3a2b388), Try::Tiny::Catch=REF(0x3a2b178)) called at /opt/perl-5.24.1/lib/site_perl/5.24.1/Test/WWW/Mechanize/PSGI.pm line 50
	Test::WWW::Mechanize::PSGI::simple_request(Test::WWW::Mechanize::PSGI=HASH(0x38c7878), HTTP::Request=HASH(0x3a2b1a8), undef, undef) called at /opt/perl-5.24.1/lib/site_perl/5.24.1/LWP/UserAgent.pm line 297
	LWP::UserAgent::request(Test::WWW::Mechanize::PSGI=HASH(0x38c7878), HTTP::Request=HASH(0x3a2b1a8)) called at /opt/perl-5.24.1/lib/site_perl/5.24.1/WWW/Mechanize.pm line 1413
	WWW::Mechanize::_make_request(Test::WWW::Mechanize::PSGI=HASH(0x38c7878), HTTP::Request=HASH(0x3a2b1a8)) called at /opt/perl-5.24.1/lib/site_perl/5.24.1/WWW/Mechanize.pm line 1253
	WWW::Mechanize::request(Test::WWW::Mechanize::PSGI=HASH(0x38c7878), HTTP::Request=HASH(0x3a2b1a8)) called at /opt/perl-5.24.1/lib/site_perl/5.24.1/LWP/UserAgent.pm line 478
	LWP::UserAgent::post(Test::WWW::Mechanize::PSGI=HASH(0x38c7878), "/account/login?john", HASH(0x35a9248)) called at /opt/perl-5.24.1/lib/site_perl/5.24.1/Test/WWW/Mechanize.pm line 237
	Test::WWW::Mechanize::post_ok(Test::WWW::Mechanize::PSGI=HASH(0x38c7878), "/account/login?john") called at t/03_mech.t line 84
Secret string too short at /home/cpansand/.cpan/build/2018012603/HTTP-Session2-1.10-6/blib/lib/HTTP/Session2/Base.pm line 79.
	HTTP::Session2::Base::__ANON__(HTTP::Session2::ServerStore=HASH(0x3a2de00), "s3cret") called at t/03_mech.t line 121
	main::server_session(HASH(0x3a2b790)) called at t/03_mech.t line 17
	main::__ANON__(HASH(0x3a2b790)) called at /opt/perl-5.24.1/lib/site_perl/5.24.1/Test/WWW/Mechanize/PSGI.pm line 43
	Test::WWW::Mechanize::PSGI::try {...} () called at /opt/perl-5.24.1/lib/site_perl/5.24.1/Try/Tiny.pm line 102
	eval {...} called at /opt/perl-5.24.1/lib/site_perl/5.24.1/Try/Tiny.pm line 93
	Try::Tiny::try(CODE(0x39056c0), Try::Tiny::Catch=REF(0x3a2b5c8)) called at /opt/perl-5.24.1/lib/site_perl/5.24.1/Test/WWW/Mechanize/PSGI.pm line 50
	Test::WWW::Mechanize::PSGI::simple_request(Test::WWW::Mechanize::PSGI=HASH(0x38c7878), HTTP::Request=HASH(0x3a2b628), undef, undef) called at /opt/perl-5.24.1/lib/site_perl/5.24.1/LWP/UserAgent.pm line 297
	LWP::UserAgent::request(Test::WWW::Mechanize::PSGI=HASH(0x38c7878), HTTP::Request=HASH(0x3a2b628)) called at /opt/perl-5.24.1/lib/site_perl/5.24.1/WWW/Mechanize.pm line 1413
	WWW::Mechanize::_make_request(Test::WWW::Mechanize::PSGI=HASH(0x38c7878), HTTP::Request=HASH(0x3a2b628)) called at /opt/perl-5.24.1/lib/site_perl/5.24.1/WWW/Mechanize.pm line 1253
	WWW::Mechanize::request(Test::WWW::Mechanize::PSGI=HASH(0x38c7878), HTTP::Request=HASH(0x3a2b628)) called at /opt/perl-5.24.1/lib/site_perl/5.24.1/LWP/UserAgent.pm line 435
	LWP::UserAgent::get(Test::WWW::Mechanize::PSGI=HASH(0x38c7878), "http://localhost/wishlist") called at /opt/perl-5.24.1/lib/site_perl/5.24.1/WWW/Mechanize.pm line 117
	WWW::Mechanize::get(Test::WWW::Mechanize::PSGI=HASH(0x38c7878), "/wishlist") called at /opt/perl-5.24.1/lib/site_perl/5.24.1/Test/WWW/Mechanize.pm line 160
	Test::WWW::Mechanize::get_ok(Test::WWW::Mechanize::PSGI=HASH(0x38c7878), "/wishlist", "Wishlist is still available") called at t/03_mech.t line 85
Secret string too short at /home/cpansand/.cpan/build/2018012603/HTTP-Session2-1.10-6/blib/lib/HTTP/Session2/Base.pm line 79.
	HTTP::Session2::Base::__ANON__(HTTP::Session2::ServerStore=HASH(0x3a2e970), "s3cret") called at t/03_mech.t line 121
	main::server_session(HASH(0x3a2e028)) called at t/03_mech.t line 17
	main::__ANON__(HASH(0x3a2e028)) called at /opt/perl-5.24.1/lib/site_perl/5.24.1/Test/WWW/Mechanize/PSGI.pm line 43
	Test::WWW::Mechanize::PSGI::try {...} () called at /opt/perl-5.24.1/lib/site_perl/5.24.1/Try/Tiny.pm line 102
	eval {...} called at /opt/perl-5.24.1/lib/site_perl/5.24.1/Try/Tiny.pm line 93
	Try::Tiny::try(CODE(0x3a2df68), Try::Tiny::Catch=REF(0x3a2b670)) called at /opt/perl-5.24.1/lib/site_perl/5.24.1/Test/WWW/Mechanize/PSGI.pm line 50
	Test::WWW::Mechanize::PSGI::simple_request(Test::WWW::Mechanize::PSGI=HASH(0x38c7878), HTTP::Request=HASH(0x3a23048), undef, undef) called at /opt/perl-5.24.1/lib/site_perl/5.24.1/LWP/UserAgent.pm line 297
	LWP::UserAgent::request(Test::WWW::Mechanize::PSGI=HASH(0x38c7878), HTTP::Request=HASH(0x3a23048)) called at /opt/perl-5.24.1/lib/site_perl/5.24.1/WWW/Mechanize.pm line 1413
	WWW::Mechanize::_make_request(Test::WWW::Mechanize::PSGI=HASH(0x38c7878), HTTP::Request=HASH(0x3a23048)) called at /opt/perl-5.24.1/lib/site_perl/5.24.1/WWW/Mechanize.pm line 1253
	WWW::Mechanize::request(Test::WWW::Mechanize::PSGI=HASH(0x38c7878), HTTP::Request=HASH(0x3a23048)) called at /opt/perl-5.24.1/lib/site_perl/5.24.1/LWP/UserAgent.pm line 478
	LWP::UserAgent::post(Test::WWW::Mechanize::PSGI=HASH(0x38c7878), "/wishlist?baz") called at t/03_mech.t line 87
Secret string too short at /home/cpansand/.cpan/build/2018012603/HTTP-Session2-1.10-6/blib/lib/HTTP/Session2/Base.pm line 79.
	HTTP::Session2::Base::__ANON__(HTTP::Session2::ServerStore=HASH(0x3a33508), "s3cret") called at t/03_mech.t line 121
	main::server_session(HASH(0x3a33610)) called at t/03_mech.t line 17
	main::__ANON__(HASH(0x3a33610)) called at /opt/perl-5.24.1/lib/site_perl/5.24.1/Test/WWW/Mechanize/PSGI.pm line 43
	Test::WWW::Mechanize::PSGI::try {...} () called at /opt/perl-5.24.1/lib/site_perl/5.24.1/Try/Tiny.pm line 102
	eval {...} called at /opt/perl-5.24.1/lib/site_perl/5.24.1/Try/Tiny.pm line 93
	Try::Tiny::try(CODE(0x3a2b178), Try::Tiny::Catch=REF(0x3a2def0)) called at /opt/perl-5.24.1/lib/site_perl/5.24.1/Test/WWW/Mechanize/PSGI.pm line 50
	Test::WWW::Mechanize::PSGI::simple_request(Test::WWW::Mechanize::PSGI=HASH(0x38c7878), HTTP::Request=HASH(0x3a23780), undef, undef) called at /opt/perl-5.24.1/lib/site_perl/5.24.1/LWP/UserAgent.pm line 297
	LWP::UserAgent::request(Test::WWW::Mechanize::PSGI=HASH(0x38c7878), HTTP::Request=HASH(0x3a23780)) called at /opt/perl-5.24.1/lib/site_perl/5.24.1/WWW/Mechanize.pm line 1413
	WWW::Mechanize::_make_request(Test::WWW::Mechanize::PSGI=HASH(0x38c7878), HTTP::Request=HASH(0x3a23780)) called at /opt/perl-5.24.1/lib/site_perl/5.24.1/WWW/Mechanize.pm line 1253
	WWW::Mechanize::request(Test::WWW::Mechanize::PSGI=HASH(0x38c7878), HTTP::Request=HASH(0x3a23780)) called at /opt/perl-5.24.1/lib/site_perl/5.24.1/LWP/UserAgent.pm line 478
	LWP::UserAgent::post(Test::WWW::Mechanize::PSGI=HASH(0x38c7878), "/wishlist?baz", HASH(0x35a9248)) called at /opt/perl-5.24.1/lib/site_perl/5.24.1/Test/WWW/Mechanize.pm line 237
	Test::WWW::Mechanize::post_ok(Test::WWW::Mechanize::PSGI=HASH(0x38c7878), "/wishlist?baz") called at t/03_mech.t line 90
Secret string too short at /home/cpansand/.cpan/build/2018012603/HTTP-Session2-1.10-6/blib/lib/HTTP/Session2/Base.pm line 79.
	HTTP::Session2::Base::__ANON__(HTTP::Session2::ServerStore=HASH(0x3a33b68), "s3cret") called at t/03_mech.t line 121
	main::server_session(HASH(0x3a33508)) called at t/03_mech.t line 17
	main::__ANON__(HASH(0x3a33508)) called at /opt/perl-5.24.1/lib/site_perl/5.24.1/Test/WWW/Mechanize/PSGI.pm line 43
	Test::WWW::Mechanize::PSGI::try {...} () called at /opt/perl-5.24.1/lib/site_perl/5.24.1/Try/Tiny.pm line 102
	eval {...} called at /opt/perl-5.24.1/lib/site_perl/5.24.1/Try/Tiny.pm line 93
	Try::Tiny::try(CODE(0x3a2e670), Try::Tiny::Catch=REF(0x3a33718)) called at /opt/perl-5.24.1/lib/site_perl/5.24.1/Test/WWW/Mechanize/PSGI.pm line 50
	Test::WWW::Mechanize::PSGI::simple_request(Test::WWW::Mechanize::PSGI=HASH(0x38c7878), HTTP::Request=HASH(0x3a2e7f0), undef, undef) called at /opt/perl-5.24.1/lib/site_perl/5.24.1/LWP/UserAgent.pm line 297
	LWP::UserAgent::request(Test::WWW::Mechanize::PSGI=HASH(0x38c7878), HTTP::Request=HASH(0x3a2e7f0)) called at /opt/perl-5.24.1/lib/site_perl/5.24.1/WWW/Mechanize.pm line 1413
	WWW::Mechanize::_make_request(Test::WWW::Mechanize::PSGI=HASH(0x38c7878), HTTP::Request=HASH(0x3a2e7f0)) called at /opt/perl-5.24.1/lib/site_perl/5.24.1/WWW/Mechanize.pm line 1253
	WWW::Mechanize::request(Test::WWW::Mechanize::PSGI=HASH(0x38c7878), HTTP::Request=HASH(0x3a2e7f0)) called at /opt/perl-5.24.1/lib/site_perl/5.24.1/LWP/UserAgent.pm line 435
	LWP::UserAgent::get(Test::WWW::Mechanize::PSGI=HASH(0x38c7878), "http://localhost/wishlist") called at /opt/perl-5.24.1/lib/site_perl/5.24.1/WWW/Mechanize.pm line 117
	WWW::Mechanize::get(Test::WWW::Mechanize::PSGI=HASH(0x38c7878), "/wishlist") called at /opt/perl-5.24.1/lib/site_perl/5.24.1/Test/WWW/Mechanize.pm line 160
	Test::WWW::Mechanize::get_ok(Test::WWW::Mechanize::PSGI=HASH(0x38c7878), "/wishlist", "Wishlist is still available") called at t/03_mech.t line 91
Secret string too short at /home/cpansand/.cpan/build/2018012603/HTTP-Session2-1.10-6/blib/lib/HTTP/Session2/Base.pm line 79.
	HTTP::Session2::Base::__ANON__(HTTP::Session2::ServerStore=HASH(0x3a340f0), "s3cret") called at t/03_mech.t line 121
	main::server_session(HASH(0x3a33b68)) called at t/03_mech.t line 17
	main::__ANON__(HASH(0x3a33b68)) called at /opt/perl-5.24.1/lib/site_perl/5.24.1/Test/WWW/Mechanize/PSGI.pm line 43
	Test::WWW::Mechanize::PSGI::try {...} () called at /opt/perl-5.24.1/lib/site_perl/5.24.1/Try/Tiny.pm line 102
	eval {...} called at /opt/perl-5.24.1/lib/site_perl/5.24.1/Try/Tiny.pm line 93
	Try::Tiny::try(CODE(0x3a2e2b0), Try::Tiny::Catch=REF(0x3a334c0)) called at /opt/perl-5.24.1/lib/site_perl/5.24.1/Test/WWW/Mechanize/PSGI.pm line 50
	Test::WWW::Mechanize::PSGI::simple_request(Test::WWW::Mechanize::PSGI=HASH(0x38c7878), HTTP::Request=HASH(0x3a33820), undef, undef) called at /opt/perl-5.24.1/lib/site_perl/5.24.1/LWP/UserAgent.pm line 297
	LWP::UserAgent::request(Test::WWW::Mechanize::PSGI=HASH(0x38c7878), HTTP::Request=HASH(0x3a33820)) called at /opt/perl-5.24.1/lib/site_perl/5.24.1/WWW/Mechanize.pm line 1413
	WWW::Mechanize::_make_request(Test::WWW::Mechanize::PSGI=HASH(0x38c7878), HTTP::Request=HASH(0x3a33820)) called at /opt/perl-5.24.1/lib/site_perl/5.24.1/WWW/Mechanize.pm line 1253
	WWW::Mechanize::request(Test::WWW::Mechanize::PSGI=HASH(0x38c7878), HTTP::Request=HASH(0x3a33820)) called at /opt/perl-5.24.1/lib/site_perl/5.24.1/LWP/UserAgent.pm line 435
	LWP::UserAgent::get(Test::WWW::Mechanize::PSGI=HASH(0x38c7878), "http://localhost/my/name") called at /opt/perl-5.24.1/lib/site_perl/5.24.1/WWW/Mechanize.pm line 117
	WWW::Mechanize::get(Test::WWW::Mechanize::PSGI=HASH(0x38c7878), "/my/name") called at /opt/perl-5.24.1/lib/site_perl/5.24.1/Test/WWW/Mechanize.pm line 160
	Test::WWW::Mechanize::get_ok(Test::WWW::Mechanize::PSGI=HASH(0x38c7878), "/my/name") called at t/03_mech.t line 93
Secret string too short at /home/cpansand/.cpan/build/2018012603/HTTP-Session2-1.10-6/blib/lib/HTTP/Session2/Base.pm line 79.
	HTTP::Session2::Base::__ANON__(HTTP::Session2::ServerStore=HASH(0x3a36148), "s3cret") called at t/03_mech.t line 121
	main::server_session(HASH(0x3a341e0)) called at t/03_mech.t line 17
	main::__ANON__(HASH(0x3a341e0)) called at /opt/perl-5.24.1/lib/site_perl/5.24.1/Test/WWW/Mechanize/PSGI.pm line 43
	Test::WWW::Mechanize::PSGI::try {...} () called at /opt/perl-5.24.1/lib/site_perl/5.24.1/Try/Tiny.pm line 102
	eval {...} called at /opt/perl-5.24.1/lib/site_perl/5.24.1/Try/Tiny.pm line 93
	Try::Tiny::try(CODE(0x3a342a0), Try::Tiny::Catch=REF(0x3a33e80)) called at /opt/perl-5.24.1/lib/site_perl/5.24.1/Test/WWW/Mechanize/PSGI.pm line 50
	Test::WWW::Mechanize::PSGI::simple_request(Test::WWW::Mechanize::PSGI=HASH(0x38c7878), HTTP::Request=HASH(0x3a33898), undef, undef) called at /opt/perl-5.24.1/lib/site_perl/5.24.1/LWP/UserAgent.pm line 297
	LWP::UserAgent::request(Test::WWW::Mechanize::PSGI=HASH(0x38c7878), HTTP::Request=HASH(0x3a33898)) called at /opt/perl-5.24.1/lib/site_perl/5.24.1/WWW/Mechanize.pm line 1413
	WWW::Mechanize::_make_request(Test::WWW::Mechanize::PSGI=HASH(0x38c7878), HTTP::Request=HASH(0x3a33898)) called at /opt/perl-5.24.1/lib/site_perl/5.24.1/WWW/Mechanize.pm line 1253
	WWW::Mechanize::request(Test::WWW::Mechanize::PSGI=HASH(0x38c7878), HTTP::Request=HASH(0x3a33898)) called at /opt/perl-5.24.1/lib/site_perl/5.24.1/LWP/UserAgent.pm line 478
	LWP::UserAgent::post(Test::WWW::Mechanize::PSGI=HASH(0x38c7878), "/account/logout?john") called at t/03_mech.t line 97
Secret string too short at /home/cpansand/.cpan/build/2018012603/HTTP-Session2-1.10-6/blib/lib/HTTP/Session2/Base.pm line 79.
	HTTP::Session2::Base::__ANON__(HTTP::Session2::ClientStore=HASH(0x3a2a890), "s3cret") called at t/03_mech.t line 127
	main::client_session(HASH(0x3a2b778)) called at t/03_mech.t line 17
	main::__ANON__(HASH(0x3a2b778)) called at /opt/perl-5.24.1/lib/site_perl/5.24.1/Test/WWW/Mechanize/PSGI.pm line 43
	Test::WWW::Mechanize::PSGI::try {...} () called at /opt/perl-5.24.1/lib/site_perl/5.24.1/Try/Tiny.pm line 102
	eval {...} called at /opt/perl-5.24.1/lib/site_perl/5.24.1/Try/Tiny.pm line 93
	Try::Tiny::try(CODE(0x3a22c28), Try::Tiny::Catch=REF(0x3a36130)) called at /opt/perl-5.24.1/lib/site_perl/5.24.1/Test/WWW/Mechanize/PSGI.pm line 50
	Test::WWW::Mechanize::PSGI::simple_request(Test::WWW::Mechanize::PSGI=HASH(0x3954f60), HTTP::Request=HASH(0x3a361d8), undef, undef) called at /opt/perl-5.24.1/lib/site_perl/5.24.1/LWP/UserAgent.pm line 297
	LWP::UserAgent::request(Test::WWW::Mechanize::PSGI=HASH(0x3954f60), HTTP::Request=HASH(0x3a361d8)) called at /opt/perl-5.24.1/lib/site_perl/5.24.1/WWW/Mechanize.pm line 1413
	WWW::Mechanize::_make_request(Test::WWW::Mechanize::PSGI=HASH(0x3954f60), HTTP::Request=HASH(0x3a361d8)) called at /opt/perl-5.24.1/lib/site_perl/5.24.1/WWW/Mechanize.pm line 1253
	WWW::Mechanize::request(Test::WWW::Mechanize::PSGI=HASH(0x3954f60), HTTP::Request=HASH(0x3a361d8)) called at /opt/perl-5.24.1/lib/site_perl/5.24.1/LWP/UserAgent.pm line 435
	LWP::UserAgent::get(Test::WWW::Mechanize::PSGI=HASH(0x3954f60), "/") called at /opt/perl-5.24.1/lib/site_perl/5.24.1/WWW/Mechanize.pm line 117
	WWW::Mechanize::get(Test::WWW::Mechanize::PSGI=HASH(0x3954f60), "/") called at /opt/perl-5.24.1/lib/site_perl/5.24.1/Test/WWW/Mechanize.pm line 160
	Test::WWW::Mechanize::get_ok(Test::WWW::Mechanize::PSGI=HASH(0x3954f60), "/") called at t/03_mech.t line 74
Secret string too short at /home/cpansand/.cpan/build/2018012603/HTTP-Session2-1.10-6/blib/lib/HTTP/Session2/Base.pm line 79.
	HTTP::Session2::Base::__ANON__(HTTP::Session2::ClientStore=HASH(0x3a2b550), "s3cret") called at t/03_mech.t line 127
	main::client_session(HASH(0x3a22c88)) called at t/03_mech.t line 17
	main::__ANON__(HASH(0x3a22c88)) called at /opt/perl-5.24.1/lib/site_perl/5.24.1/Test/WWW/Mechanize/PSGI.pm line 43
	Test::WWW::Mechanize::PSGI::try {...} () called at /opt/perl-5.24.1/lib/site_perl/5.24.1/Try/Tiny.pm line 102
	eval {...} called at /opt/perl-5.24.1/lib/site_perl/5.24.1/Try/Tiny.pm line 93
	Try::Tiny::try(CODE(0x3a239f0), Try::Tiny::Catch=REF(0x3965bd8)) called at /opt/perl-5.24.1/lib/site_perl/5.24.1/Test/WWW/Mechanize/PSGI.pm line 50
	Test::WWW::Mechanize::PSGI::simple_request(Test::WWW::Mechanize::PSGI=HASH(0x3954f60), HTTP::Request=HASH(0x3a23ab0), undef, undef) called at /opt/perl-5.24.1/lib/site_perl/5.24.1/LWP/UserAgent.pm line 297
	LWP::UserAgent::request(Test::WWW::Mechanize::PSGI=HASH(0x3954f60), HTTP::Request=HASH(0x3a23ab0)) called at /opt/perl-5.24.1/lib/site_perl/5.24.1/WWW/Mechanize.pm line 1413
	WWW::Mechanize::_make_request(Test::WWW::Mechanize::PSGI=HASH(0x3954f60), HTTP::Request=HASH(0x3a23ab0)) called at /opt/perl-5.24.1/lib/site_perl/5.24.1/WWW/Mechanize.pm line 1253
	WWW::Mechanize::request(Test::WWW::Mechanize::PSGI=HASH(0x3954f60), HTTP::Request=HASH(0x3a23ab0)) called at /opt/perl-5.24.1/lib/site_perl/5.24.1/LWP/UserAgent.pm line 478
	LWP::UserAgent::post(Test::WWW::Mechanize::PSGI=HASH(0x3954f60), "/wishlist?foo", HASH(0x35a9248)) called at /opt/perl-5.24.1/lib/site_perl/5.24.1/Test/WWW/Mechanize.pm line 237
	Test::WWW::Mechanize::post_ok(Test::WWW::Mechanize::PSGI=HASH(0x3954f60), "/wishlist?foo") called at t/03_mech.t line 75
Do not use HTTP::Session2::ClientStore. Use HTTP::Session2::ServerStore or HTTP::Session2::ClientStore2 instead. at /home/cpansand/.cpan/build/2018012603/HTTP-Session2-1.10-6/blib/lib/HTTP/Session2/ClientStore.pm line 25.
Secret string too short at /home/cpansand/.cpan/build/2018012603/HTTP-Session2-1.10-6/blib/lib/HTTP/Session2/Base.pm line 79.
	HTTP::Session2::Base::__ANON__(HTTP::Session2::ClientStore=HASH(0x3a2b2e0), "s3cret") called at t/03_mech.t line 127
	main::client_session(HASH(0x3a2b550)) called at t/03_mech.t line 17
	main::__ANON__(HASH(0x3a2b550)) called at /opt/perl-5.24.1/lib/site_perl/5.24.1/Test/WWW/Mechanize/PSGI.pm line 43
	Test::WWW::Mechanize::PSGI::try {...} () called at /opt/perl-5.24.1/lib/site_perl/5.24.1/Try/Tiny.pm line 102
	eval {...} called at /opt/perl-5.24.1/lib/site_perl/5.24.1/Try/Tiny.pm line 93
	Try::Tiny::try(CODE(0x3a2b658), Try::Tiny::Catch=REF(0x3a2ade8)) called at /opt/perl-5.24.1/lib/site_perl/5.24.1/Test/WWW/Mechanize/PSGI.pm line 50
	Test::WWW::Mechanize::PSGI::simple_request(Test::WWW::Mechanize::PSGI=HASH(0x3954f60), HTTP::Request=HASH(0x39fb418), undef, undef) called at /opt/perl-5.24.1/lib/site_perl/5.24.1/LWP/UserAgent.pm line 297
	LWP::UserAgent::request(Test::WWW::Mechanize::PSGI=HASH(0x3954f60), HTTP::Request=HASH(0x39fb418)) called at /opt/perl-5.24.1/lib/site_perl/5.24.1/WWW/Mechanize.pm line 1413
	WWW::Mechanize::_make_request(Test::WWW::Mechanize::PSGI=HASH(0x3954f60), HTTP::Request=HASH(0x39fb418)) called at /opt/perl-5.24.1/lib/site_perl/5.24.1/WWW/Mechanize.pm line 1253
	WWW::Mechanize::request(Test::WWW::Mechanize::PSGI=HASH(0x3954f60), HTTP::Request=HASH(0x39fb418)) called at /opt/perl-5.24.1/lib/site_perl/5.24.1/LWP/UserAgent.pm line 435
	LWP::UserAgent::get(Test::WWW::Mechanize::PSGI=HASH(0x3954f60), "http://localhost/wishlist") called at /opt/perl-5.24.1/lib/site_perl/5.24.1/WWW/Mechanize.pm line 117
	WWW::Mechanize::get(Test::WWW::Mechanize::PSGI=HASH(0x3954f60), "/wishlist") called at /opt/perl-5.24.1/lib/site_perl/5.24.1/Test/WWW/Mechanize.pm line 160
	Test::WWW::Mechanize::get_ok(Test::WWW::Mechanize::PSGI=HASH(0x3954f60), "/wishlist") called at t/03_mech.t line 76
Do not use HTTP::Session2::ClientStore. Use HTTP::Session2::ServerStore or HTTP::Session2::ClientStore2 instead. at /home/cpansand/.cpan/build/2018012603/HTTP-Session2-1.10-6/blib/lib/HTTP/Session2/ClientStore.pm line 35.
Secret string too short at /home/cpansand/.cpan/build/2018012603/HTTP-Session2-1.10-6/blib/lib/HTTP/Session2/Base.pm line 79.
	HTTP::Session2::Base::__ANON__(HTTP::Session2::ClientStore=HASH(0x3a2b2c8), "s3cret") called at t/03_mech.t line 127
	main::client_session(HASH(0x3a2b7a8)) called at t/03_mech.t line 17
	main::__ANON__(HASH(0x3a2b7a8)) called at /opt/perl-5.24.1/lib/site_perl/5.24.1/Test/WWW/Mechanize/PSGI.pm line 43
	Test::WWW::Mechanize::PSGI::try {...} () called at /opt/perl-5.24.1/lib/site_perl/5.24.1/Try/Tiny.pm line 102
	eval {...} called at /opt/perl-5.24.1/lib/site_perl/5.24.1/Try/Tiny.pm line 93
	Try::Tiny::try(CODE(0x3a2abf0), Try::Tiny::Catch=REF(0x3a2e220)) called at /opt/perl-5.24.1/lib/site_perl/5.24.1/Test/WWW/Mechanize/PSGI.pm line 50
	Test::WWW::Mechanize::PSGI::simple_request(Test::WWW::Mechanize::PSGI=HASH(0x3954f60), HTTP::Request=HASH(0x3a2dc50), undef, undef) called at /opt/perl-5.24.1/lib/site_perl/5.24.1/LWP/UserAgent.pm line 297
	LWP::UserAgent::request(Test::WWW::Mechanize::PSGI=HASH(0x3954f60), HTTP::Request=HASH(0x3a2dc50)) called at /opt/perl-5.24.1/lib/site_perl/5.24.1/WWW/Mechanize.pm line 1413
	WWW::Mechanize::_make_request(Test::WWW::Mechanize::PSGI=HASH(0x3954f60), HTTP::Request=HASH(0x3a2dc50)) called at /opt/perl-5.24.1/lib/site_perl/5.24.1/WWW/Mechanize.pm line 1253
	WWW::Mechanize::request(Test::WWW::Mechanize::PSGI=HASH(0x3954f60), HTTP::Request=HASH(0x3a2dc50)) called at /opt/perl-5.24.1/lib/site_perl/5.24.1/LWP/UserAgent.pm line 478
	LWP::UserAgent::post(Test::WWW::Mechanize::PSGI=HASH(0x3954f60), "/wishlist?bar") called at t/03_mech.t line 78
Do not use HTTP::Session2::ClientStore. Use HTTP::Session2::ServerStore or HTTP::Session2::ClientStore2 instead. at /home/cpansand/.cpan/build/2018012603/HTTP-Session2-1.10-6/blib/lib/HTTP/Session2/ClientStore.pm line 35.
Secret string too short at /home/cpansand/.cpan/build/2018012603/HTTP-Session2-1.10-6/blib/lib/HTTP/Session2/Base.pm line 79.
	HTTP::Session2::Base::__ANON__(HTTP::Session2::ClientStore=HASH(0x3a2ea18), "s3cret") called at t/03_mech.t line 127
	main::client_session(HASH(0x3a2e940)) called at t/03_mech.t line 17
	main::__ANON__(HASH(0x3a2e940)) called at /opt/perl-5.24.1/lib/site_perl/5.24.1/Test/WWW/Mechanize/PSGI.pm line 43
	Test::WWW::Mechanize::PSGI::try {...} () called at /opt/perl-5.24.1/lib/site_perl/5.24.1/Try/Tiny.pm line 102
	eval {...} called at /opt/perl-5.24.1/lib/site_perl/5.24.1/Try/Tiny.pm line 93
	Try::Tiny::try(CODE(0x3a33670), Try::Tiny::Catch=REF(0x3a2e6a0)) called at /opt/perl-5.24.1/lib/site_perl/5.24.1/Test/WWW/Mechanize/PSGI.pm line 50
	Test::WWW::Mechanize::PSGI::simple_request(Test::WWW::Mechanize::PSGI=HASH(0x3954f60), HTTP::Request=HASH(0x3a2b1a8), undef, undef) called at /opt/perl-5.24.1/lib/site_perl/5.24.1/LWP/UserAgent.pm line 297
	LWP::UserAgent::request(Test::WWW::Mechanize::PSGI=HASH(0x3954f60), HTTP::Request=HASH(0x3a2b1a8)) called at /opt/perl-5.24.1/lib/site_perl/5.24.1/WWW/Mechanize.pm line 1413
	WWW::Mechanize::_make_request(Test::WWW::Mechanize::PSGI=HASH(0x3954f60), HTTP::Request=HASH(0x3a2b1a8)) called at /opt/perl-5.24.1/lib/site_perl/5.24.1/WWW/Mechanize.pm line 1253
	WWW::Mechanize::request(Test::WWW::Mechanize::PSGI=HASH(0x3954f60), HTTP::Request=HASH(0x3a2b1a8)) called at /opt/perl-5.24.1/lib/site_perl/5.24.1/LWP/UserAgent.pm line 478
	LWP::UserAgent::post(Test::WWW::Mechanize::PSGI=HASH(0x3954f60), "/wishlist?bar", HASH(0x35a9248)) called at /opt/perl-5.24.1/lib/site_perl/5.24.1/Test/WWW/Mechanize.pm line 237
	Test::WWW::Mechanize::post_ok(Test::WWW::Mechanize::PSGI=HASH(0x3954f60), "/wishlist?bar") called at t/03_mech.t line 81
Do not use HTTP::Session2::ClientStore. Use HTTP::Session2::ServerStore or HTTP::Session2::ClientStore2 instead. at /home/cpansand/.cpan/build/2018012603/HTTP-Session2-1.10-6/blib/lib/HTTP/Session2/ClientStore.pm line 35.
Do not use HTTP::Session2::ClientStore. Use HTTP::Session2::ServerStore or HTTP::Session2::ClientStore2 instead. at /home/cpansand/.cpan/build/2018012603/HTTP-Session2-1.10-6/blib/lib/HTTP/Session2/ClientStore.pm line 25.
Secret string too short at /home/cpansand/.cpan/build/2018012603/HTTP-Session2-1.10-6/blib/lib/HTTP/Session2/Base.pm line 79.
	HTTP::Session2::Base::__ANON__(HTTP::Session2::ClientStore=HASH(0x3a33880), "s3cret") called at t/03_mech.t line 127
	main::client_session(HASH(0x3a2e7c0)) called at t/03_mech.t line 17
	main::__ANON__(HASH(0x3a2e7c0)) called at /opt/perl-5.24.1/lib/site_perl/5.24.1/Test/WWW/Mechanize/PSGI.pm line 43
	Test::WWW::Mechanize::PSGI::try {...} () called at /opt/perl-5.24.1/lib/site_perl/5.24.1/Try/Tiny.pm line 102
	eval {...} called at /opt/perl-5.24.1/lib/site_perl/5.24.1/Try/Tiny.pm line 93
	Try::Tiny::try(CODE(0x3a2b0b8), Try::Tiny::Catch=REF(0x3a2b208)) called at /opt/perl-5.24.1/lib/site_perl/5.24.1/Test/WWW/Mechanize/PSGI.pm line 50
	Test::WWW::Mechanize::PSGI::simple_request(Test::WWW::Mechanize::PSGI=HASH(0x3954f60), HTTP::Request=HASH(0x3a2e298), undef, undef) called at /opt/perl-5.24.1/lib/site_perl/5.24.1/LWP/UserAgent.pm line 297
	LWP::UserAgent::request(Test::WWW::Mechanize::PSGI=HASH(0x3954f60), HTTP::Request=HASH(0x3a2e298)) called at /opt/perl-5.24.1/lib/site_perl/5.24.1/WWW/Mechanize.pm line 1413
	WWW::Mechanize::_make_request(Test::WWW::Mechanize::PSGI=HASH(0x3954f60), HTTP::Request=HASH(0x3a2e298)) called at /opt/perl-5.24.1/lib/site_perl/5.24.1/WWW/Mechanize.pm line 1253
	WWW::Mechanize::request(Test::WWW::Mechanize::PSGI=HASH(0x3954f60), HTTP::Request=HASH(0x3a2e298)) called at /opt/perl-5.24.1/lib/site_perl/5.24.1/LWP/UserAgent.pm line 435
	LWP::UserAgent::get(Test::WWW::Mechanize::PSGI=HASH(0x3954f60), "http://localhost/wishlist") called at /opt/perl-5.24.1/lib/site_perl/5.24.1/WWW/Mechanize.pm line 117
	WWW::Mechanize::get(Test::WWW::Mechanize::PSGI=HASH(0x3954f60), "/wishlist") called at /opt/perl-5.24.1/lib/site_perl/5.24.1/Test/WWW/Mechanize.pm line 160
	Test::WWW::Mechanize::get_ok(Test::WWW::Mechanize::PSGI=HASH(0x3954f60), "/wishlist") called at t/03_mech.t line 82
Do not use HTTP::Session2::ClientStore. Use HTTP::Session2::ServerStore or HTTP::Session2::ClientStore2 instead. at /home/cpansand/.cpan/build/2018012603/HTTP-Session2-1.10-6/blib/lib/HTTP/Session2/ClientStore.pm line 35.
Secret string too short at /home/cpansand/.cpan/build/2018012603/HTTP-Session2-1.10-6/blib/lib/HTTP/Session2/Base.pm line 79.
	HTTP::Session2::Base::__ANON__(HTTP::Session2::ClientStore=HASH(0x3965500), "s3cret") called at t/03_mech.t line 127
	main::client_session(HASH(0x3a2eaa8)) called at t/03_mech.t line 17
	main::__ANON__(HASH(0x3a2eaa8)) called at /opt/perl-5.24.1/lib/site_perl/5.24.1/Test/WWW/Mechanize/PSGI.pm line 43
	Test::WWW::Mechanize::PSGI::try {...} () called at /opt/perl-5.24.1/lib/site_perl/5.24.1/Try/Tiny.pm line 102
	eval {...} called at /opt/perl-5.24.1/lib/site_perl/5.24.1/Try/Tiny.pm line 93
	Try::Tiny::try(CODE(0x39f2970), Try::Tiny::Catch=REF(0x3a2eb68)) called at /opt/perl-5.24.1/lib/site_perl/5.24.1/Test/WWW/Mechanize/PSGI.pm line 50
	Test::WWW::Mechanize::PSGI::simple_request(Test::WWW::Mechanize::PSGI=HASH(0x3954f60), HTTP::Request=HASH(0x3a23600), undef, undef) called at /opt/perl-5.24.1/lib/site_perl/5.24.1/LWP/UserAgent.pm line 297
	LWP::UserAgent::request(Test::WWW::Mechanize::PSGI=HASH(0x3954f60), HTTP::Request=HASH(0x3a23600)) called at /opt/perl-5.24.1/lib/site_perl/5.24.1/WWW/Mechanize.pm line 1413
	WWW::Mechanize::_make_request(Test::WWW::Mechanize::PSGI=HASH(0x3954f60), HTTP::Request=HASH(0x3a23600)) called at /opt/perl-5.24.1/lib/site_perl/5.24.1/WWW/Mechanize.pm line 1253
	WWW::Mechanize::request(Test::WWW::Mechanize::PSGI=HASH(0x3954f60), HTTP::Request=HASH(0x3a23600)) called at /opt/perl-5.24.1/lib/site_perl/5.24.1/LWP/UserAgent.pm line 478
	LWP::UserAgent::post(Test::WWW::Mechanize::PSGI=HASH(0x3954f60), "/account/login?john", HASH(0x35a9248)) called at /opt/perl-5.24.1/lib/site_perl/5.24.1/Test/WWW/Mechanize.pm line 237
	Test::WWW::Mechanize::post_ok(Test::WWW::Mechanize::PSGI=HASH(0x3954f60), "/account/login?john") called at t/03_mech.t line 84
Do not use HTTP::Session2::ClientStore. Use HTTP::Session2::ServerStore or HTTP::Session2::ClientStore2 instead. at /home/cpansand/.cpan/build/2018012603/HTTP-Session2-1.10-6/blib/lib/HTTP/Session2/ClientStore.pm line 35.
Do not use HTTP::Session2::ClientStore. Use HTTP::Session2::ServerStore or HTTP::Session2::ClientStore2 instead. at /home/cpansand/.cpan/build/2018012603/HTTP-Session2-1.10-6/blib/lib/HTTP/Session2/ClientStore.pm line 35.
Do not use HTTP::Session2::ClientStore. Use HTTP::Session2::ServerStore or HTTP::Session2::ClientStore2 instead. at /home/cpansand/.cpan/build/2018012603/HTTP-Session2-1.10-6/blib/lib/HTTP/Session2/ClientStore.pm line 25.
Secret string too short at /home/cpansand/.cpan/build/2018012603/HTTP-Session2-1.10-6/blib/lib/HTTP/Session2/Base.pm line 79.
	HTTP::Session2::Base::__ANON__(HTTP::Session2::ClientStore=HASH(0x38c7bf0), "s3cret") called at t/03_mech.t line 127
	main::client_session(HASH(0x39652a8)) called at t/03_mech.t line 17
	main::__ANON__(HASH(0x39652a8)) called at /opt/perl-5.24.1/lib/site_perl/5.24.1/Test/WWW/Mechanize/PSGI.pm line 43
	Test::WWW::Mechanize::PSGI::try {...} () called at /opt/perl-5.24.1/lib/site_perl/5.24.1/Try/Tiny.pm line 102
	eval {...} called at /opt/perl-5.24.1/lib/site_perl/5.24.1/Try/Tiny.pm line 93
	Try::Tiny::try(CODE(0x3a33538), Try::Tiny::Catch=REF(0x3a34108)) called at /opt/perl-5.24.1/lib/site_perl/5.24.1/Test/WWW/Mechanize/PSGI.pm line 50
	Test::WWW::Mechanize::PSGI::simple_request(Test::WWW::Mechanize::PSGI=HASH(0x3954f60), HTTP::Request=HASH(0x3a36790), undef, undef) called at /opt/perl-5.24.1/lib/site_perl/5.24.1/LWP/UserAgent.pm line 297
	LWP::UserAgent::request(Test::WWW::Mechanize::PSGI=HASH(0x3954f60), HTTP::Request=HASH(0x3a36790)) called at /opt/perl-5.24.1/lib/site_perl/5.24.1/WWW/Mechanize.pm line 1413
	WWW::Mechanize::_make_request(Test::WWW::Mechanize::PSGI=HASH(0x3954f60), HTTP::Request=HASH(0x3a36790)) called at /opt/perl-5.24.1/lib/site_perl/5.24.1/WWW/Mechanize.pm line 1253
	WWW::Mechanize::request(Test::WWW::Mechanize::PSGI=HASH(0x3954f60), HTTP::Request=HASH(0x3a36790)) called at /opt/perl-5.24.1/lib/site_perl/5.24.1/LWP/UserAgent.pm line 435
	LWP::UserAgent::get(Test::WWW::Mechanize::PSGI=HASH(0x3954f60), "http://localhost/wishlist") called at /opt/perl-5.24.1/lib/site_perl/5.24.1/WWW/Mechanize.pm line 117
	WWW::Mechanize::get(Test::WWW::Mechanize::PSGI=HASH(0x3954f60), "/wishlist") called at /opt/perl-5.24.1/lib/site_perl/5.24.1/Test/WWW/Mechanize.pm line 160
	Test::WWW::Mechanize::get_ok(Test::WWW::Mechanize::PSGI=HASH(0x3954f60), "/wishlist", "Wishlist is still available") called at t/03_mech.t line 85
Do not use HTTP::Session2::ClientStore. Use HTTP::Session2::ServerStore or HTTP::Session2::ClientStore2 instead. at /home/cpansand/.cpan/build/2018012603/HTTP-Session2-1.10-6/blib/lib/HTTP/Session2/ClientStore.pm line 35.
Secret string too short at /home/cpansand/.cpan/build/2018012603/HTTP-Session2-1.10-6/blib/lib/HTTP/Session2/Base.pm line 79.
	HTTP::Session2::Base::__ANON__(HTTP::Session2::ClientStore=HASH(0x3a364c0), "s3cret") called at t/03_mech.t line 127
	main::client_session(HASH(0x3a33f28)) called at t/03_mech.t line 17
	main::__ANON__(HASH(0x3a33f28)) called at /opt/perl-5.24.1/lib/site_perl/5.24.1/Test/WWW/Mechanize/PSGI.pm line 43
	Test::WWW::Mechanize::PSGI::try {...} () called at /opt/perl-5.24.1/lib/site_perl/5.24.1/Try/Tiny.pm line 102
	eval {...} called at /opt/perl-5.24.1/lib/site_perl/5.24.1/Try/Tiny.pm line 93
	Try::Tiny::try(CODE(0x3a34288), Try::Tiny::Catch=REF(0x38c7710)) called at /opt/perl-5.24.1/lib/site_perl/5.24.1/Test/WWW/Mechanize/PSGI.pm line 50
	Test::WWW::Mechanize::PSGI::simple_request(Test::WWW::Mechanize::PSGI=HASH(0x3954f60), HTTP::Request=HASH(0x3a2e7f0), undef, undef) called at /opt/perl-5.24.1/lib/site_perl/5.24.1/LWP/UserAgent.pm line 297
	LWP::UserAgent::request(Test::WWW::Mechanize::PSGI=HASH(0x3954f60), HTTP::Request=HASH(0x3a2e7f0)) called at /opt/perl-5.24.1/lib/site_perl/5.24.1/WWW/Mechanize.pm line 1413
	WWW::Mechanize::_make_request(Test::WWW::Mechanize::PSGI=HASH(0x3954f60), HTTP::Request=HASH(0x3a2e7f0)) called at /opt/perl-5.24.1/lib/site_perl/5.24.1/WWW/Mechanize.pm line 1253
	WWW::Mechanize::request(Test::WWW::Mechanize::PSGI=HASH(0x3954f60), HTTP::Request=HASH(0x3a2e7f0)) called at /opt/perl-5.24.1/lib/site_perl/5.24.1/LWP/UserAgent.pm line 478
	LWP::UserAgent::post(Test::WWW::Mechanize::PSGI=HASH(0x3954f60), "/wishlist?baz") called at t/03_mech.t line 87
Do not use HTTP::Session2::ClientStore. Use HTTP::Session2::ServerStore or HTTP::Session2::ClientStore2 instead. at /home/cpansand/.cpan/build/2018012603/HTTP-Session2-1.10-6/blib/lib/HTTP/Session2/ClientStore.pm line 35.
Secret string too short at /home/cpansand/.cpan/build/2018012603/HTTP-Session2-1.10-6/blib/lib/HTTP/Session2/Base.pm line 79.
	HTTP::Session2::Base::__ANON__(HTTP::Session2::ClientStore=HASH(0x3a36dc0), "s3cret") called at t/03_mech.t line 127
	main::client_session(HASH(0x3a36d60)) called at t/03_mech.t line 17
	main::__ANON__(HASH(0x3a36d60)) called at /opt/perl-5.24.1/lib/site_perl/5.24.1/Test/WWW/Mechanize/PSGI.pm line 43
	Test::WWW::Mechanize::PSGI::try {...} () called at /opt/perl-5.24.1/lib/site_perl/5.24.1/Try/Tiny.pm line 102
	eval {...} called at /opt/perl-5.24.1/lib/site_perl/5.24.1/Try/Tiny.pm line 93
	Try::Tiny::try(CODE(0x38c7d40), Try::Tiny::Catch=REF(0x38c7bc0)) called at /opt/perl-5.24.1/lib/site_perl/5.24.1/Test/WWW/Mechanize/PSGI.pm line 50
	Test::WWW::Mechanize::PSGI::simple_request(Test::WWW::Mechanize::PSGI=HASH(0x3954f60), HTTP::Request=HASH(0x3a34150), undef, undef) called at /opt/perl-5.24.1/lib/site_perl/5.24.1/LWP/UserAgent.pm line 297
	LWP::UserAgent::request(Test::WWW::Mechanize::PSGI=HASH(0x3954f60), HTTP::Request=HASH(0x3a34150)) called at /opt/perl-5.24.1/lib/site_perl/5.24.1/WWW/Mechanize.pm line 1413
	WWW::Mechanize::_make_request(Test::WWW::Mechanize::PSGI=HASH(0x3954f60), HTTP::Request=HASH(0x3a34150)) called at /opt/perl-5.24.1/lib/site_perl/5.24.1/WWW/Mechanize.pm line 1253
	WWW::Mechanize::request(Test::WWW::Mechanize::PSGI=HASH(0x3954f60), HTTP::Request=HASH(0x3a34150)) called at /opt/perl-5.24.1/lib/site_perl/5.24.1/LWP/UserAgent.pm line 478
	LWP::UserAgent::post(Test::WWW::Mechanize::PSGI=HASH(0x3954f60), "/wishlist?baz", HASH(0x35a9248)) called at /opt/perl-5.24.1/lib/site_perl/5.24.1/Test/WWW/Mechanize.pm line 237
	Test::WWW::Mechanize::post_ok(Test::WWW::Mechanize::PSGI=HASH(0x3954f60), "/wishlist?baz") called at t/03_mech.t line 90
Do not use HTTP::Session2::ClientStore. Use HTTP::Session2::ServerStore or HTTP::Session2::ClientStore2 instead. at /home/cpansand/.cpan/build/2018012603/HTTP-Session2-1.10-6/blib/lib/HTTP/Session2/ClientStore.pm line 35.
Do not use HTTP::Session2::ClientStore. Use HTTP::Session2::ServerStore or HTTP::Session2::ClientStore2 instead. at /home/cpansand/.cpan/build/2018012603/HTTP-Session2-1.10-6/blib/lib/HTTP/Session2/ClientStore.pm line 25.
Secret string too short at /home/cpansand/.cpan/build/2018012603/HTTP-Session2-1.10-6/blib/lib/HTTP/Session2/Base.pm line 79.
	HTTP::Session2::Base::__ANON__(HTTP::Session2::ClientStore=HASH(0x3a3cc20), "s3cret") called at t/03_mech.t line 127
	main::client_session(HASH(0x3a368c8)) called at t/03_mech.t line 17
	main::__ANON__(HASH(0x3a368c8)) called at /opt/perl-5.24.1/lib/site_perl/5.24.1/Test/WWW/Mechanize/PSGI.pm line 43
	Test::WWW::Mechanize::PSGI::try {...} () called at /opt/perl-5.24.1/lib/site_perl/5.24.1/Try/Tiny.pm line 102
	eval {...} called at /opt/perl-5.24.1/lib/site_perl/5.24.1/Try/Tiny.pm line 93
	Try::Tiny::try(CODE(0x3a36ce8), Try::Tiny::Catch=REF(0x3a36e08)) called at /opt/perl-5.24.1/lib/site_perl/5.24.1/Test/WWW/Mechanize/PSGI.pm line 50
	Test::WWW::Mechanize::PSGI::simple_request(Test::WWW::Mechanize::PSGI=HASH(0x3954f60), HTTP::Request=HASH(0x3a36a48), undef, undef) called at /opt/perl-5.24.1/lib/site_perl/5.24.1/LWP/UserAgent.pm line 297
	LWP::UserAgent::request(Test::WWW::Mechanize::PSGI=HASH(0x3954f60), HTTP::Request=HASH(0x3a36a48)) called at /opt/perl-5.24.1/lib/site_perl/5.24.1/WWW/Mechanize.pm line 1413
	WWW::Mechanize::_make_request(Test::WWW::Mechanize::PSGI=HASH(0x3954f60), HTTP::Request=HASH(0x3a36a48)) called at /opt/perl-5.24.1/lib/site_perl/5.24.1/WWW/Mechanize.pm line 1253
	WWW::Mechanize::request(Test::WWW::Mechanize::PSGI=HASH(0x3954f60), HTTP::Request=HASH(0x3a36a48)) called at /opt/perl-5.24.1/lib/site_perl/5.24.1/LWP/UserAgent.pm line 435
	LWP::UserAgent::get(Test::WWW::Mechanize::PSGI=HASH(0x3954f60), "http://localhost/wishlist") called at /opt/perl-5.24.1/lib/site_perl/5.24.1/WWW/Mechanize.pm line 117
	WWW::Mechanize::get(Test::WWW::Mechanize::PSGI=HASH(0x3954f60), "/wishlist") called at /opt/perl-5.24.1/lib/site_perl/5.24.1/Test/WWW/Mechanize.pm line 160
	Test::WWW::Mechanize::get_ok(Test::WWW::Mechanize::PSGI=HASH(0x3954f60), "/wishlist", "Wishlist is still available") called at t/03_mech.t line 91
Do not use HTTP::Session2::ClientStore. Use HTTP::Session2::ServerStore or HTTP::Session2::ClientStore2 instead. at /home/cpansand/.cpan/build/2018012603/HTTP-Session2-1.10-6/blib/lib/HTTP/Session2/ClientStore.pm line 35.
Secret string too short at /home/cpansand/.cpan/build/2018012603/HTTP-Session2-1.10-6/blib/lib/HTTP/Session2/Base.pm line 79.
	HTTP::Session2::Base::__ANON__(HTTP::Session2::ClientStore=HASH(0x3a3d340), "s3cret") called at t/03_mech.t line 127
	main::client_session(HASH(0x3a36778)) called at t/03_mech.t line 17
	main::__ANON__(HASH(0x3a36778)) called at /opt/perl-5.24.1/lib/site_perl/5.24.1/Test/WWW/Mechanize/PSGI.pm line 43
	Test::WWW::Mechanize::PSGI::try {...} () called at /opt/perl-5.24.1/lib/site_perl/5.24.1/Try/Tiny.pm line 102
	eval {...} called at /opt/perl-5.24.1/lib/site_perl/5.24.1/Try/Tiny.pm line 93
	Try::Tiny::try(CODE(0x3a3cff8), Try::Tiny::Catch=REF(0x3a36e38)) called at /opt/perl-5.24.1/lib/site_perl/5.24.1/Test/WWW/Mechanize/PSGI.pm line 50
	Test::WWW::Mechanize::PSGI::simple_request(Test::WWW::Mechanize::PSGI=HASH(0x3954f60), HTTP::Request=HASH(0x3a33ce8), undef, undef) called at /opt/perl-5.24.1/lib/site_perl/5.24.1/LWP/UserAgent.pm line 297
	LWP::UserAgent::request(Test::WWW::Mechanize::PSGI=HASH(0x3954f60), HTTP::Request=HASH(0x3a33ce8)) called at /opt/perl-5.24.1/lib/site_perl/5.24.1/WWW/Mechanize.pm line 1413
	WWW::Mechanize::_make_request(Test::WWW::Mechanize::PSGI=HASH(0x3954f60), HTTP::Request=HASH(0x3a33ce8)) called at /opt/perl-5.24.1/lib/site_perl/5.24.1/WWW/Mechanize.pm line 1253
	WWW::Mechanize::request(Test::WWW::Mechanize::PSGI=HASH(0x3954f60), HTTP::Request=HASH(0x3a33ce8)) called at /opt/perl-5.24.1/lib/site_perl/5.24.1/LWP/UserAgent.pm line 435
	LWP::UserAgent::get(Test::WWW::Mechanize::PSGI=HASH(0x3954f60), "http://localhost/my/name") called at /opt/perl-5.24.1/lib/site_perl/5.24.1/WWW/Mechanize.pm line 117
	WWW::Mechanize::get(Test::WWW::Mechanize::PSGI=HASH(0x3954f60), "/my/name") called at /opt/perl-5.24.1/lib/site_perl/5.24.1/Test/WWW/Mechanize.pm line 160
	Test::WWW::Mechanize::get_ok(Test::WWW::Mechanize::PSGI=HASH(0x3954f60), "/my/name") called at t/03_mech.t line 93
Do not use HTTP::Session2::ClientStore. Use HTTP::Session2::ServerStore or HTTP::Session2::ClientStore2 instead. at /home/cpansand/.cpan/build/2018012603/HTTP-Session2-1.10-6/blib/lib/HTTP/Session2/ClientStore.pm line 35.
Secret string too short at /home/cpansand/.cpan/build/2018012603/HTTP-Session2-1.10-6/blib/lib/HTTP/Session2/Base.pm line 79.
	HTTP::Session2::Base::__ANON__(HTTP::Session2::ClientStore=HASH(0x3a3d940), "s3cret") called at t/03_mech.t line 127
	main::client_session(HASH(0x3a3d880)) called at t/03_mech.t line 17
	main::__ANON__(HASH(0x3a3d880)) called at /opt/perl-5.24.1/lib/site_perl/5.24.1/Test/WWW/Mechanize/PSGI.pm line 43
	Test::WWW::Mechanize::PSGI::try {...} () called at /opt/perl-5.24.1/lib/site_perl/5.24.1/Try/Tiny.pm line 102
	eval {...} called at /opt/perl-5.24.1/lib/site_perl/5.24.1/Try/Tiny.pm line 93
	Try::Tiny::try(CODE(0x3a3d478), Try::Tiny::Catch=REF(0x3a3d010)) called at /opt/perl-5.24.1/lib/site_perl/5.24.1/Test/WWW/Mechanize/PSGI.pm line 50
	Test::WWW::Mechanize::PSGI::simple_request(Test::WWW::Mechanize::PSGI=HASH(0x3954f60), HTTP::Request=HASH(0x3a3d130), undef, undef) called at /opt/perl-5.24.1/lib/site_perl/5.24.1/LWP/UserAgent.pm line 297
	LWP::UserAgent::request(Test::WWW::Mechanize::PSGI=HASH(0x3954f60), HTTP::Request=HASH(0x3a3d130)) called at /opt/perl-5.24.1/lib/site_perl/5.24.1/WWW/Mechanize.pm line 1413
	WWW::Mechanize::_make_request(Test::WWW::Mechanize::PSGI=HASH(0x3954f60), HTTP::Request=HASH(0x3a3d130)) called at /opt/perl-5.24.1/lib/site_perl/5.24.1/WWW/Mechanize.pm line 1253
	WWW::Mechanize::request(Test::WWW::Mechanize::PSGI=HASH(0x3954f60), HTTP::Request=HASH(0x3a3d130)) called at /opt/perl-5.24.1/lib/site_perl/5.24.1/LWP/UserAgent.pm line 478
	LWP::UserAgent::post(Test::WWW::Mechanize::PSGI=HASH(0x3954f60), "/account/logout?john") called at t/03_mech.t line 97
Do not use HTTP::Session2::ClientStore. Use HTTP::Session2::ServerStore or HTTP::Session2::ClientStore2 instead. at /home/cpansand/.cpan/build/2018012603/HTTP-Session2-1.10-6/blib/lib/HTTP/Session2/ClientStore.pm line 35.
Do not use HTTP::Session2::ClientStore. Use HTTP::Session2::ServerStore or HTTP::Session2::ClientStore2 instead. at /home/cpansand/.cpan/build/2018012603/HTTP-Session2-1.10-6/blib/lib/HTTP/Session2/ClientStore.pm line 35.
t/03_mech.t ................. ok
Do not use HTTP::Session2::ClientStore. Use HTTP::Session2::ServerStore or HTTP::Session2::ClientStore2 instead. at /home/cpansand/.cpan/build/2018012603/HTTP-Session2-1.10-6/blib/lib/HTTP/Session2/ClientStore.pm line 25.
t/04_plack_response.t ....... ok
Secret string too short at /home/cpansand/.cpan/build/2018012603/HTTP-Session2-1.10-6/blib/lib/HTTP/Session2/Base.pm line 79.
	HTTP::Session2::Base::__ANON__(HTTP::Session2::ClientStore=HASH(0x1139638), "s3cret") called at t/05_keep_me_signed_in.t line 20
Do not use HTTP::Session2::ClientStore. Use HTTP::Session2::ServerStore or HTTP::Session2::ClientStore2 instead. at /home/cpansand/.cpan/build/2018012603/HTTP-Session2-1.10-6/blib/lib/HTTP/Session2/ClientStore.pm line 25.
t/05_keep_me_signed_in.t .... ok
Secret string too short at /home/cpansand/.cpan/build/2018012603/HTTP-Session2-1.10-6/blib/lib/HTTP/Session2/Base.pm line 79.
	HTTP::Session2::Base::__ANON__(HTTP::Session2::Base=HASH(0xda9d98), "i am secret") called at t/06_base_abstract.t line 7
t/06_base_abstract.t ........ ok
Secret string too short at /home/cpansand/.cpan/build/2018012603/HTTP-Session2-1.10-6/blib/lib/HTTP/Session2/Base.pm line 79.
	HTTP::Session2::Base::__ANON__(HTTP::Session2::ClientStore=HASH(0x1fc1098), "secret") called at t/07_client_store.t line 23
	main::__ANON__() called at /opt/perl-5.24.1/lib/site_perl/5.24.1/Test/Builder.pm line 337
	eval {...} called at /opt/perl-5.24.1/lib/site_perl/5.24.1/Test/Builder.pm line 337
	Test::Builder::subtest(Test::Builder=HASH(0x11eb390), "get/set/remove", CODE(0x11e38e0)) called at /opt/perl-5.24.1/lib/site_perl/5.24.1/Test/More.pm line 807
	Test::More::subtest("get/set/remove", CODE(0x11e38e0)) called at t/07_client_store.t line 31
Secret string too short at /home/cpansand/.cpan/build/2018012603/HTTP-Session2-1.10-6/blib/lib/HTTP/Session2/Base.pm line 79.
	HTTP::Session2::Base::__ANON__(HTTP::Session2::ClientStore=HASH(0x11e3898), "secret") called at t/07_client_store.t line 35
	main::__ANON__() called at /opt/perl-5.24.1/lib/site_perl/5.24.1/Test/Builder.pm line 337
	eval {...} called at /opt/perl-5.24.1/lib/site_perl/5.24.1/Test/Builder.pm line 337
	Test::Builder::subtest(Test::Builder=HASH(0x11eb390), "validate_token", CODE(0x1fb3958)) called at /opt/perl-5.24.1/lib/site_perl/5.24.1/Test/More.pm line 807
	Test::More::subtest("validate_token", CODE(0x1fb3958)) called at t/07_client_store.t line 71
Do not use HTTP::Session2::ClientStore. Use HTTP::Session2::ServerStore or HTTP::Session2::ClientStore2 instead. at /home/cpansand/.cpan/build/2018012603/HTTP-Session2-1.10-6/blib/lib/HTTP/Session2/ClientStore.pm line 25.
Secret string too short at /home/cpansand/.cpan/build/2018012603/HTTP-Session2-1.10-6/blib/lib/HTTP/Session2/Base.pm line 79.
	HTTP::Session2::Base::__ANON__(HTTP::Session2::ClientStore=HASH(0x1fd1e08), "secret") called at t/07_client_store.t line 51
	main::__ANON__() called at /opt/perl-5.24.1/lib/site_perl/5.24.1/Test/Builder.pm line 337
	eval {...} called at /opt/perl-5.24.1/lib/site_perl/5.24.1/Test/Builder.pm line 337
	Test::Builder::subtest(Test::Builder=HASH(0x11eb390), "bad", CODE(0x1fd11f0)) called at /opt/perl-5.24.1/lib/site_perl/5.24.1/Test/More.pm line 807
	Test::More::subtest("bad", CODE(0x1fd11f0)) called at t/07_client_store.t line 57
	main::__ANON__() called at /opt/perl-5.24.1/lib/site_perl/5.24.1/Test/Builder.pm line 337
	eval {...} called at /opt/perl-5.24.1/lib/site_perl/5.24.1/Test/Builder.pm line 337
	Test::Builder::subtest(Test::Builder=HASH(0x11eb390), "validate_token", CODE(0x1fb3958)) called at /opt/perl-5.24.1/lib/site_perl/5.24.1/Test/More.pm line 807
	Test::More::subtest("validate_token", CODE(0x1fb3958)) called at t/07_client_store.t line 71
Do not use HTTP::Session2::ClientStore. Use HTTP::Session2::ServerStore or HTTP::Session2::ClientStore2 instead. at /home/cpansand/.cpan/build/2018012603/HTTP-Session2-1.10-6/blib/lib/HTTP/Session2/ClientStore.pm line 35.
Secret string too short at /home/cpansand/.cpan/build/2018012603/HTTP-Session2-1.10-6/blib/lib/HTTP/Session2/Base.pm line 79.
	HTTP::Session2::Base::__ANON__(HTTP::Session2::ClientStore=HASH(0x1fda4d8), "secret") called at t/07_client_store.t line 65
	main::__ANON__() called at /opt/perl-5.24.1/lib/site_perl/5.24.1/Test/Builder.pm line 337
	eval {...} called at /opt/perl-5.24.1/lib/site_perl/5.24.1/Test/Builder.pm line 337
	Test::Builder::subtest(Test::Builder=HASH(0x11eb390), "good", CODE(0x1fd11f0)) called at /opt/perl-5.24.1/lib/site_perl/5.24.1/Test/More.pm line 807
	Test::More::subtest("good", CODE(0x1fd11f0)) called at t/07_client_store.t line 70
	main::__ANON__() called at /opt/perl-5.24.1/lib/site_perl/5.24.1/Test/Builder.pm line 337
	eval {...} called at /opt/perl-5.24.1/lib/site_perl/5.24.1/Test/Builder.pm line 337
	Test::Builder::subtest(Test::Builder=HASH(0x11eb390), "validate_token", CODE(0x1fb3958)) called at /opt/perl-5.24.1/lib/site_perl/5.24.1/Test/More.pm line 807
	Test::More::subtest("validate_token", CODE(0x1fb3958)) called at t/07_client_store.t line 71
Do not use HTTP::Session2::ClientStore. Use HTTP::Session2::ServerStore or HTTP::Session2::ClientStore2 instead. at /home/cpansand/.cpan/build/2018012603/HTTP-Session2-1.10-6/blib/lib/HTTP/Session2/ClientStore.pm line 35.
Secret string too short at /home/cpansand/.cpan/build/2018012603/HTTP-Session2-1.10-6/blib/lib/HTTP/Session2/Base.pm line 79.
	HTTP::Session2::Base::__ANON__(HTTP::Session2::ClientStore=HASH(0x1fb3d78), "secret") called at t/07_client_store.t line 76
	main::__ANON__() called at /opt/perl-5.24.1/lib/site_perl/5.24.1/Test/Builder.pm line 337
	eval {...} called at /opt/perl-5.24.1/lib/site_perl/5.24.1/Test/Builder.pm line 337
	Test::Builder::subtest(Test::Builder=HASH(0x11eb390), "ignore_old", CODE(0x1fb3c88)) called at /opt/perl-5.24.1/lib/site_perl/5.24.1/Test/More.pm line 807
	Test::More::subtest("ignore_old", CODE(0x1fb3c88)) called at t/07_client_store.t line 106
Do not use HTTP::Session2::ClientStore. Use HTTP::Session2::ServerStore or HTTP::Session2::ClientStore2 instead. at /home/cpansand/.cpan/build/2018012603/HTTP-Session2-1.10-6/blib/lib/HTTP/Session2/ClientStore.pm line 25.
Secret string too short at /home/cpansand/.cpan/build/2018012603/HTTP-Session2-1.10-6/blib/lib/HTTP/Session2/Base.pm line 79.
	HTTP::Session2::Base::__ANON__(HTTP::Session2::ClientStore=HASH(0x1fe0bd8), "secret") called at t/07_client_store.t line 87
	main::__ANON__() called at /opt/perl-5.24.1/lib/site_perl/5.24.1/Test/Builder.pm line 337
	eval {...} called at /opt/perl-5.24.1/lib/site_perl/5.24.1/Test/Builder.pm line 337
	Test::Builder::subtest(Test::Builder=HASH(0x11eb390), "ignore_old disabled", CODE(0x1fde830)) called at /opt/perl-5.24.1/lib/site_perl/5.24.1/Test/More.pm line 807
	Test::More::subtest("ignore_old disabled", CODE(0x1fde830)) called at t/07_client_store.t line 95
	main::__ANON__() called at /opt/perl-5.24.1/lib/site_perl/5.24.1/Test/Builder.pm line 337
	eval {...} called at /opt/perl-5.24.1/lib/site_perl/5.24.1/Test/Builder.pm line 337
	Test::Builder::subtest(Test::Builder=HASH(0x11eb390), "ignore_old", CODE(0x1fb3c88)) called at /opt/perl-5.24.1/lib/site_perl/5.24.1/Test/More.pm line 807
	Test::More::subtest("ignore_old", CODE(0x1fb3c88)) called at t/07_client_store.t line 106
Do not use HTTP::Session2::ClientStore. Use HTTP::Session2::ServerStore or HTTP::Session2::ClientStore2 instead. at /home/cpansand/.cpan/build/2018012603/HTTP-Session2-1.10-6/blib/lib/HTTP/Session2/ClientStore.pm line 35.
Secret string too short at /home/cpansand/.cpan/build/2018012603/HTTP-Session2-1.10-6/blib/lib/HTTP/Session2/Base.pm line 79.
	HTTP::Session2::Base::__ANON__(HTTP::Session2::ClientStore=HASH(0x1fe14a8), "secret") called at t/07_client_store.t line 97
	main::__ANON__() called at /opt/perl-5.24.1/lib/site_perl/5.24.1/Test/Builder.pm line 337
	eval {...} called at /opt/perl-5.24.1/lib/site_perl/5.24.1/Test/Builder.pm line 337
	Test::Builder::subtest(Test::Builder=HASH(0x11eb390), "ignore_old enabled", CODE(0x1fde830)) called at /opt/perl-5.24.1/lib/site_perl/5.24.1/Test/More.pm line 807
	Test::More::subtest("ignore_old enabled", CODE(0x1fde830)) called at t/07_client_store.t line 105
	main::__ANON__() called at /opt/perl-5.24.1/lib/site_perl/5.24.1/Test/Builder.pm line 337
	eval {...} called at /opt/perl-5.24.1/lib/site_perl/5.24.1/Test/Builder.pm line 337
	Test::Builder::subtest(Test::Builder=HASH(0x11eb390), "ignore_old", CODE(0x1fb3c88)) called at /opt/perl-5.24.1/lib/site_perl/5.24.1/Test/More.pm line 807
	Test::More::subtest("ignore_old", CODE(0x1fb3c88)) called at t/07_client_store.t line 106
t/07_client_store.t ......... ok
Secret string too short at /home/cpansand/.cpan/build/2018012603/HTTP-Session2-1.10-6/blib/lib/HTTP/Session2/Base.pm line 79.
	HTTP::Session2::Base::__ANON__(HTTP::Session2::Expired=HASH(0x20da228), 33333) called at t/08_expired.t line 7
t/08_expired.t .............. ok
# /dev/urandom available
# /dev/urandom(1): Xdc4WobUE-QL7_GxEkiC7UgPLHToPMs
# /dev/urandom(2): BjnjhJP4kOSjgs-T2B8_h9cTN5Ss10E
# perl:            4d41ba328a4d0cd661c2317a4c1d605
t/09_random.t ............... ok
t/11_secret_string.t ........ ok
Secret string too short at /home/cpansand/.cpan/build/2018012603/HTTP-Session2-1.10-6/blib/lib/HTTP/Session2/Base.pm line 79.
	HTTP::Session2::Base::__ANON__(HTTP::Session2::ClientStore2=HASH(0x22583b0), "s3cret") called at t/client_store2/01_basic.t line 24
	main::__ANON__("client -> server: request without cookie", CODE(0x2250d18)) called at t/client_store2/01_basic.t line 30
	main::__ANON__() called at /opt/perl-5.24.1/lib/site_perl/5.24.1/Test/Builder.pm line 337
	eval {...} called at /opt/perl-5.24.1/lib/site_perl/5.24.1/Test/Builder.pm line 337
	Test::Builder::subtest(Test::Builder=HASH(0x184fb00), "First request", CODE(0x1810178)) called at /opt/perl-5.24.1/lib/site_perl/5.24.1/Test/More.pm line 807
	Test::More::subtest("First request", CODE(0x1810178)) called at t/client_store2/01_basic.t line 9
	main::scenario("First request", CODE(0x1810178)) called at t/client_store2/01_basic.t line 36
Secret string too short at /home/cpansand/.cpan/build/2018012603/HTTP-Session2-1.10-6/blib/lib/HTTP/Session2/Base.pm line 79.
	HTTP::Session2::Base::__ANON__(HTTP::Session2::ClientStore2=HASH(0x225e460), "s3cret") called at t/client_store2/01_basic.t line 41
	main::__ANON__("client -> server: request without cookie", CODE(0x225e1d8)) called at t/client_store2/01_basic.t line 47
	main::__ANON__() called at /opt/perl-5.24.1/lib/site_perl/5.24.1/Test/Builder.pm line 337
	eval {...} called at /opt/perl-5.24.1/lib/site_perl/5.24.1/Test/Builder.pm line 337
	Test::Builder::subtest(Test::Builder=HASH(0x184fb00), "Store something without login", CODE(0x1810178)) called at /opt/perl-5.24.1/lib/site_perl/5.24.1/Test/More.pm line 807
	Test::More::subtest("Store something without login", CODE(0x1810178)) called at t/client_store2/01_basic.t line 9
	main::scenario("Store something without login", CODE(0x1810178)) called at t/client_store2/01_basic.t line 63
Secret string too short at /home/cpansand/.cpan/build/2018012603/HTTP-Session2-1.10-6/blib/lib/HTTP/Session2/Base.pm line 79.
	HTTP::Session2::Base::__ANON__(HTTP::Session2::ClientStore2=HASH(0x226ae20), "s3cret") called at t/client_store2/01_basic.t line 69
	main::__ANON__("client -> server: request without cookie", CODE(0x2265558)) called at t/client_store2/01_basic.t line 76
	main::__ANON__() called at /opt/perl-5.24.1/lib/site_perl/5.24.1/Test/Builder.pm line 337
	eval {...} called at /opt/perl-5.24.1/lib/site_perl/5.24.1/Test/Builder.pm line 337
	Test::Builder::subtest(Test::Builder=HASH(0x184fb00), "Login", CODE(0x1810178)) called at /opt/perl-5.24.1/lib/site_perl/5.24.1/Test/More.pm line 807
	Test::More::subtest("Login", CODE(0x1810178)) called at t/client_store2/01_basic.t line 9
	main::scenario("Login", CODE(0x1810178)) called at t/client_store2/01_basic.t line 96
Ciphertext does not begin with a valid header for 'salt' header mode at /home/cpansand/.cpan/build/2018012603/HTTP-Session2-1.10-6/blib/lib/HTTP/Session2/ClientStore2.pm line 81.
Ciphertext does not begin with a valid header for 'salt' header mode at /home/cpansand/.cpan/build/2018012603/HTTP-Session2-1.10-6/blib/lib/HTTP/Session2/ClientStore2.pm line 81.
Secret string too short at /home/cpansand/.cpan/build/2018012603/HTTP-Session2-1.10-6/blib/lib/HTTP/Session2/Base.pm line 79.
	HTTP::Session2::Base::__ANON__(HTTP::Session2::ClientStore2=HASH(0x2274b50), "s3cret") called at t/client_store2/01_basic.t line 102
	main::__ANON__("client -> server: request without cookie", CODE(0x226d698)) called at t/client_store2/01_basic.t line 109
	main::__ANON__() called at /opt/perl-5.24.1/lib/site_perl/5.24.1/Test/Builder.pm line 337
	eval {...} called at /opt/perl-5.24.1/lib/site_perl/5.24.1/Test/Builder.pm line 337
	Test::Builder::subtest(Test::Builder=HASH(0x184fb00), "In a login session", CODE(0x1810178)) called at /opt/perl-5.24.1/lib/site_perl/5.24.1/Test/More.pm line 807
	Test::More::subtest("In a login session", CODE(0x1810178)) called at t/client_store2/01_basic.t line 9
	main::scenario("In a login session", CODE(0x1810178)) called at t/client_store2/01_basic.t line 118
Ciphertext does not begin with a valid header for 'salt' header mode at /home/cpansand/.cpan/build/2018012603/HTTP-Session2-1.10-6/blib/lib/HTTP/Session2/ClientStore2.pm line 81.
Secret string too short at /home/cpansand/.cpan/build/2018012603/HTTP-Session2-1.10-6/blib/lib/HTTP/Session2/Base.pm line 79.
	HTTP::Session2::Base::__ANON__(HTTP::Session2::ClientStore2=HASH(0x226fee0), "s3cret") called at t/client_store2/01_basic.t line 123
	main::__ANON__("client -> server: request without cookie", CODE(0x226fa18)) called at t/client_store2/01_basic.t line 130
	main::__ANON__() called at /opt/perl-5.24.1/lib/site_perl/5.24.1/Test/Builder.pm line 337
	eval {...} called at /opt/perl-5.24.1/lib/site_perl/5.24.1/Test/Builder.pm line 337
	Test::Builder::subtest(Test::Builder=HASH(0x184fb00), "Logout", CODE(0x1810178)) called at /opt/perl-5.24.1/lib/site_perl/5.24.1/Test/More.pm line 807
	Test::More::subtest("Logout", CODE(0x1810178)) called at t/client_store2/01_basic.t line 9
	main::scenario("Logout", CODE(0x1810178)) called at t/client_store2/01_basic.t line 143
Ciphertext does not begin with a valid header for 'salt' header mode at /home/cpansand/.cpan/build/2018012603/HTTP-Session2-1.10-6/blib/lib/HTTP/Session2/ClientStore2.pm line 81.
t/client_store2/01_basic.t .. ok
t/client_store2/02_mech.t ... ok
t/client_store2/03_colon.t .. ok
All tests successful.
Files=14, Tests=84,  2 wallclock secs ( 0.04 usr  0.07 sys +  0.97 cusr  0.22 csys =  1.30 CPU)
Result: PASS

------------------------------
PREREQUISITES
------------------------------

Prerequisite modules loaded:

requires:

    Module                     Need     Have    
    -------------------------- -------- --------
    Cookie::Baker              0        0.07    
    Crypt::CBC                 0        2.33    
    Data::MessagePack          0        1.00    
    Digest::HMAC               0        1.03    
    Digest::SHA                0        5.98    
    Digest::SHA1               0        2.13    
    MIME::Base64               3.11     3.15    
    Mouse                      0        v2.5.1  
    parent                     0        0.236   
    perl                       5.008005 5.024001
    Time::HiRes                0        1.9753  

build_requires:

    Module                     Need     Have    
    -------------------------- -------- --------
    Crypt::Rijndael            0        1.13    
    Plack::Request             0        1.0044  
    Plack::Response            0        1.0044  
    Test::More                 0.98     1.302120
    Test::WWW::Mechanize::PSGI 0        0.38    

configure_requires:

    Module                     Need     Have    
    -------------------------- -------- --------
    Module::Build::Tiny        0.035    0.039   


------------------------------
ENVIRONMENT AND OTHER CONTEXT
------------------------------

Environment variables:

    LANG = en_US.UTF-8
    PATH = /usr/local/bin:/usr/bin:/bin:/usr/local/sbin:/usr/sbin:/sbin:/home/cpansand/bin/linux-gnu:/home/cpansand/bin/sh:/home/cpansand/bin:/usr/games:/home/cpansand/devel:/home/eserte/src/srezic-misc/scripts
    PERL5LIB = /home/cpansand/.cpan/build/2018012603/UV-1.000004-6/blib/arch:/home/cpansand/.cpan/build/2018012603/UV-1.000004-6/blib/lib
    PERL5OPT = 
    PERL5_CPANPLUS_IS_RUNNING = 31739
    PERL5_CPAN_IS_RUNNING = 31739
    PERL5_CPAN_IS_RUNNING_IN_RECURSION = 30413,31739
    PERLDOC = -MPod::Perldoc::ToTextOverstrike
    PERL_BATCH = yes
    PERL_CANARY_STABILITY_NOPROMPT = 1
    PERL_CPAN_REPORTER_CONFIG = /var/tmp/cpansmoker-1023/2018012603/cpanreporter_000_config.ini
    PERL_EXTUTILS_AUTOINSTALL = --defaultdeps
    SHELL = /bin/zsh
    TERM = screen
    TMPDIR = /var/tmp/cpansmoker-1023/2018012603

Perl special variables (and OS-specific diagnostics, for MSWin32):

    $^X = /opt/perl-5.24.1/bin/perl
    $UID/$EUID = 1023 / 1023
    $GID = 1023 1023
    $EGID = 1023 1023

Perl module toolchain versions installed:

    Module              Have    
    ------------------- --------
    CPAN                2.16    
    CPAN::Meta          2.150010
    Cwd                 3.63_01 
    ExtUtils::CBuilder  0.280230
    ExtUtils::Command   7.30    
    ExtUtils::Install   2.06    
    ExtUtils::MakeMaker 7.30    
    ExtUtils::Manifest  1.70    
    ExtUtils::ParseXS   3.31    
    File::Spec          3.63_01 
    JSON                2.97001 
    JSON::PP            2.97001 
    Module::Build       0.4224  
    Module::Signature   0.81    
    Parse::CPAN::Meta   2.150010
    Test::Harness       3.39    
    Test::More          1.302120
    YAML                1.24    
    YAML::Syck          1.30    
    version             0.9916  


--

Summary of my perl5 (revision 5 version 24 subversion 1) configuration:
   
  Platform:
    osname=linux, osvers=2.6.32-696.3.1.el6.x86_64, archname=x86_64-linux
    uname='linux centos6 2.6.32-696.3.1.el6.x86_64 #1 smp tue may 30 19:52:55 utc 2017 x86_64 x86_64 x86_64 gnulinux '
    config_args='-ds -e -Dprefix=/opt/perl-5.24.1 -Dcf_email=srezic@cpan.org'
    hint=recommended, useposix=true, d_sigaction=define
    useithreads=undef, usemultiplicity=undef
    use64bitint=define, use64bitall=define, uselongdouble=undef
    usemymalloc=n, bincompat5005=undef
  Compiler:
    cc='cc', ccflags ='-fwrapv -fno-strict-aliasing -pipe -fstack-protector -I/usr/local/include -D_LARGEFILE_SOURCE -D_FILE_OFFSET_BITS=64 -D_FORTIFY_SOURCE=2',
    optimize='-O2',
    cppflags='-fwrapv -fno-strict-aliasing -pipe -fstack-protector -I/usr/local/include'
    ccversion='', gccversion='4.4.7 20120313 (Red Hat 4.4.7-18)', gccosandvers=''
    intsize=4, longsize=8, ptrsize=8, doublesize=8, byteorder=12345678, doublekind=3
    d_longlong=define, longlongsize=8, d_longdbl=define, longdblsize=16, longdblkind=3
    ivtype='long', ivsize=8, nvtype='double', nvsize=8, Off_t='off_t', lseeksize=8
    alignbytes=8, prototype=define
  Linker and Libraries:
    ld='cc', ldflags =' -fstack-protector -L/usr/local/lib'
    libpth=/usr/local/lib /usr/lib /lib/../lib64 /usr/lib/../lib64 /lib /lib64 /usr/lib64 /usr/local/lib64
    libs=-lpthread -lnsl -lgdbm -ldb -ldl -lm -lcrypt -lutil -lc
    perllibs=-lpthread -lnsl -ldl -lm -lcrypt -lutil -lc
    libc=libc-2.12.so, so=so, useshrplib=false, libperl=libperl.a
    gnulibc_version='2.12'
  Dynamic Linking:
    dlsrc=dl_dlopen.xs, dlext=so, d_dlsymun=undef, ccdlflags='-Wl,-E'
    cccdlflags='-fPIC', lddlflags='-shared -O2 -L/usr/local/lib -fstack-protector'


Characteristics of this binary (from libperl): 
  Compile-time options: HAS_TIMES PERLIO_LAYERS PERL_COPY_ON_WRITE
                        PERL_DONT_CREATE_GVSV
                        PERL_HASH_FUNC_ONE_AT_A_TIME_HARD PERL_MALLOC_WRAP
                        PERL_PRESERVE_IVUV USE_64_BIT_ALL USE_64_BIT_INT
                        USE_LARGE_FILES USE_LOCALE USE_LOCALE_COLLATE
                        USE_LOCALE_CTYPE USE_LOCALE_NUMERIC USE_LOCALE_TIME
                        USE_PERLIO USE_PERL_ATOF
  Built under linux
  Compiled at Jun 20 2017 18:09:14
  %ENV:
    PERL5LIB="/home/cpansand/.cpan/build/2018012603/UV-1.000004-6/blib/arch:/home/cpansand/.cpan/build/2018012603/UV-1.000004-6/blib/lib"
    PERL5OPT=""
    PERL5_CPANPLUS_IS_RUNNING="31739"
    PERL5_CPAN_IS_RUNNING="31739"
    PERL5_CPAN_IS_RUNNING_IN_RECURSION="30413,31739"
    PERLDOC="-MPod::Perldoc::ToTextOverstrike"
    PERL_BATCH="yes"
    PERL_CANARY_STABILITY_NOPROMPT="1"
    PERL_CPAN_REPORTER_CONFIG="/var/tmp/cpansmoker-1023/2018012603/cpanreporter_000_config.ini"
    PERL_EXTUTILS_AUTOINSTALL="--defaultdeps"
  @INC:
    /home/cpansand/.cpan/build/2018012603/UV-1.000004-6/blib/arch
    /home/cpansand/.cpan/build/2018012603/UV-1.000004-6/blib/lib
    /opt/perl-5.24.1/lib/site_perl/5.24.1/x86_64-linux
    /opt/perl-5.24.1/lib/site_perl/5.24.1
    /opt/perl-5.24.1/lib/5.24.1/x86_64-linux
    /opt/perl-5.24.1/lib/5.24.1
    .