Report for XML-Parser-2.44

Back
From: metabase:user:78bab9ec-4395-11e7-bbcb-496421254eb3
Subject: PASS XML-Parser-2.44 v5.18.4 GNU/Linux
Date: 2017-06-05T15:58:34Z

This distribution has been tested as part of the CPAN Testers
project, supporting the Perl programming language.  See
http://wiki.cpantesters.org/ for more information or email
questions to cpan-testers-discuss@perl.org


--
Dear TODDR,

This is a computer-generated report for XML-Parser-2.44
on perl 5.18.4, created by App::cpanminus::reporter 0.17 (1.7043).

Thank you for uploading your work to CPAN.  Congratulations!
All tests were successful.

Sections of this report:

    * Tester comments
    * Program output
    * Prerequisites
    * Environment and other context

------------------------------
TESTER COMMENTS
------------------------------

Additional comments from tester:

none provided

------------------------------
PROGRAM OUTPUT
------------------------------

Output from '':

Building and testing XML-Parser-2.44
cp Parser/Style/Subs.pm blib/lib/XML/Parser/Style/Subs.pm
cp Parser/Style/Objects.pm blib/lib/XML/Parser/Style/Objects.pm
cp Parser/Encodings/iso-8859-4.enc blib/lib/XML/Parser/Encodings/iso-8859-4.enc
cp Parser/Encodings/iso-8859-2.enc blib/lib/XML/Parser/Encodings/iso-8859-2.enc
cp Parser/Encodings/iso-8859-7.enc blib/lib/XML/Parser/Encodings/iso-8859-7.enc
cp Parser/Style/Debug.pm blib/lib/XML/Parser/Style/Debug.pm
cp Parser/Encodings/windows-1250.enc blib/lib/XML/Parser/Encodings/windows-1250.enc
cp Parser/Style/Tree.pm blib/lib/XML/Parser/Style/Tree.pm
cp Parser/Encodings/euc-kr.enc blib/lib/XML/Parser/Encodings/euc-kr.enc
cp Parser/Encodings/x-euc-jp-jisx0221.enc blib/lib/XML/Parser/Encodings/x-euc-jp-jisx0221.enc
cp Parser/Encodings/koi8-r.enc blib/lib/XML/Parser/Encodings/koi8-r.enc
cp Parser.pm blib/lib/XML/Parser.pm
cp Parser/Encodings/big5.enc blib/lib/XML/Parser/Encodings/big5.enc
cp Parser/Encodings/x-sjis-cp932.enc blib/lib/XML/Parser/Encodings/x-sjis-cp932.enc
cp Parser/Encodings/Japanese_Encodings.msg blib/lib/XML/Parser/Encodings/Japanese_Encodings.msg
cp Parser/Encodings/iso-8859-9.enc blib/lib/XML/Parser/Encodings/iso-8859-9.enc
cp Parser/Encodings/ibm866.enc blib/lib/XML/Parser/Encodings/ibm866.enc
cp Parser/Encodings/windows-1251.enc blib/lib/XML/Parser/Encodings/windows-1251.enc
cp Parser/LWPExternEnt.pl blib/lib/XML/Parser/LWPExternEnt.pl
cp Parser/Encodings/README blib/lib/XML/Parser/Encodings/README
cp Parser/Encodings/x-sjis-unicode.enc blib/lib/XML/Parser/Encodings/x-sjis-unicode.enc
cp Parser/Style/Stream.pm blib/lib/XML/Parser/Style/Stream.pm
cp Parser/Encodings/x-euc-jp-unicode.enc blib/lib/XML/Parser/Encodings/x-euc-jp-unicode.enc
cp Parser/Encodings/iso-8859-5.enc blib/lib/XML/Parser/Encodings/iso-8859-5.enc
cp Parser/Encodings/iso-8859-8.enc blib/lib/XML/Parser/Encodings/iso-8859-8.enc
cp Parser/Encodings/x-sjis-jdk117.enc blib/lib/XML/Parser/Encodings/x-sjis-jdk117.enc
cp Parser/Encodings/windows-1252.enc blib/lib/XML/Parser/Encodings/windows-1252.enc
cp Parser/Encodings/iso-8859-3.enc blib/lib/XML/Parser/Encodings/iso-8859-3.enc
cp Parser/Encodings/x-sjis-jisx0221.enc blib/lib/XML/Parser/Encodings/x-sjis-jisx0221.enc
cp Parser/Encodings/windows-1255.enc blib/lib/XML/Parser/Encodings/windows-1255.enc
make[1]: Entering directory '/home/simbabque/.cpanm/work/1496676849.19456/XML-Parser-2.44/Expat'
cp Expat.pm ../blib/lib/XML/Parser/Expat.pm
/home/simbabque/perl5/perlbrew/perls/perl-5.18.4/bin/perl /home/simbabque/perl5/perlbrew/perls/perl-5.18.4/lib/5.18.4/ExtUtils/xsubpp -noprototypes -typemap /home/simbabque/perl5/perlbrew/perls/perl-5.18.4/lib/5.18.4/ExtUtils/typemap -typemap typemap  Expat.xs > Expat.xsc && mv Expat.xsc Expat.c
cc -c   -fno-strict-aliasing -pipe -fstack-protector -I/usr/local/include -D_LARGEFILE_SOURCE -D_FILE_OFFSET_BITS=64 -O2   -DVERSION=\"2.44\" -DXS_VERSION=\"2.44\" -fPIC "-I/home/simbabque/perl5/perlbrew/perls/perl-5.18.4/lib/5.18.4/x86_64-linux/CORE"   Expat.c
Running Mkbootstrap for XML::Parser::Expat ()
chmod 644 Expat.bs
rm -f ../blib/arch/auto/XML/Parser/Expat/Expat.so
LD_RUN_PATH="/lib/x86_64-linux-gnu" cc  -shared -O2 -L/usr/local/lib -fstack-protector Expat.o  -o ../blib/arch/auto/XML/Parser/Expat/Expat.so 	\
   -lexpat  	\
  
chmod 755 ../blib/arch/auto/XML/Parser/Expat/Expat.so
cp Expat.bs ../blib/arch/auto/XML/Parser/Expat/Expat.bs
chmod 644 ../blib/arch/auto/XML/Parser/Expat/Expat.bs
Manifying ../blib/man3/XML::Parser::Expat.3
make[1]: Leaving directory '/home/simbabque/.cpanm/work/1496676849.19456/XML-Parser-2.44/Expat'
Manifying blib/man3/XML::Parser.3
Manifying blib/man3/XML::Parser::Style::Tree.3
Manifying blib/man3/XML::Parser::Style::Objects.3
Manifying blib/man3/XML::Parser::Style::Subs.3
Manifying blib/man3/XML::Parser::Style::Stream.3
Manifying blib/man3/XML::Parser::Style::Debug.3
make[1]: Entering directory '/home/simbabque/.cpanm/work/1496676849.19456/XML-Parser-2.44/Expat'
make[1]: Leaving directory '/home/simbabque/.cpanm/work/1496676849.19456/XML-Parser-2.44/Expat'
PERL_DL_NONLAZY=1 /home/simbabque/perl5/perlbrew/perls/perl-5.18.4/bin/perl "-MExtUtils::Command::MM" "-e" "test_harness(0, 'blib/lib', 'blib/arch')" t/*.t
t/astress.t ........... ok
t/cdata.t ............. ok
t/decl.t .............. ok
t/defaulted.t ......... ok
t/encoding.t .......... ok
t/external_ent.t ...... ok
t/file.t .............. ok
t/file_open_scalar.t .. ok
t/finish.t ............ ok
t/namespaces.t ........ ok
t/parament.t .......... ok
t/partial.t ........... ok
t/skip.t .............. ok
t/stream.t ............ ok
t/styles.t ............ ok
All tests successful.
Files=15, Tests=141,  1 wallclock secs ( 0.06 usr  0.00 sys +  0.66 cusr  0.03 csys =  0.75 CPU)
Result: PASS

------------------------------
PREREQUISITES
------------------------------

Prerequisite modules loaded:

    No requirements found

------------------------------
ENVIRONMENT AND OTHER CONTEXT
------------------------------

Environment variables:

    LANG = en_US.UTF-8
    LANGUAGE = en_US
    LC_ADDRESS = de_DE.UTF-8
    LC_IDENTIFICATION = de_DE.UTF-8
    LC_MEASUREMENT = de_DE.UTF-8
    LC_MONETARY = de_DE.UTF-8
    LC_NAME = de_DE.UTF-8
    LC_NUMERIC = de_DE.UTF-8
    LC_PAPER = de_DE.UTF-8
    LC_TELEPHONE = de_DE.UTF-8
    LC_TIME = de_DE.UTF-8
    PATH = /home/simbabque/perl5/perlbrew/bin:/home/simbabque/perl5/perlbrew/perls/perl-5.18.4/bin:/home/simbabque/bin:/home/simbabque/.local/bin:/usr/local/sbin:/usr/local/bin:/usr/sbin:/usr/bin:/sbin:/bin:/usr/games:/usr/local/games:/snap/bin
    PERLBREW_BASHRC_VERSION = 0.78
    PERLBREW_HOME = /home/simbabque/.perlbrew
    PERLBREW_MANPATH = /home/simbabque/perl5/perlbrew/perls/perl-5.18.4/man
    PERLBREW_PATH = /home/simbabque/perl5/perlbrew/bin:/home/simbabque/perl5/perlbrew/perls/perl-5.18.4/bin
    PERLBREW_PERL = perl-5.18.4
    PERLBREW_ROOT = /home/simbabque/perl5/perlbrew
    PERLBREW_VERSION = 0.78
    SHELL = /bin/bash
    TERM = xterm

Perl special variables (and OS-specific diagnostics, for MSWin32):

    EGID = 1000 4 24 27 30 46 113 128 1000
    EUID = 1000
    EXECUTABLE_NAME = /home/simbabque/perl5/perlbrew/perls/perl-5.18.4/bin/perl
    GID = 1000 4 24 27 30 46 113 128 1000
    UID = 1000

Perl module toolchain versions installed:

    Module              Have    
    ------------------- --------
    CPAN                2.00    
    CPAN::Meta          2.150010
    Cwd                 3.40    
    ExtUtils::CBuilder  0.280210
    ExtUtils::Command   1.17    
    ExtUtils::Install   1.59    
    ExtUtils::MakeMaker 6.66    
    ExtUtils::Manifest  1.63    
    ExtUtils::ParseXS   3.18    
    File::Spec          3.40    
    JSON                2.93    
    JSON::PP            2.93    
    Module::Build       0.4222  
    Module::Signature   n/a     
    Parse::CPAN::Meta   2.150010
    Test::Harness       3.39    
    Test::More          1.302085
    YAML                1.23    
    YAML::Syck          n/a     
    version             0.9902  


--

Summary of my perl5 (revision 5 version 18 subversion 4) configuration:
   
  Platform:
    osname=linux, osvers=4.8.0-36-generic, archname=x86_64-linux
    uname='linux box 4.8.0-36-generic #36~16.04.1-ubuntu smp sun feb 5 09:39:57 utc 2017 x86_64 x86_64 x86_64 gnulinux '
    config_args='-de -Dprefix=/home/simbabque/perl5/perlbrew/perls/perl-5.18.4 -Aeval:scriptdir=/home/simbabque/perl5/perlbrew/perls/perl-5.18.4/bin'
    hint=recommended, useposix=true, d_sigaction=define
    useithreads=undef, usemultiplicity=undef
    useperlio=define, d_sfio=undef, uselargefiles=define, usesocks=undef
    use64bitint=define, use64bitall=define, uselongdouble=undef
    usemymalloc=n, bincompat5005=undef
  Compiler:
    cc='cc', ccflags ='-fno-strict-aliasing -pipe -fstack-protector -I/usr/local/include -D_LARGEFILE_SOURCE -D_FILE_OFFSET_BITS=64',
    optimize='-O2',
    cppflags='-fno-strict-aliasing -pipe -fstack-protector -I/usr/local/include'
    ccversion='', gccversion='5.4.0 20160609', gccosandvers=''
    intsize=4, longsize=8, ptrsize=8, doublesize=8, byteorder=12345678
    d_longlong=define, longlongsize=8, d_longdbl=define, longdblsize=16
    ivtype='long', ivsize=8, nvtype='double', nvsize=8, Off_t='off_t', lseeksize=8
    alignbytes=8, prototype=define
  Linker and Libraries:
    ld='cc', ldflags =' -fstack-protector -L/usr/local/lib'
    libpth=/usr/local/lib /lib/x86_64-linux-gnu /lib/../lib /usr/lib/x86_64-linux-gnu /usr/lib/../lib /lib /usr/lib
    libs=-lnsl -ldl -lm -lcrypt -lutil -lc
    perllibs=-lnsl -ldl -lm -lcrypt -lutil -lc
    libc=libc-2.23.so, so=so, useshrplib=false, libperl=libperl.a
    gnulibc_version='2.23'
  Dynamic Linking:
    dlsrc=dl_dlopen.xs, dlext=so, d_dlsymun=undef, ccdlflags='-Wl,-E'
    cccdlflags='-fPIC', lddlflags='-shared -O2 -L/usr/local/lib -fstack-protector'


Characteristics of this binary (from libperl): 
  Compile-time options: HAS_TIMES PERLIO_LAYERS PERL_DONT_CREATE_GVSV
                        PERL_HASH_FUNC_ONE_AT_A_TIME_HARD PERL_MALLOC_WRAP
                        PERL_PRESERVE_IVUV PERL_SAWAMPERSAND USE_64_BIT_ALL
                        USE_64_BIT_INT USE_LARGE_FILES USE_LOCALE
                        USE_LOCALE_COLLATE USE_LOCALE_CTYPE
                        USE_LOCALE_NUMERIC USE_PERLIO USE_PERL_ATOF
  Locally applied patches:
	Devel::PatchPerl 1.48
  Built under linux
  Compiled at May 28 2017 11:52:15
  %ENV:
    PERLBREW_BASHRC_VERSION="0.78"
    PERLBREW_HOME="/home/simbabque/.perlbrew"
    PERLBREW_MANPATH="/home/simbabque/perl5/perlbrew/perls/perl-5.18.4/man"
    PERLBREW_PATH="/home/simbabque/perl5/perlbrew/bin:/home/simbabque/perl5/perlbrew/perls/perl-5.18.4/bin"
    PERLBREW_PERL="perl-5.18.4"
    PERLBREW_ROOT="/home/simbabque/perl5/perlbrew"
    PERLBREW_VERSION="0.78"
  @INC:
    /home/simbabque/perl5/perlbrew/perls/perl-5.18.4/lib/site_perl/5.18.4/x86_64-linux
    /home/simbabque/perl5/perlbrew/perls/perl-5.18.4/lib/site_perl/5.18.4
    /home/simbabque/perl5/perlbrew/perls/perl-5.18.4/lib/5.18.4/x86_64-linux
    /home/simbabque/perl5/perlbrew/perls/perl-5.18.4/lib/5.18.4
    .