Back
From: metabase:user:20a45eae-6c1a-1014-abaf-4bc2b30e56df
Subject: PASS Math-Complex-1.59 v5.8.7 Windows (Cygwin)
Date: 2017-02-13T18:24:29Z
This distribution has been tested as part of the CPAN Testers
project, supporting the Perl programming language. See
http://wiki.cpantesters.org/ for more information or email
questions to cpan-testers-discuss@perl.org
--
Dear Andrew Main (Zefram),
This is a computer-generated report for Math-Complex-1.59
on perl 5.8.7, created by CPAN-Reporter-1.2017.
Thank you for uploading your work to CPAN. Congratulations!
All tests were successful.
Sections of this report:
* Tester comments
* Program output
* Prerequisites
* Environment and other context
------------------------------
TESTER COMMENTS
------------------------------
Additional comments from tester:
this report is from an automated smoke testing program
and was not reviewed by a human for accuracy
------------------------------
PROGRAM OUTPUT
------------------------------
Output from '/usr/bin/make test':
PERL_DL_NONLAZY=1 /cygdrive/f/opt/perl5/cygwin_nt-10.0-wow/2.5.1/i686/perl/5.8.7/cygwin/bin/perl.exe "-MExtUtils::Command::MM" "-e" "test_harness(0, 'blib/lib', 'blib/arch')" t/*.t
t/Complex.t ....... ok
t/pod-coverage.t .. skipped: Test::Pod::Coverage 1.00 required for testing POD coverage
t/pod.t ........... skipped: Test::Pod 1.00 required for testing POD
t/Trig.t .......... ok
t/underbar.t ...... ok
All tests successful.
Files=5, Tests=1231, 3 wallclock secs ( 0.17 usr 0.12 sys + 1.22 cusr 1.78 csys = 3.29 CPU)
Result: PASS
------------------------------
PREREQUISITES
------------------------------
Prerequisite modules loaded:
requires:
Module Need Have
------------------- ---- --------
Config 0 0
Exporter 0 5.58
ExtUtils::MakeMaker 0 6.68
overload 0 1.03
Scalar::Util 1.11 1.14
strict 0 1.03
Test::More 0 1.302022
warnings 0 1.03
build_requires:
Module Need Have
------------------- ---- --------
ExtUtils::MakeMaker 0 6.68
configure_requires:
Module Need Have
------------------- ---- --------
ExtUtils::MakeMaker 0 6.68
------------------------------
ENVIRONMENT AND OTHER CONTEXT
------------------------------
Environment variables:
AUTOMATED_TESTING = 1
COMSPEC = C:\WINDOWS\system32\cmd.exe
LD_LIBRARY_PATH =
NUMBER_OF_PROCESSORS = 8
PATH = /opt/perl5/cygwin_nt-10.0-wow/2.5.1/i686/bin/5.8.7/cygwin:/opt/perl5/cygwin_nt-10.0-wow/2.5.1/i686/perl/5.8.7/cygwin/local/bin:/opt/perl5/cygwin_nt-10.0-wow/2.5.1/i686/perl/5.8.7/cygwin/bin:/usr/local/bin:/usr/bin
PERL5LIB = /opt/perl5/cygwin_nt-10.0-wow/2.5.1/i686/cpan/5.8.7/cygwin/build/Math-Roman-1.07-mMN6Km/blib/arch:/opt/perl5/cygwin_nt-10.0-wow/2.5.1/i686/cpan/5.8.7/cygwin/build/Math-Roman-1.07-mMN6Km/blib/lib:/opt/perl5/cygwin_nt-10.0-wow/2.5.1/i686/perl/5.8.7/cygwin/local/lib/site_perl/5.8.7:/opt/perl5/cygwin_nt-10.0-wow/2.5.1/i686/perl/5.8.7/cygwin/local/lib/5.8.7:/opt/perl5/cygwin_nt-10.0-wow/2.5.1/i686/perl/5.8.7/cygwin/local/lib/perl5
PERL5OPT =
PERL5_CPANPLUS_IS_RUNNING = 12216
PERL5_CPAN_IS_RUNNING = 12216
PERL_CPAN_REPORTER_CONFIG = /opt/perl5/cygwin_nt-10.0-wow/2.5.1/i686/cpan/5.8.7/cygwin/reporter/config.ini
PERL_CPAN_REPORTER_DIR = /opt/perl5/cygwin_nt-10.0-wow/2.5.1/i686/cpan/5.8.7/cygwin/reporter
PERL_EXTUTILS_AUTOINSTALL = 1
PERL_MM_USE_DEFAULT = 1
PERL_MY_PREFIX = /opt/perl5
PERL_MY_SOURCE_DIR = /cygdrive/e/src/perl
PERL_TEST_CRITIC = 1
PERL_TEST_CRITIC = 1
PERL_TEST_POD = 1
PERL_TEST_POD = 1
POD_TESTING = 1
POD_TESTS = 1
PROCESSOR_IDENTIFIER = Intel64 Family 6 Model 42 Stepping 7, GenuineIntel
SHELL = /usr/bin/bash
TEMP = /tmp
TERM = xterm
Perl special variables (and OS-specific diagnostics, for MSWin32):
$^X = /cygdrive/f/opt/perl5/cygwin_nt-10.0-wow/2.5.1/i686/perl/5.8.7/cygwin/bin/perl
$UID/$EUID = 197609 / 197609
$GID = 197609 262180 66048 113 68380 15 11 66049 4 545 401408
$EGID = 197609 262180 66048 113 68380 15 11 66049 4 545 401408
Perl module toolchain versions installed:
Module Have
------------------- --------
CPAN 2.10
CPAN::Meta 2.112621
Cwd 3.33
ExtUtils::CBuilder n/a
ExtUtils::Command 1.16
ExtUtils::Install 1.54
ExtUtils::MakeMaker 6.68
ExtUtils::Manifest 1.60
ExtUtils::ParseXS n/a
File::Spec 3.33
JSON n/a
JSON::PP 2.27200
Module::Build n/a
Module::Signature n/a
Parse::CPAN::Meta 1.4401
Test::Harness 3.36
Test::More 1.302022
YAML n/a
YAML::Syck n/a
version 0.88
--
Summary of my perl5 (revision 5 version 8 subversion 7) configuration:
Platform:
osname=cygwin, osvers=2.5.1(0.29753), archname=cygwin
uname='cygwin_nt-10.0-wow rigel 2.5.1(0.29753) 2016-04-21 22:12 i686 cygwin '
config_args='-de -Dmksymlinks -Dcc=gcc -Uinc_version_list -Uinstallusrbinperl -Uusethreads -Uusemultiplicity -Uuse64bitint -Uuselongdouble -Dprefix=/opt/perl5/cygwin_nt-10.0-wow/2.5.1/i686/perl/5.8.7/cygwin'
hint=recommended, useposix=true, d_sigaction=define
usethreads=undef use5005threads=undef useithreads=undef usemultiplicity=undef
useperlio=define d_sfio=undef uselargefiles=define usesocks=undef
use64bitint=undef use64bitall=undef uselongdouble=undef
usemymalloc=y, bincompat5005=undef
Compiler:
cc='gcc', ccflags ='-DPERL_USE_SAFE_PUTENV -fno-strict-aliasing -pipe',
optimize='-O2',
cppflags='-DPERL_USE_SAFE_PUTENV -fno-strict-aliasing -pipe'
ccversion='', gccversion='5.3.0', gccosandvers=''
intsize=4, longsize=4, ptrsize=4, doublesize=8, byteorder=1234
d_longlong=define, longlongsize=8, d_longdbl=define, longdblsize=12
ivtype='long', ivsize=4, nvtype='double', nvsize=8, Off_t='off_t', lseeksize=8
alignbytes=8, prototype=define
Linker and Libraries:
ld='ld2', ldflags =' -L/usr/local/lib'
libpth=/usr/local/lib /usr/lib /lib
libs=-ldl
perllibs=-ldl
libc=/usr/lib/libc.a, so=dll, useshrplib=true, libperl=libperl.a
gnulibc_version=''
Dynamic Linking:
dlsrc=dl_dlopen.xs, dlext=dll, d_dlsymun=undef, ccdlflags=' '
cccdlflags=' ', lddlflags=' -L/usr/local/lib'
Characteristics of this binary (from libperl):
Compile-time options: USE_LARGE_FILES
Built under cygwin
Compiled at May 30 2016 03:52:36
%ENV:
PERL="/cygdrive/f/opt/perl5/cygwin_nt-10.0-wow/2.5.1/i686/perl/5.8.7/cygwin/bin/perl"
PERL5LIB="/opt/perl5/cygwin_nt-10.0-wow/2.5.1/i686/cpan/5.8.7/cygwin/build/Math-Roman-1.07-mMN6Km/blib/arch:/opt/perl5/cygwin_nt-10.0-wow/2.5.1/i686/cpan/5.8.7/cygwin/build/Math-Roman-1.07-mMN6Km/blib/lib:/opt/perl5/cygwin_nt-10.0-wow/2.5.1/i686/perl/5.8.7/cygwin/local/lib/site_perl/5.8.7:/opt/perl5/cygwin_nt-10.0-wow/2.5.1/i686/perl/5.8.7/cygwin/local/lib/5.8.7:/opt/perl5/cygwin_nt-10.0-wow/2.5.1/i686/perl/5.8.7/cygwin/local/lib/perl5"
PERL5OPT=""
PERL5_CPANPLUS_IS_RUNNING="12216"
PERL5_CPAN_IS_EXECUTING="/opt/perl5/cygwin_nt-10.0-wow/2.5.1/i686/cpan/5.8.7/cygwin/build/Math-Complex-1.59-6EAjAa/Makefile.PL"
PERL5_CPAN_IS_RUNNING="12216"
PERL_AUTOINSTALL="--defaultdeps"
PERL_CPAN_REPORTER_CONFIG="/opt/perl5/cygwin_nt-10.0-wow/2.5.1/i686/cpan/5.8.7/cygwin/reporter/config.ini"
PERL_CPAN_REPORTER_DIR="/opt/perl5/cygwin_nt-10.0-wow/2.5.1/i686/cpan/5.8.7/cygwin/reporter"
PERL_EXTUTILS_AUTOINSTALL="1"
PERL_MM_USE_DEFAULT="1"
PERL_MY_PREFIX="/opt/perl5"
PERL_MY_SOURCE_DIR="/cygdrive/e/src/perl"
PERL_TEST_CRITIC="1"
PERL_TEST_POD="1"
CYGWIN=""
@INC:
/opt/perl5/cygwin_nt-10.0-wow/2.5.1/i686/cpan/5.8.7/cygwin/build/Math-Roman-1.07-mMN6Km/blib/arch
/opt/perl5/cygwin_nt-10.0-wow/2.5.1/i686/cpan/5.8.7/cygwin/build/Math-Roman-1.07-mMN6Km/blib/lib
/opt/perl5/cygwin_nt-10.0-wow/2.5.1/i686/perl/5.8.7/cygwin/local/lib/site_perl/5.8.7/cygwin
/opt/perl5/cygwin_nt-10.0-wow/2.5.1/i686/perl/5.8.7/cygwin/local/lib/site_perl/5.8.7
/opt/perl5/cygwin_nt-10.0-wow/2.5.1/i686/perl/5.8.7/cygwin/local/lib/5.8.7/cygwin
/opt/perl5/cygwin_nt-10.0-wow/2.5.1/i686/perl/5.8.7/cygwin/local/lib/5.8.7
/opt/perl5/cygwin_nt-10.0-wow/2.5.1/i686/perl/5.8.7/cygwin/local/lib/perl5
/opt/perl5/cygwin_nt-10.0-wow/2.5.1/i686/perl/5.8.7/cygwin/lib/5.8.7/cygwin
/opt/perl5/cygwin_nt-10.0-wow/2.5.1/i686/perl/5.8.7/cygwin/lib/5.8.7
/opt/perl5/cygwin_nt-10.0-wow/2.5.1/i686/perl/5.8.7/cygwin/lib/site_perl/5.8.7/cygwin
/opt/perl5/cygwin_nt-10.0-wow/2.5.1/i686/perl/5.8.7/cygwin/lib/site_perl/5.8.7
/opt/perl5/cygwin_nt-10.0-wow/2.5.1/i686/perl/5.8.7/cygwin/lib/site_perl
.