Module-PrintUsed v0.06 Perl 5 v5.38.0 x86_64-linux

Status
Pass
From
Slaven Rezić
Dist
Module-PrintUsed v0.06
Platform
Perl 5 v5.38.0 x86_64-linux
Date
2024-02-11 09:56:30
ID
d4b6fce6-c8c3-11ee-bee5-ec206e8775ea
This distribution has been tested as part of the CPAN Testers
project, supporting the Perl programming language.  See
http://wiki.cpantesters.org/ for more information or email
questions to cpan-testers-discuss@perl.org


--
Dear Christian Renz,

This is a computer-generated report for Module-PrintUsed-0.06
on perl 5.38.0, created by CPAN-Reporter-1.2019.

Thank you for uploading your work to CPAN.  Congratulations!
All tests were successful.

Sections of this report:

    * Tester comments
    * Program output
    * Prerequisites
    * Environment and other context

------------------------------
TESTER COMMENTS
------------------------------

Additional comments from tester:

none provided

------------------------------
PROGRAM OUTPUT
------------------------------

Output from '/usr/bin/make test':

PERL_DL_NONLAZY=1 "/opt/perl-5.38.0/bin/perl" "-MExtUtils::Command::MM" "-MTest::Harness" "-e" "undef *Test::Harness::Switches; test_harness(0, 'blib/lib', 'blib/arch')" t/*.t

Modules used by t/1-use.t:
 - Carp                      1.54     /opt/perl-5.38.0/lib/5.38.0/Carp.pm
 - Exporter                  5.78     /opt/perl-5.38.0/lib/site_perl/5.38.0/Exporter.pm
 - Exporter::Heavy           5.78     /opt/perl-5.38.0/lib/site_perl/5.38.0/Exporter/Heavy.pm
 - Module::PrintUsed         0.06     /home/cpansand/.cpan/build/2024021109/Module-PrintUsed-0.06-0/blib/lib/Module/PrintUsed.pm
 - Test                      1.31     /opt/perl-5.38.0/lib/5.38.0/Test.pm
 - overloading               0.02     /opt/perl-5.38.0/lib/5.38.0/overloading.pm
 - strict                    1.12     /opt/perl-5.38.0/lib/5.38.0/strict.pm
 - warnings                  1.65     /opt/perl-5.38.0/lib/5.38.0/warnings.pm

t/1-use.t ......... ok

Modules used by t/2-modules.t:
 - Carp                      1.54     /opt/perl-5.38.0/lib/5.38.0/Carp.pm
 - Exporter                  5.78     /opt/perl-5.38.0/lib/site_perl/5.38.0/Exporter.pm
 - Exporter::Heavy           5.78     /opt/perl-5.38.0/lib/site_perl/5.38.0/Exporter/Heavy.pm
 - Module::PrintUsed         0.06     /home/cpansand/.cpan/build/2024021109/Module-PrintUsed-0.06-0/blib/lib/Module/PrintUsed.pm
 - Test                      1.31     /opt/perl-5.38.0/lib/5.38.0/Test.pm
 - overloading               0.02     /opt/perl-5.38.0/lib/5.38.0/overloading.pm
 - strict                    1.12     /opt/perl-5.38.0/lib/5.38.0/strict.pm
 - warnings                  1.65     /opt/perl-5.38.0/lib/5.38.0/warnings.pm

t/2-modules.t ..... ok
t/meta.t .......... ok

Modules used by t/pod-coverage.t:
 - B                         1.88     /opt/perl-5.38.0/lib/5.38.0/x86_64-linux/B.pm
 - Carp                      1.54     /opt/perl-5.38.0/lib/5.38.0/Carp.pm
 - Config                    5.038000 /opt/perl-5.38.0/lib/5.38.0/x86_64-linux/Config.pm
 - Config_git.pl                      /opt/perl-5.38.0/lib/5.38.0/x86_64-linux/Config_git.pl
 - Config_heavy.pl                    /opt/perl-5.38.0/lib/5.38.0/x86_64-linux/Config_heavy.pl
 - Cwd                       3.89     /opt/perl-5.38.0/lib/5.38.0/x86_64-linux/Cwd.pm
 - Devel::Symdump            2.18     /opt/perl-5.38.0/lib/site_perl/5.38.0/Devel/Symdump.pm
 - Exporter                  5.78     /opt/perl-5.38.0/lib/site_perl/5.38.0/Exporter.pm
 - Exporter::Heavy           5.78     /opt/perl-5.38.0/lib/site_perl/5.38.0/Exporter/Heavy.pm
 - Fcntl                     1.15     /opt/perl-5.38.0/lib/5.38.0/x86_64-linux/Fcntl.pm
 - File::Basename            2.86     /opt/perl-5.38.0/lib/5.38.0/File/Basename.pm
 - File::Find                1.43     /opt/perl-5.38.0/lib/5.38.0/File/Find.pm
 - File::Spec                3.88     /opt/perl-5.38.0/lib/5.38.0/x86_64-linux/File/Spec.pm
 - File::Spec::Unix          3.88     /opt/perl-5.38.0/lib/5.38.0/x86_64-linux/File/Spec/Unix.pm
 - List::Util                1.63     /opt/perl-5.38.0/lib/5.38.0/x86_64-linux/List/Util.pm
 - Module::PrintUsed         0.06     /home/cpansand/.cpan/build/2024021109/Module-PrintUsed-0.06-0/blib/lib/Module/PrintUsed.pm
 - POSIX                     2.13     /opt/perl-5.38.0/lib/5.38.0/x86_64-linux/POSIX.pm
 - PerlIO                    1.12     /opt/perl-5.38.0/lib/5.38.0/PerlIO.pm
 - Pod::Coverage             0.23     /opt/perl-5.38.0/lib/site_perl/5.38.0/Pod/Coverage.pm
 - Pod::Find                 1.66     /opt/perl-5.38.0/lib/5.38.0/Pod/Find.pm
 - Pod::InputObjects         1.66     /opt/perl-5.38.0/lib/5.38.0/Pod/InputObjects.pm
 - Pod::Parser               1.66     /opt/perl-5.38.0/lib/5.38.0/Pod/Parser.pm
 - Scalar::Util              1.63     /opt/perl-5.38.0/lib/5.38.0/x86_64-linux/Scalar/Util.pm
 - Test::Builder             1.302196 /opt/perl-5.38.0/lib/site_perl/5.38.0/Test/Builder.pm
 - Test::Builder::Formatter  1.302196 /opt/perl-5.38.0/lib/site_perl/5.38.0/Test/Builder/Formatter.pm
 - Test::Builder::Module     1.302196 /opt/perl-5.38.0/lib/site_perl/5.38.0/Test/Builder/Module.pm
 - Test::Builder::TodoDiag   1.302196 /opt/perl-5.38.0/lib/site_perl/5.38.0/Test/Builder/TodoDiag.pm
 - Test::More                1.302196 /opt/perl-5.38.0/lib/site_perl/5.38.0/Test/More.pm
 - Test::Pod::Coverage       1.10     /opt/perl-5.38.0/lib/site_perl/5.38.0/Test/Pod/Coverage.pm
 - Test2::API                1.302196 /opt/perl-5.38.0/lib/site_perl/5.38.0/Test2/API.pm
 - Test2::API::Context       1.302196 /opt/perl-5.38.0/lib/site_perl/5.38.0/Test2/API/Context.pm
 - Test2::API::Instance      1.302196 /opt/perl-5.38.0/lib/site_perl/5.38.0/Test2/API/Instance.pm
 - Test2::API::Stack         1.302196 /opt/perl-5.38.0/lib/site_perl/5.38.0/Test2/API/Stack.pm
 - Test2::Event              1.302196 /opt/perl-5.38.0/lib/site_perl/5.38.0/Test2/Event.pm
 - Test2::Event::Bail        1.302196 /opt/perl-5.38.0/lib/site_perl/5.38.0/Test2/Event/Bail.pm
 - Test2::Event::Diag        1.302196 /opt/perl-5.38.0/lib/site_perl/5.38.0/Test2/Event/Diag.pm
 - Test2::Event::Exception   1.302196 /opt/perl-5.38.0/lib/site_perl/5.38.0/Test2/Event/Exception.pm
 - Test2::Event::Fail        1.302196 /opt/perl-5.38.0/lib/site_perl/5.38.0/Test2/Event/Fail.pm
 - Test2::Event::Note        1.302196 /opt/perl-5.38.0/lib/site_perl/5.38.0/Test2/Event/Note.pm
 - Test2::Event::Ok          1.302196 /opt/perl-5.38.0/lib/site_perl/5.38.0/Test2/Event/Ok.pm
 - Test2::Event::Pass        1.302196 /opt/perl-5.38.0/lib/site_perl/5.38.0/Test2/Event/Pass.pm
 - Test2::Event::Plan        1.302196 /opt/perl-5.38.0/lib/site_perl/5.38.0/Test2/Event/Plan.pm
 - Test2::Event::Skip        1.302196 /opt/perl-5.38.0/lib/site_perl/5.38.0/Test2/Event/Skip.pm
 - Test2::Event::Subtest     1.302196 /opt/perl-5.38.0/lib/site_perl/5.38.0/Test2/Event/Subtest.pm
 - Test2::Event::V2          1.302196 /opt/perl-5.38.0/lib/site_perl/5.38.0/Test2/Event/V2.pm
 - Test2::Event::Waiting     1.302196 /opt/perl-5.38.0/lib/site_perl/5.38.0/Test2/Event/Waiting.pm
 - Test2::EventFacet         1.302196 /opt/perl-5.38.0/lib/site_perl/5.38.0/Test2/EventFacet.pm
 - Test2::EventFacet::About  1.302196 /opt/perl-5.38.0/lib/site_perl/5.38.0/Test2/EventFacet/About.pm
 - Test2::EventFacet::Amnesty 1.302196 /opt/perl-5.38.0/lib/site_perl/5.38.0/Test2/EventFacet/Amnesty.pm
 - Test2::EventFacet::Assert 1.302196 /opt/perl-5.38.0/lib/site_perl/5.38.0/Test2/EventFacet/Assert.pm
 - Test2::EventFacet::Control 1.302196 /opt/perl-5.38.0/lib/site_perl/5.38.0/Test2/EventFacet/Control.pm
 - Test2::EventFacet::Error  1.302196 /opt/perl-5.38.0/lib/site_perl/5.38.0/Test2/EventFacet/Error.pm
 - Test2::EventFacet::Hub    1.302196 /opt/perl-5.38.0/lib/site_perl/5.38.0/Test2/EventFacet/Hub.pm
 - Test2::EventFacet::Info   1.302196 /opt/perl-5.38.0/lib/site_perl/5.38.0/Test2/EventFacet/Info.pm
 - Test2::EventFacet::Meta   1.302196 /opt/perl-5.38.0/lib/site_perl/5.38.0/Test2/EventFacet/Meta.pm
 - Test2::EventFacet::Parent 1.302196 /opt/perl-5.38.0/lib/site_perl/5.38.0/Test2/EventFacet/Parent.pm
 - Test2::EventFacet::Plan   1.302196 /opt/perl-5.38.0/lib/site_perl/5.38.0/Test2/EventFacet/Plan.pm
 - Test2::EventFacet::Trace  1.302196 /opt/perl-5.38.0/lib/site_perl/5.38.0/Test2/EventFacet/Trace.pm
 - Test2::Formatter          1.302196 /opt/perl-5.38.0/lib/site_perl/5.38.0/Test2/Formatter.pm
 - Test2::Formatter::TAP     1.302196 /opt/perl-5.38.0/lib/site_perl/5.38.0/Test2/Formatter/TAP.pm
 - Test2::Hub                1.302196 /opt/perl-5.38.0/lib/site_perl/5.38.0/Test2/Hub.pm
 - Test2::Hub::Interceptor   1.302196 /opt/perl-5.38.0/lib/site_perl/5.38.0/Test2/Hub/Interceptor.pm
 - Test2::Hub::Interceptor::Terminator 1.302196 /opt/perl-5.38.0/lib/site_perl/5.38.0/Test2/Hub/Interceptor/Terminator.pm
 - Test2::Hub::Subtest       1.302196 /opt/perl-5.38.0/lib/site_perl/5.38.0/Test2/Hub/Subtest.pm
 - Test2::Util               1.302196 /opt/perl-5.38.0/lib/site_perl/5.38.0/Test2/Util.pm
 - Test2::Util::ExternalMeta 1.302196 /opt/perl-5.38.0/lib/site_perl/5.38.0/Test2/Util/ExternalMeta.pm
 - Test2::Util::Facets2Legacy 1.302196 /opt/perl-5.38.0/lib/site_perl/5.38.0/Test2/Util/Facets2Legacy.pm
 - Test2::Util::HashBase     1.302196 /opt/perl-5.38.0/lib/site_perl/5.38.0/Test2/Util/HashBase.pm
 - Test2::Util::Trace        1.302196 /opt/perl-5.38.0/lib/site_perl/5.38.0/Test2/Util/Trace.pm
 - Tie::Hash                 1.06     /opt/perl-5.38.0/lib/5.38.0/Tie/Hash.pm
 - Time::HiRes               1.9775   /opt/perl-5.38.0/lib/5.38.0/x86_64-linux/Time/HiRes.pm
 - XSLoader                  0.32     /opt/perl-5.38.0/lib/5.38.0/XSLoader.pm
 - base                      2.27     /opt/perl-5.38.0/lib/5.38.0/base.pm
 - constant                  1.33     /opt/perl-5.38.0/lib/5.38.0/constant.pm
 - mro                       1.28     /opt/perl-5.38.0/lib/5.38.0/x86_64-linux/mro.pm
 - overloading               0.02     /opt/perl-5.38.0/lib/5.38.0/overloading.pm
 - re                        0.44     /opt/perl-5.38.0/lib/5.38.0/x86_64-linux/re.pm
 - strict                    1.12     /opt/perl-5.38.0/lib/5.38.0/strict.pm
 - vars                      1.05     /opt/perl-5.38.0/lib/5.38.0/vars.pm
 - warnings                  1.65     /opt/perl-5.38.0/lib/5.38.0/warnings.pm
 - warnings::register        1.05     /opt/perl-5.38.0/lib/5.38.0/warnings/register.pm

t/pod-coverage.t .. ok
t/pod.t ........... ok
All tests successful.
Files=5, Tests=8,  0 wallclock secs ( 0.02 usr  0.00 sys +  0.15 cusr  0.02 csys =  0.19 CPU)
Result: PASS

------------------------------
PREREQUISITES
------------------------------

Prerequisite modules loaded:

requires:

    Module              Need  Have    
    ------------------- ----- --------
    perl                5.006 5.038000

build_requires:

    Module              Need  Have    
    ------------------- ----- --------
    ExtUtils::MakeMaker 0     7.70    

configure_requires:

    Module              Need  Have    
    ------------------- ----- --------
    ExtUtils::MakeMaker 0     7.70    


------------------------------
ENVIRONMENT AND OTHER CONTEXT
------------------------------

Environment variables:

    LANG = C
    PATH = /usr/local/bin:/usr/bin:/bin:/usr/local/sbin:/usr/sbin:/sbin:/home/cpansand/bin/linux-gnu:/home/cpansand/bin/sh:/home/cpansand/bin:/usr/games:/home/cpansand/devel:/home/eserte/src/srezic-misc/scripts
    PERL5LIB = 
    PERL5OPT = 
    PERL5_CPANPLUS_IS_RUNNING = 1249462
    PERL5_CPAN_IS_RUNNING = 1249462
    PERL5_CPAN_IS_RUNNING_IN_RECURSION = 1249450,1249462
    PERLDOC = -MPod::Perldoc::ToTextOverstrike
    PERL_BATCH = yes
    PERL_CANARY_STABILITY_NOPROMPT = 1
    PERL_CPAN_REPORTER_CONFIG = /var/tmp/cpansmoker-1023/2024021109/cpanreporter_000_config.ini
    PERL_EXTUTILS_AUTOINSTALL = --defaultdeps
    PERL_USE_UNSAFE_INC = 1
    SHELL = /usr/bin/zsh
    TERM = screen
    TMPDIR = /var/tmp/cpansmoker-1023/2024021109

Perl special variables (and OS-specific diagnostics, for MSWin32):

    $^X = /opt/perl-5.38.0/bin/perl
    $UID/$EUID = 1023 / 1023
    $GID = 1023 1023
    $EGID = 1023 1023

Perl module toolchain versions installed:

    Module              Have    
    ------------------- --------
    CPAN                2.36    
    CPAN::Meta          2.150010
    Cwd                 3.89    
    ExtUtils::CBuilder  0.280238
    ExtUtils::Command   7.70    
    ExtUtils::Install   2.22    
    ExtUtils::MakeMaker 7.70    
    ExtUtils::Manifest  1.73    
    ExtUtils::ParseXS   3.51    
    File::Spec          3.88    
    JSON                4.10    
    JSON::PP            4.16    
    Module::Build       0.4234  
    Module::Signature   0.88    
    Parse::CPAN::Meta   2.150010
    Test2               1.302196
    Test::Harness       3.48    
    Test::More          1.302196
    YAML                1.31    
    YAML::Syck          1.34    
    version             0.9929  


--

Summary of my perl5 (revision 5 version 38 subversion 0) configuration:
   
  Platform:
    osname=linux
    osvers=5.15.0-76-generic
    archname=x86_64-linux
    uname='linux cloud14.bbbike.org 5.15.0-76-generic #83-ubuntu smp thu jun 15 19:16:32 utc 2023 x86_64 x86_64 x86_64 gnulinux '
    config_args='-ds -e -Dprefix=/opt/perl-5.38.0 -Dcf_email=srezic@cpan.org'
    hint=recommended
    useposix=true
    d_sigaction=define
    useithreads=undef
    usemultiplicity=undef
    use64bitint=define
    use64bitall=define
    uselongdouble=undef
    usemymalloc=n
    default_inc_excludes_dot=define
  Compiler:
    cc='cc'
    ccflags ='-fwrapv -fno-strict-aliasing -pipe -fstack-protector-strong -I/usr/local/include -D_LARGEFILE_SOURCE -D_FILE_OFFSET_BITS=64'
    optimize='-O2'
    cppflags='-fwrapv -fno-strict-aliasing -pipe -fstack-protector-strong -I/usr/local/include'
    ccversion=''
    gccversion='11.3.0'
    gccosandvers=''
    intsize=4
    longsize=8
    ptrsize=8
    doublesize=8
    byteorder=12345678
    doublekind=3
    d_longlong=define
    longlongsize=8
    d_longdbl=define
    longdblsize=16
    longdblkind=3
    ivtype='long'
    ivsize=8
    nvtype='double'
    nvsize=8
    Off_t='off_t'
    lseeksize=8
    alignbytes=8
    prototype=define
  Linker and Libraries:
    ld='cc'
    ldflags =' -fstack-protector-strong -L/usr/local/lib'
    libpth=/usr/local/lib /usr/lib/x86_64-linux-gnu /usr/lib /usr/lib64
    libs=-lpthread -lgdbm -ldb -ldl -lm -lcrypt -lutil -lc
    perllibs=-lpthread -ldl -lm -lcrypt -lutil -lc
    libc=/lib/x86_64-linux-gnu/libc.so.6
    so=so
    useshrplib=false
    libperl=libperl.a
    gnulibc_version='2.35'
  Dynamic Linking:
    dlsrc=dl_dlopen.xs
    dlext=so
    d_dlsymun=undef
    ccdlflags='-Wl,-E'
    cccdlflags='-fPIC'
    lddlflags='-shared -O2 -L/usr/local/lib -fstack-protector-strong'


Characteristics of this binary (from libperl): 
  Compile-time options:
    HAS_LONG_DOUBLE
    HAS_STRTOLD
    HAS_TIMES
    PERLIO_LAYERS
    PERL_COPY_ON_WRITE
    PERL_DONT_CREATE_GVSV
    PERL_HASH_FUNC_SIPHASH13
    PERL_HASH_USE_SBOX32
    PERL_MALLOC_WRAP
    PERL_OP_PARENT
    PERL_PRESERVE_IVUV
    PERL_USE_SAFE_PUTENV
    USE_64_BIT_ALL
    USE_64_BIT_INT
    USE_LARGE_FILES
    USE_LOCALE
    USE_LOCALE_COLLATE
    USE_LOCALE_CTYPE
    USE_LOCALE_NUMERIC
    USE_LOCALE_TIME
    USE_PERLIO
    USE_PERL_ATOF
  Built under linux
  Compiled at Jul  8 2023 12:27:40
  %ENV:
    PERL5LIB=""
    PERL5OPT=""
    PERL5_CPANPLUS_IS_RUNNING="1249462"
    PERL5_CPAN_IS_RUNNING="1249462"
    PERL5_CPAN_IS_RUNNING_IN_RECURSION="1249450,1249462"
    PERLDOC="-MPod::Perldoc::ToTextOverstrike"
    PERL_BATCH="yes"
    PERL_CANARY_STABILITY_NOPROMPT="1"
    PERL_CPAN_REPORTER_CONFIG="/var/tmp/cpansmoker-1023/2024021109/cpanreporter_000_config.ini"
    PERL_EXTUTILS_AUTOINSTALL="--defaultdeps"
    PERL_USE_UNSAFE_INC="1"
  @INC:
    /opt/perl-5.38.0/lib/site_perl/5.38.0/x86_64-linux
    /opt/perl-5.38.0/lib/site_perl/5.38.0
    /opt/perl-5.38.0/lib/5.38.0/x86_64-linux
    /opt/perl-5.38.0/lib/5.38.0
    .