MooseX-MethodAttributes v0.32 Perl 5 v5.28.3 x86_64-linux-thread-multi
- Status
- Pass
- From
- Nigel Horne
- Dist
-
MooseX-MethodAttributes v0.32
- Platform
- Perl 5 v5.28.3 x86_64-linux-thread-multi
- Date
- 2020-11-01 19:24:16
- ID
- d4b7baec-1c77-11eb-a36f-f3e4ac3d812b
This distribution has been tested as part of the CPAN Testers
project, supporting the Perl programming language. See
http://wiki.cpantesters.org/ for more information or email
questions to cpan-testers-discuss@perl.org
--
Dear Karen Etheridge,
This is a computer-generated report for MooseX-MethodAttributes-0.32
on perl 5.28.3, created by CPAN-Reporter-1.2018.
Thank you for uploading your work to CPAN. Congratulations!
All tests were successful.
Sections of this report:
* Tester comments
* Program output
* Prerequisites
* Environment and other context
------------------------------
TESTER COMMENTS
------------------------------
Additional comments from tester:
this report is from an automated smoke testing program
and was not reviewed by a human for accuracy
------------------------------
PROGRAM OUTPUT
------------------------------
Output from '/usr/bin/make test':
PERL_DL_NONLAZY=1 "/home/smoker/perl5/perlbrew/perls/perl-5.28.3-thread/bin/perl5.28.3" "-MExtUtils::Command::MM" "-MTest::Harness" "-e" "undef *Test::Harness::Switches; test_harness(0, 'blib/lib', 'blib/arch')" t/*.t
#
# Versions for all modules listed in MYMETA.json (including optional ones):
#
# === Configure Requires ===
#
# Module Want Have
# ------------------- ---- ----
# ExtUtils::MakeMaker any 7.44
#
# === Build Requires ===
#
# Module Want Have
# ------------------- ---- ----
# ExtUtils::MakeMaker any 7.44
#
# === Test Requires ===
#
# Module Want Have
# --------------------------- ---- --------
# ExtUtils::MakeMaker any 7.44
# File::Spec any 3.75
# Moose::Meta::Class any 2.2012
# MooseX::Role::Parameterized any 1.11
# Test::Fatal any 0.014
# Test::More 0.88 1.302175
# Test::Needs any 0.002006
# base any 2.27
# lib any 0.64
# strict any 1.11
# warnings any 1.42
#
# === Test Recommends ===
#
# Module Want Have
# ---------- -------- --------
# CPAN::Meta 2.120900 2.150010
#
# === Runtime Requires ===
#
# Module Want Have
# --------------------- ---- ------
# Carp any 1.50
# Moose any 2.2012
# Moose::Exporter any 2.2012
# Moose::Role any 2.2012
# Moose::Util any 2.2012
# Moose::Util::MetaRole any 2.2012
# namespace::autoclean 0.08 0.29
#
# === Other Modules ===
#
# Module Have
# ----------------- -------
# Catalyst::Runtime missing
# Encode 3.06
# File::Temp 0.2309
# JSON::PP 2.97001
# Module::Runtime 0.016
# Pod::Coverage 0.23
# Sub::Name 0.26
# YAML 1.30
# autodie 2.32
#
t/00-report-prereqs.t .................. ok
t/basic.t .............................. ok
t/calling.t ............................ ok
t/catalyst.t ........................... ok
t/catalyst_role.t ...................... ok
t/catalyst_role_method_exclusion.t ..... ok
t/catalyst_role_preexist_methods.t ..... ok
t/inherited.t .......................... ok
t/inherited_non_moose_multilevel.t ..... ok
t/late_reinitialize.t .................. ok
t/multiple_roles.t ..................... ok
t/multiple_roles_astrait.t ............. ok
t/override_method_with_no_attribute.t .. ok
t/param_role.t ......................... ok
t/role.t ............................... ok
t/role_applied.t ....................... ok
t/role_comp.t .......................... ok
t/role_in_role.t ....................... ok
t/role_in_role_more.t .................. ok
t/role_method_conflict_detection.t ..... ok
t/role_with_anon_class.t ............... ok
t/zzz-check-breaks.t ................... ok
All tests successful.
Test Summary Report
-------------------
t/late_reinitialize.t (Wstat: 0 Tests: 10 Failed: 0)
TODO passed: 1-10
Files=22, Tests=144, 17 wallclock secs ( 0.19 usr 0.10 sys + 22.94 cusr 6.69 csys = 29.92 CPU)
Result: PASS
------------------------------
PREREQUISITES
------------------------------
Prerequisite modules loaded:
requires:
Module Need Have
--------------------------- -------- --------
Carp 0 1.50
Moose 0 2.2012
Moose::Exporter 0 2.2012
Moose::Role 0 2.2012
Moose::Util 0 2.2012
Moose::Util::MetaRole 0 2.2012
namespace::autoclean 0.08 0.29
perl 5.006 5.028003
build_requires:
Module Need Have
--------------------------- -------- --------
base 0 2.27
ExtUtils::MakeMaker 0 7.44
File::Spec 0 3.75
lib 0 0.64
Moose::Meta::Class 0 2.2012
MooseX::Role::Parameterized 0 1.11
strict 0 1.11
Test::Fatal 0 0.014
Test::More 0.88 1.302175
Test::Needs 0 0.002006
warnings 0 1.42
configure_requires:
Module Need Have
--------------------------- -------- --------
ExtUtils::MakeMaker 0 7.44
perl 5.006 5.028003
opt_build_requires:
Module Need Have
--------------------------- -------- --------
CPAN::Meta 2.120900 2.150010
------------------------------
ENVIRONMENT AND OTHER CONTEXT
------------------------------
Environment variables:
AUTOMATED_TESTING = 1
HARNESS_OPTIONS = c:j2
PATH = /home/smoker/perl5/perlbrew/bin:/home/smoker/perl5/perlbrew/perls/perl-5.28.3-thread/bin:/usr/local/sbin:/usr/local/bin:/usr/sbin:/usr/bin:/sbin:/bin:
PERL5LIB = /home/smoker/.cpan/build/MooseX-Emulate-Class-Accessor-Fast-0.009032-0/blib/arch:/home/smoker/.cpan/build/MooseX-Emulate-Class-Accessor-Fast-0.009032-0/blib/lib:/home/smoker/.cpan/build/Hash-MultiValue-0.16-0/blib/arch:/home/smoker/.cpan/build/Hash-MultiValue-0.16-0/blib/lib:/home/smoker/.cpan/build/HTTP-Body-1.22-0/blib/arch:/home/smoker/.cpan/build/HTTP-Body-1.22-0/blib/lib:/home/smoker/.cpan/build/Class-C3-Adopt-NEXT-0.14-0/blib/arch:/home/smoker/.cpan/build/Class-C3-Adopt-NEXT-0.14-0/blib/lib:/home/smoker/.cpan/build/CGI-Struct-1.21-0/blib/arch:/home/smoker/.cpan/build/CGI-Struct-1.21-0/blib/lib:/home/smoker/.cpan/build/CGI-Simple-1.25-0/blib/arch:/home/smoker/.cpan/build/CGI-Simple-1.25-0/blib/lib:/home/smoker/.cpan/build/InfluxDB-Client-Simple-0.06-0/blib/arch:/home/smoker/.cpan/build/InfluxDB-Client-Simple-0.06-0/blib/lib
PERL5OPT =
PERL5_CPANPLUS_IS_RUNNING = 30
PERL5_CPAN_IS_RUNNING = 30
PERL5_CPAN_IS_RUNNING_IN_RECURSION = 1,30
PERLBREW_HOME = /home/smoker/.perlbrew
PERLBREW_MANPATH = /home/smoker/perl5/perlbrew/perls/perl-5.28.3-thread/man
PERLBREW_PATH = /home/smoker/perl5/perlbrew/bin:/home/smoker/perl5/perlbrew/perls/perl-5.28.3-thread/bin
PERLBREW_PERL = perl-5.28.3-thread
PERLBREW_ROOT = /home/smoker/perl5/perlbrew
PERLBREW_SHELLRC_VERSION = 0.88
PERLBREW_VERSION = 0.88
PERL_USE_UNSAFE_INC = 1
SHELL = /bin/bash
TERM = xterm
TMPDIR = /tmp/testwrapper.17
Perl special variables (and OS-specific diagnostics, for MSWin32):
$^X = /home/smoker/perl5/perlbrew/perls/perl-5.28.3-thread/bin/perl5.28.3
$UID/$EUID = 1000 / 1000
$GID = 1000
$EGID = 1000
Perl module toolchain versions installed:
Module Have
------------------- --------
CPAN 2.20
CPAN::Meta 2.150010
Cwd 3.75
ExtUtils::CBuilder 0.280230
ExtUtils::Command 7.44
ExtUtils::Install 2.14
ExtUtils::MakeMaker 7.44
ExtUtils::Manifest 1.70
ExtUtils::ParseXS 3.39
File::Spec 3.75
JSON 4.02
JSON::PP 2.97001
Module::Build 0.4231
Module::Signature n/a
Parse::CPAN::Meta 2.150010
Test::Harness 3.42
Test::More 1.302175
YAML 1.30
YAML::Syck 1.32
version 0.9923
--
Summary of my perl5 (revision 5 version 28 subversion 3) configuration:
Platform:
osname=linux
osvers=5.3.0-1024-oracle
archname=x86_64-linux-thread-multi
uname='linux 3b45f4f551e0 5.3.0-1024-oracle #26~18.04.1-ubuntu smp sat jun 6 00:41:22 utc 2020 x86_64 gnulinux '
config_args='-de -Dprefix=/home/smoker/perl5/perlbrew/perls/perl-5.28.3-thread -Dusedevel -Dusethreads -Accflags=-O2 -pipe -Wall -Wextra -mtune=native -march=native -Aeval:scriptdir=/home/smoker/perl5/perlbrew/perls/perl-5.28.3-thread/bin'
hint=recommended
useposix=true
d_sigaction=define
useithreads=define
usemultiplicity=define
use64bitint=define
use64bitall=define
uselongdouble=undef
usemymalloc=n
default_inc_excludes_dot=define
bincompat5005=undef
Compiler:
cc='cc'
ccflags ='-D_REENTRANT -D_GNU_SOURCE -O2 -pipe -Wall -Wextra -mtune=native -march=native -fwrapv -fno-strict-aliasing -fstack-protector-strong -I/usr/local/include -D_LARGEFILE_SOURCE -D_FILE_OFFSET_BITS=64 -D_FORTIFY_SOURCE=2'
optimize='-O2'
cppflags='-D_REENTRANT -D_GNU_SOURCE -O2 -pipe -Wall -Wextra -mtune=native -march=native -fwrapv -fno-strict-aliasing -fstack-protector-strong -I/usr/local/include'
ccversion=''
gccversion='8.3.0'
gccosandvers=''
intsize=4
longsize=8
ptrsize=8
doublesize=8
byteorder=12345678
doublekind=3
d_longlong=define
longlongsize=8
d_longdbl=define
longdblsize=16
longdblkind=3
ivtype='long'
ivsize=8
nvtype='double'
nvsize=8
Off_t='off_t'
lseeksize=8
alignbytes=8
prototype=define
Linker and Libraries:
ld='cc'
ldflags =' -fstack-protector-strong -L/usr/local/lib'
libpth=/usr/local/lib /usr/lib/gcc/x86_64-linux-gnu/8/include-fixed /usr/include/x86_64-linux-gnu /usr/lib /lib/x86_64-linux-gnu /lib/../lib /usr/lib/x86_64-linux-gnu /usr/lib/../lib /lib
libs=-lpthread -lnsl -ldl -lm -lcrypt -lutil -lc
perllibs=-lpthread -lnsl -ldl -lm -lcrypt -lutil -lc
libc=libc-2.28.so
so=so
useshrplib=false
libperl=libperl.a
gnulibc_version='2.28'
Dynamic Linking:
dlsrc=dl_dlopen.xs
dlext=so
d_dlsymun=undef
ccdlflags='-Wl,-E'
cccdlflags='-fPIC'
lddlflags='-shared -O2 -L/usr/local/lib -fstack-protector-strong'
Characteristics of this binary (from libperl):
Compile-time options:
HAS_TIMES
MULTIPLICITY
PERLIO_LAYERS
PERL_COPY_ON_WRITE
PERL_DONT_CREATE_GVSV
PERL_IMPLICIT_CONTEXT
PERL_MALLOC_WRAP
PERL_OP_PARENT
PERL_PRESERVE_IVUV
PERL_USE_DEVEL
USE_64_BIT_ALL
USE_64_BIT_INT
USE_ITHREADS
USE_LARGE_FILES
USE_LOCALE
USE_LOCALE_COLLATE
USE_LOCALE_CTYPE
USE_LOCALE_NUMERIC
USE_LOCALE_TIME
USE_PERLIO
USE_PERL_ATOF
USE_REENTRANT_API
Locally applied patches:
Devel::PatchPerl 2.00
Built under linux
Compiled at Jun 11 2020 17:46:52
%ENV:
PERL5LIB="/home/smoker/.cpan/build/MooseX-Emulate-Class-Accessor-Fast-0.009032-0/blib/arch:/home/smoker/.cpan/build/MooseX-Emulate-Class-Accessor-Fast-0.009032-0/blib/lib:/home/smoker/.cpan/build/Hash-MultiValue-0.16-0/blib/arch:/home/smoker/.cpan/build/Hash-MultiValue-0.16-0/blib/lib:/home/smoker/.cpan/build/HTTP-Body-1.22-0/blib/arch:/home/smoker/.cpan/build/HTTP-Body-1.22-0/blib/lib:/home/smoker/.cpan/build/Class-C3-Adopt-NEXT-0.14-0/blib/arch:/home/smoker/.cpan/build/Class-C3-Adopt-NEXT-0.14-0/blib/lib:/home/smoker/.cpan/build/CGI-Struct-1.21-0/blib/arch:/home/smoker/.cpan/build/CGI-Struct-1.21-0/blib/lib:/home/smoker/.cpan/build/CGI-Simple-1.25-0/blib/arch:/home/smoker/.cpan/build/CGI-Simple-1.25-0/blib/lib:/home/smoker/.cpan/build/InfluxDB-Client-Simple-0.06-0/blib/arch:/home/smoker/.cpan/build/InfluxDB-Client-Simple-0.06-0/blib/lib"
PERL5OPT=""
PERL5_CPANPLUS_IS_RUNNING="30"
PERL5_CPAN_IS_RUNNING="30"
PERL5_CPAN_IS_RUNNING_IN_RECURSION="1,30"
PERLBREW_HOME="/home/smoker/.perlbrew"
PERLBREW_MANPATH="/home/smoker/perl5/perlbrew/perls/perl-5.28.3-thread/man"
PERLBREW_PATH="/home/smoker/perl5/perlbrew/bin:/home/smoker/perl5/perlbrew/perls/perl-5.28.3-thread/bin"
PERLBREW_PERL="perl-5.28.3-thread"
PERLBREW_ROOT="/home/smoker/perl5/perlbrew"
PERLBREW_SHELLRC_VERSION="0.88"
PERLBREW_VERSION="0.88"
PERL_USE_UNSAFE_INC="1"
@INC:
/home/smoker/.cpan/build/MooseX-Emulate-Class-Accessor-Fast-0.009032-0/blib/arch
/home/smoker/.cpan/build/MooseX-Emulate-Class-Accessor-Fast-0.009032-0/blib/lib
/home/smoker/.cpan/build/Hash-MultiValue-0.16-0/blib/arch
/home/smoker/.cpan/build/Hash-MultiValue-0.16-0/blib/lib
/home/smoker/.cpan/build/HTTP-Body-1.22-0/blib/arch
/home/smoker/.cpan/build/HTTP-Body-1.22-0/blib/lib
/home/smoker/.cpan/build/Class-C3-Adopt-NEXT-0.14-0/blib/arch
/home/smoker/.cpan/build/Class-C3-Adopt-NEXT-0.14-0/blib/lib
/home/smoker/.cpan/build/CGI-Struct-1.21-0/blib/arch
/home/smoker/.cpan/build/CGI-Struct-1.21-0/blib/lib
/home/smoker/.cpan/build/CGI-Simple-1.25-0/blib/arch
/home/smoker/.cpan/build/CGI-Simple-1.25-0/blib/lib
/home/smoker/.cpan/build/InfluxDB-Client-Simple-0.06-0/blib/arch
/home/smoker/.cpan/build/InfluxDB-Client-Simple-0.06-0/blib/lib
/home/smoker/perl5/perlbrew/perls/perl-5.28.3-thread/lib/site_perl/5.28.3/x86_64-linux-thread-multi
/home/smoker/perl5/perlbrew/perls/perl-5.28.3-thread/lib/site_perl/5.28.3
/home/smoker/perl5/perlbrew/perls/perl-5.28.3-thread/lib/5.28.3/x86_64-linux-thread-multi
/home/smoker/perl5/perlbrew/perls/perl-5.28.3-thread/lib/5.28.3
.