Report for Soar-WM-0.04

Back
From: metabase:user:d2c9f356-b46f-11df-9a90-20a83c0b7757
Subject: PASS Soar-WM-0.04 v5.17.7 SunOS/Solaris
Date: 2013-02-07T04:50:01Z

This distribution has been tested as part of the CPAN Testers
project, supporting the Perl programming language.  See
http://wiki.cpantesters.org/ for more information or email
questions to cpan-testers-discuss@perl.org


--
Dear Nathan Gary Glenn,

This is a computer-generated report for Soar-WM-0.04
on perl 5.17.7, created by CPAN-Reporter-1.2009.

Thank you for uploading your work to CPAN.  Congratulations!
All tests were successful.

Sections of this report:

    * Tester comments
    * Program output
    * Prerequisites
    * Environment and other context

------------------------------
TESTER COMMENTS
------------------------------

Additional comments from tester:

this report is from an automated smoke testing program
and was not reviewed by a human for accuracy

------------------------------
PROGRAM OUTPUT
------------------------------

Output from './Build test':

t/00-compile.t ................ ok
# 
# 
# Generated by Dist::Zilla::Plugin::ReportVersions::Tiny v1.08
# perl: 5.017007 (wanted 5.010) on solaris from /export/home/cpant5/perl5/perlbrew/perls/perl-5.17.7/bin/perl5.17.7
# 
# Carp                                          => 1.28       (want any version)
# Data::Dumper                                  => 2.139      (want any version)
# Data::Section::Simple                         => 0.03       (want any version)
# Exporter                                      => 5.67       (want any version)
# File::Find                                    => 1.23       (want any version)
# File::Spec                                    => 3.40       (want any version)
# File::Temp                                    => 0.22       (want any version)
# FindBin                                       => 1.51       (want any version)
# Module::Build                                 => 0.4003     (want 0.3601) 
# Pod::Coverage::TrustPod                       => module not found. (want any version)
# Test::CPAN::Meta                              => module not found. (want any version)
# Test::Deep                                    => 0.11       (want any version)
# Test::More                                    => 0.98       (want 0.88)   
# Test::NoWarnings                              => 1.04       (want any version)
# Test::Pod                                     => 1.45       (want 1.41)   
# Test::Pod::Coverage                           => module not found. (want 1.08)   
# Test::Warn                                    => 0.24       (want any version)
# autodie                                       => 2.13       (want any version)
# base                                          => 2.18       (want any version)
# strict                                        => 1.07       (want any version)
# version                                       => 0.9901     (want 0.9901) 
# warnings                                      => 1.15       (want any version)
# 
# Thanks for using my code.  I hope it works for you.
# If not, please try and include this output in the bug report.
# That will help me reproduce the issue and solve your problem.
# 
t/000-report-versions-tiny.t .. ok
t/01-slurp.t .................. ok
t/02-wm.t ..................... ok
t/03-traversal.t .............. ok
t/04-errors.t ................. ok
All tests successful.
Files=6, Tests=34,  2 wallclock secs ( 0.08 usr  0.05 sys +  1.11 cusr  0.25 csys =  1.49 CPU)
Result: PASS

------------------------------
PREREQUISITES
------------------------------

Prerequisite modules loaded:

requires:

    Module                Need   Have    
    --------------------- ------ --------
    autodie               0      2.13    
    base                  0      2.18    
    Carp                  0      1.28    
    Exporter              0      5.67    
    perl                  5.010  5.017007
    strict                0      1.07    
    warnings              0      1.15    

build_requires:

    Module                Need   Have    
    --------------------- ------ --------
    Data::Dumper          0      2.139   
    Data::Section::Simple 0      0.03    
    File::Find            0      1.23    
    File::Spec            0      3.40    
    File::Temp            0      0.22    
    FindBin               0      1.51    
    Module::Build         0.3601 0.4003  
    Test::Deep            0      0.110   
    Test::More            0.88   0.98    
    Test::NoWarnings      0      1.04    
    Test::Warn            0      0.24    

configure_requires:

    Module                Need   Have    
    --------------------- ------ --------
    Module::Build         0.3601 0.4003  


------------------------------
ENVIRONMENT AND OTHER CONTEXT
------------------------------

Environment variables:

    AUTOMATED_TESTING = 1
    LANG = C
    LD_LIBRARY_PATH = /usr/local/lib:
    MANPATH_WITHOUT_PERLBREW = 
    PATH = /export/home/cpant5/perl5/perlbrew/bin:/export/home/cpant5/perl5/perlbrew/perls/perl-5.17.7/bin:/export/home/cpant5/perl5/bin:/usr/local/bin:/usr/bin
    PATH_WITHOUT_PERLBREW = /export/home/cpant5/perl5/bin:/usr/local/bin:/usr/bin
    PERL5LIB = /export/home/cpant5/.cpan/build/Data-Section-Simple-0.03-amctKg/blib/arch:/export/home/cpant5/.cpan/build/Data-Section-Simple-0.03-amctKg/blib/lib
    PERL5OPT = 
    PERL5_CPANPLUS_IS_RUNNING = 6670
    PERL5_CPAN_IS_RUNNING = 6670
    PERL5_CPAN_IS_RUNNING_IN_RECURSION = 4497,6670
    PERLBREW_BASHRC_VERSION = 0.44
    PERLBREW_HOME = /export/home/cpant5/.perlbrew
    PERLBREW_MANPATH = /export/home/cpant5/perl5/perlbrew/perls/perl-5.17.7/man
    PERLBREW_PATH = /export/home/cpant5/perl5/perlbrew/bin:/export/home/cpant5/perl5/perlbrew/perls/perl-5.17.7/bin
    PERLBREW_PERL = perl-5.17.7
    PERLBREW_ROOT = /export/home/cpant5/perl5/perlbrew
    PERLBREW_VERSION = 0.44
    PERL_CR_SMOKER_CURRENT = Task-XNLSoar-Graphing-0.03
    PERL_EXTUTILS_AUTOINSTALL = --defaultdeps
    PERL_MM_USE_DEFAULT = 1
    SHELL = /bin/bash
    TERM = xterm

Perl special variables (and OS-specific diagnostics, for MSWin32):

    $^X = /export/home/cpant5/perl5/perlbrew/perls/perl-5.17.7/bin/perl5.17.7
    $UID/$EUID = 105 / 105
    $GID = 1 1
    $EGID = 1 1

Perl module toolchain versions installed:

    Module              Have    
    ------------------- --------
    CPAN                1.99_51 
    CPAN::Meta          2.120921
    Cwd                 3.40    
    ExtUtils::CBuilder  0.280209
    ExtUtils::Command   1.17    
    ExtUtils::Install   1.58    
    ExtUtils::MakeMaker 6.64    
    ExtUtils::Manifest  1.62    
    ExtUtils::ParseXS   3.18    
    File::Spec          3.40    
    JSON                2.53    
    JSON::PP            2.27200 
    Module::Build       0.4003  
    Module::Signature   n/a     
    Parse::CPAN::Meta   1.4404  
    Test::Harness       3.26    
    Test::More          0.98    
    YAML                0.84    
    YAML::Syck          1.22    
    version             0.9901  


--

Summary of my perl5 (revision 5 version 17 subversion 7) configuration:
   
  Platform:
    osname=solaris, osvers=2.10, archname=i86pc-solaris-64int
    uname='sunos vmrz0046 5.10 generic_141445-09 i86pc i386 i86pc solaris '
    config_args='-de -Dprefix=/export/home/cpant5/perl5/perlbrew/perls/perl-5.17.7 -Dcc=gcc -Duse64bitint -Dusedevel -Dusedevel -Aeval:scriptdir=/export/home/cpant5/perl5/perlbrew/perls/perl-5.17.7/bin'
    hint=recommended, useposix=true, d_sigaction=define
    useithreads=undef, usemultiplicity=undef
    useperlio=define, d_sfio=undef, uselargefiles=define, usesocks=undef
    use64bitint=define, use64bitall=undef, uselongdouble=undef
    usemymalloc=n, bincompat5005=undef
  Compiler:
    cc='gcc', ccflags ='-DPTR_IS_LONG -fno-strict-aliasing -pipe -I/usr/local/include -D_LARGEFILE_SOURCE -D_FILE_OFFSET_BITS=64 -DPERL_USE_SAFE_PUTENV',
    optimize='-O',
    cppflags='-DPTR_IS_LONG -fno-strict-aliasing -pipe -I/usr/local/include'
    ccversion='', gccversion='3.4.6', gccosandvers='solaris2.10'
    intsize=4, longsize=4, ptrsize=4, doublesize=8, byteorder=12345678
    d_longlong=define, longlongsize=8, d_longdbl=define, longdblsize=12
    ivtype='long long', ivsize=8, nvtype='double', nvsize=8, Off_t='off_t', lseeksize=8
    alignbytes=4, prototype=define
  Linker and Libraries:
    ld='gcc', ldflags =' -L/usr/local/lib '
    libpth=/usr/local/lib /usr/lib /usr/ccs/lib
    libs=-lsocket -lnsl -lgdbm -ldl -lm -lc
    perllibs=-lsocket -lnsl -ldl -lm -lc
    libc=/lib/libc.so, so=so, useshrplib=false, libperl=libperl.a
    gnulibc_version=''
  Dynamic Linking:
    dlsrc=dl_dlopen.xs, dlext=so, d_dlsymun=undef, ccdlflags=' '
    cccdlflags='-fPIC', lddlflags='-G -L/usr/local/lib'


Characteristics of this binary (from libperl): 
  Compile-time options: HAS_TIMES PERLIO_LAYERS PERL_DONT_CREATE_GVSV
                        PERL_MALLOC_WRAP PERL_NEW_COPY_ON_WRITE
                        PERL_PRESERVE_IVUV PERL_USE_DEVEL
                        PERL_USE_SAFE_PUTENV USE_64_BIT_INT USE_LARGE_FILES
                        USE_LOCALE USE_LOCALE_COLLATE USE_LOCALE_CTYPE
                        USE_LOCALE_NUMERIC USE_PERLIO USE_PERL_ATOF
  Built under solaris
  Compiled at Jan 11 2013 17:34:51
  %ENV:
    PERL5LIB="/export/home/cpant5/.cpan/build/Data-Section-Simple-0.03-amctKg/blib/arch:/export/home/cpant5/.cpan/build/Data-Section-Simple-0.03-amctKg/blib/lib"
    PERL5OPT=""
    PERL5_CPANPLUS_IS_RUNNING="6670"
    PERL5_CPAN_IS_RUNNING="6670"
    PERL5_CPAN_IS_RUNNING_IN_RECURSION="4497,6670"
    PERLBREW_BASHRC_VERSION="0.44"
    PERLBREW_HOME="/export/home/cpant5/.perlbrew"
    PERLBREW_MANPATH="/export/home/cpant5/perl5/perlbrew/perls/perl-5.17.7/man"
    PERLBREW_PATH="/export/home/cpant5/perl5/perlbrew/bin:/export/home/cpant5/perl5/perlbrew/perls/perl-5.17.7/bin"
    PERLBREW_PERL="perl-5.17.7"
    PERLBREW_ROOT="/export/home/cpant5/perl5/perlbrew"
    PERLBREW_VERSION="0.44"
    PERL_CR_SMOKER_CURRENT="Task-XNLSoar-Graphing-0.03"
    PERL_EXTUTILS_AUTOINSTALL="--defaultdeps"
    PERL_MM_USE_DEFAULT="1"
  @INC:
    /export/home/cpant5/.cpan/build/Data-Section-Simple-0.03-amctKg/blib/arch
    /export/home/cpant5/.cpan/build/Data-Section-Simple-0.03-amctKg/blib/lib
    /export/home/cpant5/perl5/perlbrew/perls/perl-5.17.7/lib/site_perl/5.17.7/i86pc-solaris-64int
    /export/home/cpant5/perl5/perlbrew/perls/perl-5.17.7/lib/site_perl/5.17.7
    /export/home/cpant5/perl5/perlbrew/perls/perl-5.17.7/lib/5.17.7/i86pc-solaris-64int
    /export/home/cpant5/perl5/perlbrew/perls/perl-5.17.7/lib/5.17.7
    .