Back
From: metabase:user:20a45eae-6c1a-1014-abaf-4bc2b30e56df
Subject: PASS Text-Balanced-2.02 v5.8.3 Windows (Cygwin)
Date: 2014-02-05T19:58:00Z
This distribution has been tested as part of the CPAN Testers
project, supporting the Perl programming language. See
http://wiki.cpantesters.org/ for more information or email
questions to cpan-testers-discuss@perl.org
--
Dear Adam Kennedy,
This is a computer-generated report for Text-Balanced-2.02
on perl 5.8.3, created by CPAN-Reporter-1.2010.
Thank you for uploading your work to CPAN. Congratulations!
All tests were successful.
Sections of this report:
* Tester comments
* Program output
* Prerequisites
* Environment and other context
------------------------------
TESTER COMMENTS
------------------------------
Additional comments from tester:
this report is from an automated smoke testing program
and was not reviewed by a human for accuracy
------------------------------
PROGRAM OUTPUT
------------------------------
Output from '/usr/bin/make test':
PERL_DL_NONLAZY=1 /cygdrive/e/opt/perl5/cygwin_nt-6.1/1.7.27/x86_64/perl/5.8.3/cygwin/bin/perl.exe "-MExtUtils::Command::MM" "-e" "test_harness(0, 'blib/lib', 'blib/arch')" t/*.t
t/01_compile.t .. ok
t/02_extbrk.t ... ok
t/03_extcbk.t ... ok
t/04_extdel.t ... ok
t/05_extmul.t ... ok
t/06_extqlk.t ... ok
t/07_exttag.t ... ok
t/08_extvar.t ... ok
t/09_gentag.t ... ok
t/97_meta.t ..... ok
t/98_pod.t ...... ok
t/99_pmv.t ...... skipped: no minimum perl version could be determined
All tests successful.
Files=12, Tests=563, 4 wallclock secs ( 0.09 usr 0.12 sys + 0.66 cusr 1.72 csys = 2.61 CPU)
Result: PASS
------------------------------
PREREQUISITES
------------------------------
Prerequisite modules loaded:
requires:
Module Need Have
------------------- ---- --------
Test::More 0.47 1.001002
build_requires:
Module Need Have
------------------- ---- --------
ExtUtils::MakeMaker 0 6.68
configure_requires:
Module Need Have
------------------- ---- --------
ExtUtils::MakeMaker 0 6.68
------------------------------
ENVIRONMENT AND OTHER CONTEXT
------------------------------
Environment variables:
AUTOMATED_TESTING = 1
COMSPEC = C:\Windows\system32\cmd.exe
NUMBER_OF_PROCESSORS = 8
PATH = /opt/perl5/cygwin_nt-6.1/1.7.27/x86_64/bin/5.8.3/cygwin:/opt/perl5/cygwin_nt-6.1/1.7.27/x86_64/perl/5.8.3/cygwin/local/bin:/opt/perl5/cygwin_nt-6.1/1.7.27/x86_64/perl/5.8.3/cygwin/bin:/usr/local/bin:/usr/bin
PERL5LIB = /opt/perl5/cygwin_nt-6.1/1.7.27/x86_64/perl/5.8.3/cygwin/local/lib/site_perl/5.8.3:/opt/perl5/cygwin_nt-6.1/1.7.27/x86_64/perl/5.8.3/cygwin/local/lib/5.8.3:/opt/perl5/cygwin_nt-6.1/1.7.27/x86_64/perl/5.8.3/cygwin/local/lib/perl5
PERL5OPT =
PERL5_CPANPLUS_IS_RUNNING = 7536
PERL5_CPAN_IS_RUNNING = 7536
PERL_CPAN_REPORTER_CONFIG = /cygdrive/e/peter/.cpanreporter/config-cygdrive-e-peter.ini
PERL_EXTUTILS_AUTOINSTALL = 1
PERL_MM_USE_DEFAULT = 1
PERL_MY_PREFIX = /opt/perl5
PERL_MY_SOURCE_DIR = /cygdrive/e/src/perl
PERL_TEST_CRITIC = 1
PROCESSOR_IDENTIFIER = Intel64 Family 6 Model 42 Stepping 7, GenuineIntel
SHELL = /usr/bin/bash
TEMP = /tmp
TERM = xterm
Perl special variables (and OS-specific diagnostics, for MSWin32):
$^X = /cygdrive/e/opt/perl5/cygwin_nt-6.1/1.7.27/x86_64/perl/5.8.3/cygwin/bin/perl
$UID/$EUID = 1006 / 1006
$GID = 513 513 1003 545
$EGID = 513 513 1003 545
Perl module toolchain versions installed:
Module Have
------------------- --------
CPAN 2.00
CPAN::Meta 2.133380
Cwd 3.40
ExtUtils::CBuilder 0.280212
ExtUtils::Command 1.18
ExtUtils::Install 1.54
ExtUtils::MakeMaker 6.68
ExtUtils::Manifest 1.63
ExtUtils::ParseXS 3.22
File::Spec 3.40
JSON 2.90
JSON::PP 2.27203
Module::Build 0.4204
Module::Signature n/a
Parse::CPAN::Meta 1.4409
Test::Harness 3.30
Test::More 1.001002
YAML 0.88
YAML::Syck n/a
version 0.88
--
Summary of my perl5 (revision 5.0 version 8 subversion 3) configuration:
Platform:
osname=cygwin, osvers=1.7.27(0.27153), archname=cygwin
uname='cygwin_nt-6.1 rigel 1.7.27(0.27153) 2013-12-09 11:54 x86_64 cygwin '
config_args='-de -Dmksymlinks -Dcc=gcc -Uinc_version_list -Uinstallusrbinperl -Uusethreads -Uusemultiplicity -Duse64bitint -Uuselongdouble -Dprefix=/opt/perl5/cygwin_nt-6.1/1.7.27/x86_64/perl/5.8.3/cygwin'
hint=recommended, useposix=true, d_sigaction=define
usethreads=undef use5005threads=undef useithreads=undef usemultiplicity=undef
useperlio=define d_sfio=undef uselargefiles=define usesocks=undef
use64bitint=define use64bitall=define uselongdouble=undef
usemymalloc=n, bincompat5005=undef
Compiler:
cc='gcc', ccflags ='-DPERL_USE_SAFE_PUTENV -fno-strict-aliasing',
optimize='-O2',
cppflags='-DPERL_USE_SAFE_PUTENV -fno-strict-aliasing'
ccversion='', gccversion='4.8.2', gccosandvers=''
intsize=4, longsize=8, ptrsize=8, doublesize=8, byteorder=12345678
d_longlong=define, longlongsize=8, d_longdbl=define, longdblsize=16
ivtype='long', ivsize=8, nvtype='double', nvsize=8, Off_t='off_t', lseeksize=8
alignbytes=8, prototype=define
Linker and Libraries:
ld='ld2', ldflags =' -L/usr/local/lib'
libpth=/usr/local/lib /usr/lib /lib
libs=-ldb -ldl -lcrypt -lutil
perllibs=-ldl -lcrypt -lutil
libc=/usr/lib/libc.a, so=dll, useshrplib=true, libperl=libperl.a
gnulibc_version=''
Dynamic Linking:
dlsrc=dl_dlopen.xs, dlext=dll, d_dlsymun=undef, ccdlflags=' '
cccdlflags=' ', lddlflags=' -L/usr/local/lib'
Characteristics of this binary (from libperl):
Compile-time options: USE_64_BIT_INT USE_64_BIT_ALL USE_LARGE_FILES
Built under cygwin
Compiled at Jan 17 2014 00:43:59
%ENV:
PERL=""
PERL5LIB="/opt/perl5/cygwin_nt-6.1/1.7.27/x86_64/perl/5.8.3/cygwin/local/lib/site_perl/5.8.3:/opt/perl5/cygwin_nt-6.1/1.7.27/x86_64/perl/5.8.3/cygwin/local/lib/5.8.3:/opt/perl5/cygwin_nt-6.1/1.7.27/x86_64/perl/5.8.3/cygwin/local/lib/perl5"
PERL5OPT=""
PERL5_CPANPLUS_IS_RUNNING="7536"
PERL5_CPAN_IS_EXECUTING="/opt/perl5/cygwin_nt-6.1/1.7.27/x86_64/cpan/5.8.3/cygwin/build/Text-Balanced-2.02-CC0q8m/Makefile.PL"
PERL5_CPAN_IS_RUNNING="7536"
PERL_AUTOINSTALL="--defaultdeps"
PERL_CPAN_REPORTER_CONFIG="/cygdrive/e/peter/.cpanreporter/config-cygdrive-e-peter.ini"
PERL_EXTUTILS_AUTOINSTALL="1"
PERL_MM_USE_DEFAULT="1"
PERL_MY_PREFIX="/opt/perl5"
PERL_MY_SOURCE_DIR="/cygdrive/e/src/perl"
PERL_TEST_CRITIC="1"
CYGWIN="codepage:utf8 nodosfilewarning"
@INC:
/opt/perl5/cygwin_nt-6.1/1.7.27/x86_64/perl/5.8.3/cygwin/local/lib/site_perl/5.8.3/cygwin
/opt/perl5/cygwin_nt-6.1/1.7.27/x86_64/perl/5.8.3/cygwin/local/lib/site_perl/5.8.3
/opt/perl5/cygwin_nt-6.1/1.7.27/x86_64/perl/5.8.3/cygwin/local/lib/5.8.3/cygwin
/opt/perl5/cygwin_nt-6.1/1.7.27/x86_64/perl/5.8.3/cygwin/local/lib/5.8.3
/opt/perl5/cygwin_nt-6.1/1.7.27/x86_64/perl/5.8.3/cygwin/local/lib/perl5/cygwin
/opt/perl5/cygwin_nt-6.1/1.7.27/x86_64/perl/5.8.3/cygwin/local/lib/perl5
/opt/perl5/cygwin_nt-6.1/1.7.27/x86_64/perl/5.8.3/cygwin/lib/5.8.3/cygwin
/opt/perl5/cygwin_nt-6.1/1.7.27/x86_64/perl/5.8.3/cygwin/lib/5.8.3
/opt/perl5/cygwin_nt-6.1/1.7.27/x86_64/perl/5.8.3/cygwin/lib/site_perl/5.8.3/cygwin
/opt/perl5/cygwin_nt-6.1/1.7.27/x86_64/perl/5.8.3/cygwin/lib/site_perl/5.8.3
/opt/perl5/cygwin_nt-6.1/1.7.27/x86_64/perl/5.8.3/cygwin/lib/site_perl
.