Report for Test-TCP-2.17

Back
From: metabase:user:314402c4-2aae-11df-837a-5e0a49663a4f
Subject: PASS Test-TCP-2.17 v5.25.5 Mac OS X
Date: 2016-09-30T07:02:21Z

This distribution has been tested as part of the CPAN Testers
project, supporting the Perl programming language.  See
http://wiki.cpantesters.org/ for more information or email
questions to cpan-testers-discuss@perl.org


--
Dear Syohei Yoshida,

This is a computer-generated report for Test-TCP-2.17
on perl 5.25.5, created by CPAN-Reporter-1.2018.

Thank you for uploading your work to CPAN.  Congratulations!
All tests were successful.

Sections of this report:

    * Tester comments
    * Program output
    * Prerequisites
    * Environment and other context

------------------------------
TESTER COMMENTS
------------------------------

Additional comments from tester:

none provided

------------------------------
PROGRAM OUTPUT
------------------------------

Output from '/usr/bin/make test':

PERL_DL_NONLAZY=1 "/opt/perl-5.25.5/bin/perl5.25.5" "-MExtUtils::Command::MM" "-MTest::Harness" "-e" "undef *Test::Harness::Switches; test_harness(0, 'blib/lib', 'blib/arch')" t/*.t
# Test::More: 1.302059
t/00_compile.t ................. ok
t/01_simple.t .................. ok
# your server received SIGABRT
t/02_abrt.t .................... ok
t/03_return_when_sigterm.t ..... ok
t/04_die.t ..................... ok
# $Config{sig_name}: ZERO HUP INT QUIT ILL TRAP ABRT EMT FPE KILL BUS SEGV SYS PIPE ALRM TERM URG STOP TSTP CONT CHLD TTIN TTOU IO XCPU XFSZ VTALRM PROF WINCH INFO USR1 USR2 IOT 
# CHILD_ERROR_NATIVE: 2
# $?: 2
t/05_sigint.t .................. ok
t/06_nest.t .................... ok
t/07_optional.t ................ ok
t/08_exit.t .................... ok
t/09_fork.t .................... ok
t/10_oo.t ...................... ok
    # found an empty IPv6 port
t/11_net_empty_port.t .......... ok
t/12_pass_wait_port_options.t .. ok
t/13_undef_port.t .............. ok
t/14_listen.t .................. ok
All tests successful.
Files=15, Tests=125, 11 wallclock secs ( 0.05 usr  0.02 sys +  1.09 cusr  0.28 csys =  1.44 CPU)
Result: PASS

------------------------------
PREREQUISITES
------------------------------

Prerequisite modules loaded:

requires:

    Module              Need     Have    
    ------------------- -------- --------
    IO::Socket::INET    0        1.35    
    IO::Socket::IP      0        0.38    
    perl                5.008001 5.025005
    Test::More          0        1.302059
    Test::SharedFork    0.29     0.35    
    Time::HiRes         0        1.9739  

build_requires:

    Module              Need     Have    
    ------------------- -------- --------
    File::Temp          0        0.2304  
    Socket              0        2.020_03
    Test::More          0.98     1.302059

configure_requires:

    Module              Need     Have    
    ------------------- -------- --------
    ExtUtils::MakeMaker 6.64     7.24    


------------------------------
ENVIRONMENT AND OTHER CONTEXT
------------------------------

Environment variables:

    LANG = en_US.UTF-8
    PATH = /usr/local/bin:/usr/bin:/bin:/usr/local/sbin:/usr/sbin:/sbin:/Users/eserte/bin/darwin15.0:/Users/eserte/bin/sh:/Users/eserte/bin:/Users/eserte/bin/pistachio-perl/bin:/usr/games:/Users/eserte/devel:/Users/eserte/work/drafts-slaven.rezic/misc:/Users/eserte/src/srezic-misc/scripts
    PERL5LIB = 
    PERL5OPT = 
    PERL5_CPANPLUS_IS_RUNNING = 87524
    PERL5_CPAN_IS_RUNNING = 87524
    PERL5_CPAN_IS_RUNNING_IN_RECURSION = 87509,87524
    PERLDOC = -MPod::Perldoc::ToTextOverstrike
    PERL_BATCH = yes
    PERL_CANARY_STABILITY_NOPROMPT = 1
    PERL_CPAN_REPORTER_CONFIG = /var/tmp/cpansmoker-501/2016093006/cpanreporter_000_config.ini
    PERL_EXTUTILS_AUTOINSTALL = --defaultdeps
    PISTACHIO_PERL_MANAGER = 1
    SHELL = /bin/zsh
    TERM = xterm
    TMPDIR = /var/tmp/cpansmoker-501/2016093006
    VERSIONER_PERL_PREFER_32_BIT = no
    VERSIONER_PERL_VERSION = 5.18

Perl special variables (and OS-specific diagnostics, for MSWin32):

    $^X = /opt/perl-5.25.5/bin/perl5.25.5
    $UID/$EUID = 501 / 501
    $GID = 20 20 701 12 61 79 80 81 98 33 100 204 395 398 399
    $EGID = 20 20 701 12 61 79 80 81 98 33 100 204 395 398 399

Perl module toolchain versions installed:

    Module              Have      
    ------------------- ----------
    CPAN                2.14_01   
    CPAN::Meta          2.150010  
    Cwd                 3.65      
    ExtUtils::CBuilder  0.280225  
    ExtUtils::Command   7.24      
    ExtUtils::Install   2.04      
    ExtUtils::MakeMaker 7.24      
    ExtUtils::Manifest  1.70      
    ExtUtils::ParseXS   3.33      
    File::Spec          3.65      
    JSON                2.90      
    JSON::PP            2.27400_01
    Module::Build       0.4220    
    Module::Signature   n/a       
    Parse::CPAN::Meta   2.150010  
    Test::Harness       3.36_01   
    Test::More          1.302059  
    YAML                1.18      
    YAML::Syck          1.29      
    version             0.9917    


--

Summary of my perl5 (revision 5 version 25 subversion 5) configuration:
   
  Platform:
    osname=darwin
    osvers=15.4.0
    archname=darwin-2level
    uname='darwin slavens-macbook-pro.local 15.4.0 darwin kernel version 15.4.0: fri feb 26 22:08:05 pst 2016; root:xnu-3248.40.184~3release_x86_64 x86_64 '
    config_args='-ds -e -Dprefix=/opt/perl-5.25.5 -Dusedevel -Dusemallocwrap=no -Dcf_email=srezic@cpan.org'
    hint=recommended
    useposix=true
    d_sigaction=define
    useithreads=undef
    usemultiplicity=undef
    use64bitint=define
    use64bitall=define
    uselongdouble=undef
    usemymalloc=n
    bincompat5005=undef
  Compiler:
    cc='cc'
    ccflags ='-fno-common -DPERL_DARWIN -mmacosx-version-min=10.11 -fno-strict-aliasing -pipe -fstack-protector-strong -I/usr/local/include -DPERL_USE_SAFE_PUTENV'
    optimize='-O3'
    cppflags='-fno-common -DPERL_DARWIN -mmacosx-version-min=10.11 -fno-strict-aliasing -pipe -fstack-protector-strong -I/usr/local/include'
    ccversion=''
    gccversion='4.2.1 Compatible Apple LLVM 7.3.0 (clang-703.0.31)'
    gccosandvers=''
    intsize=4
    longsize=8
    ptrsize=8
    doublesize=8
    byteorder=12345678
    doublekind=3
    d_longlong=define
    longlongsize=8
    d_longdbl=define
    longdblsize=16
    longdblkind=3
    ivtype='long'
    ivsize=8
    nvtype='double'
    nvsize=8
    Off_t='off_t'
    lseeksize=8
    alignbytes=8
    prototype=define
  Linker and Libraries:
    ld='cc'
    ldflags =' -mmacosx-version-min=10.11 -fstack-protector-strong -L/usr/local/lib'
    libpth=/usr/local/lib /Library/Developer/CommandLineTools/usr/bin/../lib/clang/7.3.0/lib /Library/Developer/CommandLineTools/usr/lib /usr/lib
    libs=-lpthread -ldbm -ldb -ldl -lm -lutil -lc
    perllibs=-lpthread -ldl -lm -lutil -lc
    libc=
    so=dylib
    useshrplib=false
    libperl=libperl.a
    gnulibc_version=''
  Dynamic Linking:
    dlsrc=dl_dlopen.xs
    dlext=bundle
    d_dlsymun=undef
    ccdlflags=' '
    cccdlflags=' '
    lddlflags=' -mmacosx-version-min=10.11 -bundle -undefined dynamic_lookup -L/usr/local/lib -fstack-protector-strong'


Characteristics of this binary (from libperl): 
  Compile-time options:
    HAS_TIMES
    PERLIO_LAYERS
    PERL_COPY_ON_WRITE
    PERL_DONT_CREATE_GVSV
    PERL_HASH_FUNC_ONE_AT_A_TIME_HARD
    PERL_OP_PARENT
    PERL_PRESERVE_IVUV
    PERL_USE_DEVEL
    PERL_USE_SAFE_PUTENV
    USE_64_BIT_ALL
    USE_64_BIT_INT
    USE_LARGE_FILES
    USE_LOCALE
    USE_LOCALE_COLLATE
    USE_LOCALE_CTYPE
    USE_LOCALE_NUMERIC
    USE_LOCALE_TIME
    USE_PERLIO
    USE_PERL_ATOF
  Built under darwin
  Compiled at Sep 30 2016 07:40:13
  %ENV:
    PERL5LIB=""
    PERL5OPT=""
    PERL5_CPANPLUS_IS_RUNNING="87524"
    PERL5_CPAN_IS_RUNNING="87524"
    PERL5_CPAN_IS_RUNNING_IN_RECURSION="87509,87524"
    PERLDOC="-MPod::Perldoc::ToTextOverstrike"
    PERL_BATCH="yes"
    PERL_CANARY_STABILITY_NOPROMPT="1"
    PERL_CPAN_REPORTER_CONFIG="/var/tmp/cpansmoker-501/2016093006/cpanreporter_000_config.ini"
    PERL_EXTUTILS_AUTOINSTALL="--defaultdeps"
  @INC:
    /opt/perl-5.25.5/lib/site_perl/5.25.5/darwin-2level
    /opt/perl-5.25.5/lib/site_perl/5.25.5
    /opt/perl-5.25.5/lib/5.25.5/darwin-2level
    /opt/perl-5.25.5/lib/5.25.5
    .