Report for DBIx-Schema-Changelog-0.9.0

Back
From: metabase:user:320bfe00-2aae-11df-837a-5e0a49663a4f
Subject: PASS DBIx-Schema-Changelog-0.9.0 v5.23.7 GNU/Linux
Date: 2016-01-20T02:09:27Z

This distribution has been tested as part of the CPAN Testers
project, supporting the Perl programming language.  See
http://wiki.cpantesters.org/ for more information or email
questions to cpan-testers-discuss@perl.org


--
Dear Mario Zieschang,

This is a computer-generated report for DBIx-Schema-Changelog-0.9.0
on perl 5.23.7, created by CPAN-Reporter-1.2015.

Thank you for uploading your work to CPAN.  Congratulations!
All tests were successful.

Sections of this report:

    * Tester comments
    * Program output
    * Prerequisites
    * Environment and other context

------------------------------
TESTER COMMENTS
------------------------------

Additional comments from tester:

this report is from an automated smoke testing program
and was not reviewed by a human for accuracy

------------------------------
PROGRAM OUTPUT
------------------------------

Output from '/usr/bin/make test':

PERL_DL_NONLAZY=1 "/tmp/basesmoker-reloperl-njxn/bin/perl" "-MExtUtils::Command::MM" "-MTest::Harness" "-e" "undef *Test::Harness::Switches; test_harness(0, 'blib/lib', 'blib/arch')" t/*.t
t/00-load.t ......... ok
t/010-changelog.t ... ok
t/020-driver.t ...... ok
DBIx::Schema::Changelog::File::Yaml. Read changelog file '/tmp/loop_over_bdir-30504-Tm3jwz/DBIx-Schema-Changelog-0.9.0-mwOjDf/t/data/changelog/changelog.yml'. 
DBIx::Schema::Changelog::File::Yaml. Read changelog file '/tmp/loop_over_bdir-30504-Tm3jwz/DBIx-Schema-Changelog-0.9.0-mwOjDf/t/data/changelog/changelog-01.yml'. 
DBIx::Schema::Changelog::Action::Indices (37) Create index is not supported!  
DBIx::Schema::Changelog::Action::Sql (35). WARNING: Execute sql statements can lead very likely to incompatibilities.
DBIx::Schema::Changelog::Action::Columns (98) Drop column is not supported!
DBIx::Schema::Changelog::Action::Tables (197). Add constraint is not supported!
DBIx::Schema::Changelog::Action::Tables (197). Add constraint is not supported!
t/021-sqlite.t ...... ok
t/030-changeset.t ... ok
t/040-action.t ...... ok
DBIx::Schema::Changelog::Action::Columns (84) Alter column is not supported!
DBIx::Schema::Changelog::Action::Columns (98) Drop column is not supported!
t/0401-column.t ..... ok
t/0403-indices.t .... ok
t/0404-table.t ...... ok
t/0405-views.t ...... ok
t/0406-sql.t ........ ok
t/0408-default.t .... ok
t/0409-functions.t .. ok
t/0411-entries.t .... ok
t/051-base.t ........ ok
t/052-driver.t ...... ok
t/053-file.t ........ ok
DBIx::Schema::Changelog::File::Yaml. Read changelog file '/tmp/loop_over_bdir-30504-Tm3jwz/DBIx-Schema-Changelog-0.9.0-mwOjDf/t/../.tmp/changelog/changelog.yml'. 
DBIx::Schema::Changelog::File::Yaml. Read changelog file '/tmp/loop_over_bdir-30504-Tm3jwz/DBIx-Schema-Changelog-0.9.0-mwOjDf/t/../.tmp/changelog/changelog-01.yml'. 
t/054-changeset.t ... ok
t/060-file.t ........ ok
DBIx::Schema::Changelog::File::Yaml. Read changelog file '/tmp/loop_over_bdir-30504-Tm3jwz/DBIx-Schema-Changelog-0.9.0-mwOjDf/t/data/changelog/changelog.yml'. 
DBIx::Schema::Changelog::File::Yaml. Read changelog file '/tmp/loop_over_bdir-30504-Tm3jwz/DBIx-Schema-Changelog-0.9.0-mwOjDf/t/data/changelog/changelog-01.yml'. 
t/061-yaml.t ........ ok
Could not remove /tmp/loop_over_bdir-30504-Tm3jwz/DBIx-Schema-Changelog-0.9.0-mwOjDf/t/../.tmp: No such file or directory at t/999-delete.t line 17.
t/999-delete.t ...... ok
t/boilerplate.t ..... ok
t/manifest.t ........ skipped: Author tests not required for installation
t/pod-coverage.t .... skipped: Author tests not required for installation
t/pod-spelling.t .... skipped: Author tests not required for installation
t/pod.t ............. skipped: Author tests not required for installation
All tests successful.

Test Summary Report
-------------------
t/boilerplate.t   (Wstat: 0 Tests: 5 Failed: 0)
  TODO passed:   1-3
Files=26, Tests=156, 10 wallclock secs ( 0.22 usr  0.15 sys +  8.39 cusr  0.99 csys =  9.75 CPU)
Result: PASS

------------------------------
PREREQUISITES
------------------------------

Prerequisite modules loaded:

requires:

    Module                       Need     Have    
    ---------------------------- -------- --------
    DBD::SQLite                  1.4      1.48    
    DBI                          1.632    1.634   
    File::Spec                   0        3.62    
    FindBin                      0        1.51    
    Getopt::Long                 2.42     2.48    
    Hash::MD5                    0.08     0.08    
    Moose                        2.1403   2.1604  
    MooseX::HasDefaults::RO      0        0       
    MooseX::Types::LoadableClass 0.013    0.014   
    MooseX::Types::Moose         0.45     0.46    
    MooseX::Types::Path::Class   0.06     0.08    
    MooseX::Types::PerlVersion   0.002    0.002   
    perl                         5.010000 5.023007
    SQL::Abstract                1.81     1.81    
    Time::Piece                  1.27     1.31    
    YAML                         1.13     1.15    
    YAML::XS                     0.55     0.59    

build_requires:

    Module                       Need     Have    
    ---------------------------- -------- --------
    ExtUtils::MakeMaker          0        7.10    
    Pod::Coverage::TrustPod      0        0.100003
    Pod::Usage                   0        1.68    
    Test::CheckManifest          0        1.29    
    Test::Cmd                    0        1.09    
    Test::Exception              0        0.43    
    Test::Pod::Coverage          0        1.10    
    Test::Requires               0        0.10    
    Test::Spelling               0        0.20    

configure_requires:

    Module                       Need     Have    
    ---------------------------- -------- --------
    ExtUtils::MakeMaker          0        7.10    


------------------------------
ENVIRONMENT AND OTHER CONTEXT
------------------------------

Environment variables:

    AUTOMATED_TESTING = 1
    LANG = en_US.UTF-8
    LANGUAGE = en_US:en
    PATH = /home/sand/bin:/usr/local/bin:/usr/bin:/bin:/usr/games:/usr/local/perl/bin:/usr/X11/bin:/sbin:/usr/sbin
    PERL5LIB = 
    PERL5OPT = 
    PERL5_CPANPLUS_IS_RUNNING = 24949
    PERL5_CPAN_IS_RUNNING = 24949
    PERL_MM_USE_DEFAULT = 1
    SHELL = /usr/bin/zsh
    TERM = screen

Perl special variables (and OS-specific diagnostics, for MSWin32):

    $^X = /tmp/basesmoker-reloperl-njxn/bin/perl
    $UID/$EUID = 1005 / 1005
    $GID = 1005 1005
    $EGID = 1005 1005

Perl module toolchain versions installed:

    Module              Have    
    ------------------- --------
    CPAN                2.10    
    CPAN::Meta          2.150005
    Cwd                 3.62    
    ExtUtils::CBuilder  0.280224
    ExtUtils::Command   7.10    
    ExtUtils::Install   2.04    
    ExtUtils::MakeMaker 7.10    
    ExtUtils::Manifest  1.70    
    ExtUtils::ParseXS   3.31    
    File::Spec          3.62    
    JSON                2.90    
    JSON::PP            2.27300 
    Module::Build       0.4214  
    Module::Signature   0.79    
    Parse::CPAN::Meta   1.4417  
    Test::Harness       3.36    
    Test::More          1.001014
    YAML                1.15    
    YAML::Syck          1.29    
    version             0.9909  


--

Summary of my perl5 (revision 5 version 23 subversion 7) configuration:
  Derived from: 9847ebb435e553b1ea1b14bd6512c8bd5b8f71fa
  Platform:
    osname=linux, osvers=4.3.0-1-amd64, archname=x86_64-linux-thread-multi-ld
    uname='linux k83 4.3.0-1-amd64 #1 smp debian 4.3.3-2 (2015-12-17) x86_64 gnulinux '
    config_args='-Dprefix=/home/sand/src/perl/repoperls/installed-perls/perl/v5.23.6-126-g9847ebb/109d -Dmyhostname=k83 -Dinstallusrbinperl=n -Uversiononly -Dusedevel -des -Ui_db -Dlibswanted=cl pthread socket inet nsl gdbm dbm malloc dl ld sun m crypt sec util c cposix posix ucb BSD gdbm_compat -Duseithreads -Duselongdouble -DDEBUGGING=-g'
    hint=recommended, useposix=true, d_sigaction=define
    useithreads=define, usemultiplicity=define
    use64bitint=define, use64bitall=define, uselongdouble=define
    usemymalloc=n, bincompat5005=undef
  Compiler:
    cc='cc', ccflags ='-D_REENTRANT -D_GNU_SOURCE -fwrapv -fno-strict-aliasing -pipe -fstack-protector-strong -I/usr/local/include -D_LARGEFILE_SOURCE -D_FILE_OFFSET_BITS=64 -D_FORTIFY_SOURCE=2',
    optimize='-O2 -g',
    cppflags='-D_REENTRANT -D_GNU_SOURCE -fwrapv -fno-strict-aliasing -pipe -fstack-protector-strong -I/usr/local/include'
    ccversion='', gccversion='5.3.1 20160101', gccosandvers=''
    intsize=4, longsize=8, ptrsize=8, doublesize=8, byteorder=12345678, doublekind=3
    d_longlong=define, longlongsize=8, d_longdbl=define, longdblsize=16, longdblkind=3
    ivtype='long', ivsize=8, nvtype='long double', nvsize=16, Off_t='off_t', lseeksize=8
    alignbytes=16, prototype=define
  Linker and Libraries:
    ld='cc', ldflags =' -fstack-protector-strong -L/usr/local/lib'
    libpth=/usr/local/lib /usr/lib/gcc/x86_64-linux-gnu/5/include-fixed /usr/include/x86_64-linux-gnu /usr/lib /lib/x86_64-linux-gnu /lib/../lib /usr/lib/x86_64-linux-gnu /usr/lib/../lib /lib
    libs=-lpthread -lnsl -lgdbm -ldl -lm -lcrypt -lutil -lc -lgdbm_compat
    perllibs=-lpthread -lnsl -ldl -lm -lcrypt -lutil -lc
    libc=libc-2.21.so, so=so, useshrplib=false, libperl=libperl.a
    gnulibc_version='2.21'
  Dynamic Linking:
    dlsrc=dl_dlopen.xs, dlext=so, d_dlsymun=undef, ccdlflags='-Wl,-E'
    cccdlflags='-fPIC', lddlflags='-shared -O2 -g -L/usr/local/lib -fstack-protector-strong'


Characteristics of this binary (from libperl): 
  Compile-time options: HAS_TIMES MULTIPLICITY PERLIO_LAYERS
                        PERL_COPY_ON_WRITE PERL_DONT_CREATE_GVSV
                        PERL_HASH_FUNC_ONE_AT_A_TIME_HARD
                        PERL_IMPLICIT_CONTEXT PERL_MALLOC_WRAP
                        PERL_PRESERVE_IVUV PERL_USE_DEVEL USE_64_BIT_ALL
                        USE_64_BIT_INT USE_ITHREADS USE_LARGE_FILES
                        USE_LOCALE USE_LOCALE_COLLATE USE_LOCALE_CTYPE
                        USE_LOCALE_NUMERIC USE_LOCALE_TIME USE_LONG_DOUBLE
                        USE_PERLIO USE_PERL_ATOF USE_REENTRANT_API
  Locally applied patches:
	uncommitted-changes
	Devel::PatchPerl 1.38
  Built under linux
  Compiled at Jan 19 2016 14:18:08
  %ENV:
    PERL5LIB=""
    PERL5OPT=""
    PERL5_CPANPLUS_IS_RUNNING="24949"
    PERL5_CPAN_IS_RUNNING="24949"
    PERL_MM_USE_DEFAULT="1"
  @INC:
    /home/sand/src/perl/repoperls/installed-perls/perl/v5.23.6-126-g9847ebb/109d/lib/site_perl/5.23.7/x86_64-linux-thread-multi-ld
    /home/sand/src/perl/repoperls/installed-perls/perl/v5.23.6-126-g9847ebb/109d/lib/site_perl/5.23.7
    /home/sand/src/perl/repoperls/installed-perls/perl/v5.23.6-126-g9847ebb/109d/lib/5.23.7/x86_64-linux-thread-multi-ld
    /home/sand/src/perl/repoperls/installed-perls/perl/v5.23.6-126-g9847ebb/109d/lib/5.23.7
    .