Report for Sys-Filesystem-1.400

Back
From: metabase:user:31d414ea-2aae-11df-837a-5e0a49663a4f
Subject: PASS Sys-Filesystem-1.400 v5.16.0 GNU/Linux
Date: 2013-09-04T13:42:25Z

This distribution has been tested as part of the CPAN Testers
project, supporting the Perl programming language.  See
http://wiki.cpantesters.org/ for more information or email
questions to cpan-testers-discuss@perl.org


--
Dear Jens Rehsack,

This is a computer-generated report for Sys-Filesystem-1.400
on perl 5.16.0, created by CPAN-Reporter-1.2006.

Thank you for uploading your work to CPAN.  Congratulations!
All tests were successful.

Sections of this report:

    * Tester comments
    * Program output
    * Prerequisites
    * Environment and other context

------------------------------
TESTER COMMENTS
------------------------------

Additional comments from tester:

this report is from an automated smoke testing program
and was not reviewed by a human for accuracy

------------------------------
PROGRAM OUTPUT
------------------------------

Output from './Build test':

# Testing Sys::Filesystem 1.400, Perl 5.016000, /home/david/cpantesting/perl-5.16.0/bin/perl
t/01_load.t ...... ok
# / - 1 - 0 - /dev/xvda1 - rw,relatime,errors=remount-ro,barrier=1,data=ordered - ext3 - 1 - 1
# /dev - 1 - 0 - udev - rw,relatime,size=10240k,nr_inodes=501291,mode=755 - devtmpfs - 1 - 1
# /dev/pts - 1 - 1 - devpts - rw,nosuid,noexec,relatime,gid=5,mode=620,ptmxmode=000 - devpts - 1 - 1
# /lib/init/rw - 1 - 1 - tmpfs - rw,nosuid,relatime,mode=755 - tmpfs - 1 - 1
# /proc - 1 - 1 - proc - rw,nosuid,nodev,noexec,relatime - proc - 1 - 1
# /sys - 1 - 1 - sysfs - rw,nosuid,nodev,noexec,relatime - sysfs - 1 - 1
# none - 0 - 1 - /dev/xvda2 - sw - swap - 1 - 1
t/02_basic.t ..... ok
t/03_whereami.t .. ok
t/04_special.t ... ok
All tests successful.

Test Summary Report
-------------------
t/03_whereami.t (Wstat: 0 Tests: 3 Failed: 0)
  TODO passed:   2-3
Files=4, Tests=83,  0 wallclock secs ( 0.03 usr  0.02 sys +  0.20 cusr  0.03 csys =  0.28 CPU)
Result: PASS

------------------------------
PREREQUISITES
------------------------------

Prerequisite modules loaded:

requires:

    Module            Need  Have    
    ----------------- ----- --------
    Carp              0     1.26    
    FindBin           0     1.51    
    IO                0     1.25_06 
    IPC::Cmd          0.80  0.84    
    Module::Pluggable 4.5   4.8     
    Params::Util      1.00  1.07    
    perl              5.008 5.016000

build_requires:

    Module            Need  Have    
    ----------------- ----- --------
    Test::More        0.9   0.98    

configure_requires:

    Module            Need  Have    
    ----------------- ----- --------
    Carp              0     1.26    
    FindBin           0     1.51    
    IO                0     1.25_06 
    IPC::Cmd          0.80  0.84    
    Module::Build     0.40  0.4007  
    Module::Pluggable 4.5   4.8     
    Params::Util      1.00  1.07    
    perl              5.008 5.016000


------------------------------
ENVIRONMENT AND OTHER CONTEXT
------------------------------

Environment variables:

    AUTOMATED_TESTING = 1
    PATH = /usr/local/bin:/usr/bin:/bin:/usr/games
    PERL = 5.16.0
    PERL5LIB = 
    PERL5OPT = 
    PERL5_CPANPLUS_IS_RUNNING = 11378
    PERL5_CPAN_IS_RUNNING = 11378
    PERLVER = 5.16.0
    PERL_INLINE_DIRECTORY = /home/david/.Inline-5.16.0
    PERL_MM_USE_DEFAULT = 1
    SHELL = /bin/bash
    TERM = screen

Perl special variables (and OS-specific diagnostics, for MSWin32):

    $^X = /home/david/cpantesting/perl-5.16.0/bin/perl
    $UID/$EUID = 1000 / 1000
    $GID = 1000 1000
    $EGID = 1000 1000

Perl module toolchain versions installed:

    Module              Have    
    ------------------- --------
    CPAN                1.9800  
    CPAN::Meta          2.132140
    Cwd                 3.40    
    ExtUtils::CBuilder  0.280206
    ExtUtils::Command   1.17    
    ExtUtils::Install   1.58    
    ExtUtils::MakeMaker 6.75_03 
    ExtUtils::Manifest  1.61    
    ExtUtils::ParseXS   3.16    
    File::Spec          3.40    
    JSON                2.53    
    JSON::PP            2.27200 
    Module::Build       0.4007  
    Module::Signature   n/a     
    Parse::CPAN::Meta   1.4405  
    Test::Harness       3.23    
    Test::More          0.98    
    YAML                0.84    
    YAML::Syck          n/a     
    version             0.9904  


--

Summary of my perl5 (revision 5 version 16 subversion 0) configuration:
   
  Platform:
    osname=linux, osvers=2.6.32-5-xen-amd64, archname=x86_64-linux-thread-multi
    uname='linux pigsty.barnyard.co.uk 2.6.32-5-xen-amd64 #1 smp mon jan 16 20:48:30 utc 2012 x86_64 gnulinux '
    config_args='-de -Dprefix=/home/david/cpantesting/perl-5.16.0 -Dusethreads -Duse64bitall'
    hint=recommended, useposix=true, d_sigaction=define
    useithreads=define, usemultiplicity=define
    useperlio=define, d_sfio=undef, uselargefiles=define, usesocks=undef
    use64bitint=define, use64bitall=define, uselongdouble=undef
    usemymalloc=n, bincompat5005=undef
  Compiler:
    cc='cc', ccflags ='-D_REENTRANT -D_GNU_SOURCE -fno-strict-aliasing -pipe -fstack-protector -I/usr/local/include -D_LARGEFILE_SOURCE -D_FILE_OFFSET_BITS=64',
    optimize='-O2',
    cppflags='-D_REENTRANT -D_GNU_SOURCE -fno-strict-aliasing -pipe -fstack-protector -I/usr/local/include'
    ccversion='', gccversion='4.1.2 20061115 (prerelease) (Debian 4.1.1-21)', gccosandvers=''
    intsize=4, longsize=8, ptrsize=8, doublesize=8, byteorder=12345678
    d_longlong=define, longlongsize=8, d_longdbl=define, longdblsize=16
    ivtype='long', ivsize=8, nvtype='double', nvsize=8, Off_t='off_t', lseeksize=8
    alignbytes=8, prototype=define
  Linker and Libraries:
    ld='cc', ldflags =' -fstack-protector -L/usr/local/lib'
    libpth=/usr/local/lib /lib /usr/lib /lib64 /usr/lib64
    libs=-lnsl -lgdbm -ldb -ldl -lm -lcrypt -lutil -lpthread -lc -lgdbm_compat
    perllibs=-lnsl -ldl -lm -lcrypt -lutil -lpthread -lc
    libc=/lib/libc-2.3.6.so, so=so, useshrplib=false, libperl=libperl.a
    gnulibc_version='2.3.6'
  Dynamic Linking:
    dlsrc=dl_dlopen.xs, dlext=so, d_dlsymun=undef, ccdlflags='-Wl,-E'
    cccdlflags='-fPIC', lddlflags='-shared -O2 -L/usr/local/lib -fstack-protector'


Characteristics of this binary (from libperl): 
  Compile-time options: HAS_TIMES MULTIPLICITY PERLIO_LAYERS
                        PERL_DONT_CREATE_GVSV PERL_IMPLICIT_CONTEXT
                        PERL_MALLOC_WRAP PERL_PRESERVE_IVUV USE_64_BIT_ALL
                        USE_64_BIT_INT USE_ITHREADS USE_LARGE_FILES
                        USE_LOCALE USE_LOCALE_COLLATE USE_LOCALE_CTYPE
                        USE_LOCALE_NUMERIC USE_PERLIO USE_PERL_ATOF
                        USE_REENTRANT_API
  Built under linux
  Compiled at May 21 2012 14:49:20
  %ENV:
    PERL="5.16.0"
    PERL5LIB=""
    PERL5OPT=""
    PERL5_CPANPLUS_IS_RUNNING="11378"
    PERL5_CPAN_IS_RUNNING="11378"
    PERLVER="5.16.0"
    PERL_INLINE_DIRECTORY="/home/david/.Inline-5.16.0"
    PERL_MM_USE_DEFAULT="1"
  @INC:
    /home/david/cpantesting/perl-5.16.0/lib/site_perl/5.16.0/x86_64-linux-thread-multi
    /home/david/cpantesting/perl-5.16.0/lib/site_perl/5.16.0
    /home/david/cpantesting/perl-5.16.0/lib/5.16.0/x86_64-linux-thread-multi
    /home/david/cpantesting/perl-5.16.0/lib/5.16.0
    .