GraphQL v0.54 Perl 5 v5.32.1 amd64-openbsd

Status
Pass
From
Alceu Rodrigues de Freitas Junior
Dist
GraphQL v0.54
Platform
Perl 5 v5.32.1 amd64-openbsd
Date
2022-05-30 23:32:56
ID
d550bff8-e070-11ec-b737-db65ffa5fe2c
This distribution has been tested as part of the CPAN Testers
project, supporting the Perl programming language.  See
http://wiki.cpantesters.org/ for more information or email
questions to cpan-testers-discuss@perl.org


--
Dear Ed J,

This is a computer-generated report for GraphQL-0.54
on perl 5.32.1, created by CPAN-Reporter-1.2018.

Thank you for uploading your work to CPAN.  Congratulations!
All tests were successful.

Sections of this report:

    * Tester comments
    * Program output
    * Prerequisites
    * Environment and other context

------------------------------
TESTER COMMENTS
------------------------------

Additional comments from tester:

this report is from an automated smoke testing program
and was not reviewed by a human for accuracy

------------------------------
PROGRAM OUTPUT
------------------------------

Output from '/usr/bin/make test':

PERL_DL_NONLAZY=1 "/usr/bin/perl" "-MExtUtils::Command::MM" "-MTest::Harness" "-e" "undef *Test::Harness::Switches; test_harness(0, 'blib/lib', 'blib/arch')" t/*.t
# Testing GraphQL 0.54, Perl 5.032001, /usr/bin/perl
t/00-load.t ...................... ok
# 
# Versions for all modules listed in MYMETA.json (including optional ones):
# 
# === Configure Requires ===
# 
#     Module              Want Have Where                      Howbig
#     ------------------- ---- ---- -------------------------- ------
#     ExtUtils::MakeMaker 6.64 7.64 /home/goku/perl5/lib/perl5 109482
# 
# === Build Requires ===
# 
#     Module              Want Have Where                      Howbig
#     ------------------- ---- ---- -------------------------- ------
#     ExtUtils::MakeMaker  any 7.64 /home/goku/perl5/lib/perl5 109482
# 
# === Test Requires ===
# 
#     Module           Want     Have Where                              Howbig
#     --------------- ----- -------- ---------------------------------- ------
#     Test::Deep      1.127    1.130 /usr/local/libdata/perl5/site_perl  50125
#     Test::Exception  0.42     0.43 /usr/local/libdata/perl5/site_perl  15465
#     Test::More       0.88 1.302190 /home/goku/perl5/lib/perl5          52979
# 
# === Runtime Requires ===
# 
#     Module                        Want     Have Where                                    Howbig
#     ------------------------- -------- -------- ---------------------------------------- ------
#     Attribute::Handlers            any     1.01 /usr/libdata/perl5                        30449
#     DateTime                       any     1.58 /home/goku/perl5/lib/perl5/amd64-openbsd 137213
#     DateTime::Format::ISO8601      any     0.16 /home/goku/perl5/lib/perl5                46285
#     Devel::StrictMode              any    0.003 /home/goku/perl5/lib/perl5                 3601
#     Function::Parameters      2.001001 2.001003 /home/goku/perl5/lib/perl5/amd64-openbsd  46584
#     Import::Into              1.002003 1.002005 /usr/local/libdata/perl5/site_perl         8200
#     JSON::MaybeXS             1.003009 1.004003 /usr/local/libdata/perl5/site_perl         9692
#     JSON::PP                      2.92     4.04 /usr/libdata/perl5                       100557
#     Module::Runtime                any    0.016 /usr/local/libdata/perl5/site_perl        17521
#     Moo                            any 2.005004 /home/goku/perl5/lib/perl5                34356
#     MooX::Thunking                0.07     0.08 /home/goku/perl5/lib/perl5                 2601
#     Pegex                         0.64     0.75 /home/goku/perl5/lib/perl5                  750
#     Return::Type                   any    0.007 /home/goku/perl5/lib/perl5                 7354
#     Type::Tiny                     any 1.012004 /home/goku/perl5/lib/perl5                70464
#     curry                          any 2.000001 /home/goku/perl5/lib/perl5                 2653
# 
# === Runtime Suggests ===
# 
#     Module             Want Have Where                                    Howbig
#     ---------------- ------ ---- ---------------------------------------- ------
#     Cpanel::JSON::XS 3.0237 4.29 /home/goku/perl5/lib/perl5/amd64-openbsd  91470
#     JSON::XS            any 4.03 /home/goku/perl5/lib/perl5/amd64-openbsd  69678
# 
t/00-report-prereqs.t ............ ok
t/directives.t ................... ok
t/execution-abstract.t ........... ok
t/execution-directives.t ......... ok
t/execution-execute.t ............ ok
t/execution-lists.t .............. ok
t/execution-nonnull.t ............ ok
t/execution-resolve.t ............ ok
t/execution-schema.t ............. ok
t/execution-sync.t ............... ok
t/execution-variables.t .......... ok
t/language-block-string-value.t .. ok
t/language-lexer.t ............... ok
t/language-parser.t .............. ok
t/language-schema-parser.t ....... ok
t/perl.t ......................... ok
t/subscribe.t .................... ok
t/type-definition.t .............. ok
t/type-enum.t .................... ok
t/type-interface.t ............... ok
t/type-introspection.t ........... ok
t/type-schema.t .................. ok
t/util-buildschema.t ............. ok
All tests successful.
Files=24, Tests=387, 29 wallclock secs ( 0.27 usr  0.08 sys + 26.50 cusr  2.11 csys = 28.96 CPU)
Result: PASS

------------------------------
PREREQUISITES
------------------------------

Prerequisite modules loaded:

requires:

    Module                    Need     Have    
    ------------------------- -------- --------
    Attribute::Handlers       0        1.01    
    curry                     0        2.000001
    DateTime                  0        1.58    
    DateTime::Format::ISO8601 0        0.16    
    Devel::StrictMode         0        0.003   
    Function::Parameters      2.001001 2.001003
    Import::Into              1.002003 1.002005
    JSON::MaybeXS             1.003009 1.004003
    JSON::PP                  2.92     4.04    
    Module::Runtime           0        0.016   
    Moo                       0        2.005004
    MooX::Thunking            0.07     0.08    
    Pegex                     0.64     0.75    
    perl                      5.014    5.032001
    Return::Type              0        0.007   
    Type::Tiny                0        1.012004

build_requires:

    Module                    Need     Have    
    ------------------------- -------- --------
    ExtUtils::MakeMaker       0        7.64    
    Test::Deep                1.127    1.130   
    Test::Exception           0.42     0.43    
    Test::More                0.88     1.302190

configure_requires:

    Module                    Need     Have    
    ------------------------- -------- --------
    ExtUtils::MakeMaker       6.64     7.64    


------------------------------
ENVIRONMENT AND OTHER CONTEXT
------------------------------

Environment variables:

    AUTOMATED_TESTING = 1
    PATH = /home/goku/perl5/bin:/usr/bin:/bin:/usr/sbin:/sbin:/usr/X11R6/bin:/usr/local/bin:/usr/local/sbin
    PERL5LIB = /home/goku/perl5/lib/perl5
    PERL5OPT = 
    PERL5_CPANPLUS_IS_RUNNING = 15506
    PERL5_CPAN_IS_RUNNING = 15506
    PERL5_CPAN_IS_RUNNING_IN_RECURSION = 59995,15506
    PERL_CR_SMOKER_CURRENT = GraphQL-0.54
    PERL_EXTUTILS_AUTOINSTALL = --defaultdeps
    PERL_LOCAL_LIB_ROOT = /home/goku/perl5
    PERL_MB_OPT = --install_base "/home/goku/perl5"
    PERL_MM_OPT = INSTALL_BASE=/home/goku/perl5
    PERL_MM_USE_DEFAULT = 1
    PERL_USE_UNSAFE_INC = 1
    SHELL = /bin/ksh
    TERM = xterm-256color

Perl special variables (and OS-specific diagnostics, for MSWin32):

    $^X = /usr/bin/perl
    $UID/$EUID = 1001 / 1001
    $GID = 1002 1002 1001
    $EGID = 1002 1002 1001

Perl module toolchain versions installed:

    Module              Have    
    ------------------- --------
    CPAN                2.34    
    CPAN::Meta          2.150010
    Cwd                 3.78    
    ExtUtils::CBuilder  0.280236
    ExtUtils::Command   7.64    
    ExtUtils::Install   2.20    
    ExtUtils::MakeMaker 7.64    
    ExtUtils::Manifest  1.72    
    ExtUtils::ParseXS   3.40    
    File::Spec          3.78    
    JSON                4.06    
    JSON::PP            4.04    
    Module::Build       0.4231  
    Module::Signature   n/a     
    Parse::CPAN::Meta   2.150010
    Test::Harness       3.44    
    Test::More          1.302190
    YAML                1.30    
    YAML::Syck          1.34    
    version             0.9924  


--

Summary of my perl5 (revision 5 version 32 subversion 1) configuration:
   
  Platform:
    osname=openbsd
    osvers=7.1
    archname=amd64-openbsd
    uname='openbsd'
    config_args='-dse -Dopenbsd_distribution=defined -Dmksymlinks'
    hint=recommended
    useposix=true
    d_sigaction=define
    useithreads=undef
    usemultiplicity=undef
    use64bitint=define
    use64bitall=define
    uselongdouble=undef
    usemymalloc=n
    default_inc_excludes_dot=define
    bincompat5005=undef
  Compiler:
    cc='cc'
    ccflags ='-DNO_LOCALE_NUMERIC -DNO_LOCALE_COLLATE -fno-strict-aliasing -fno-delete-null-pointer-checks -pipe -fstack-protector-strong -I/usr/local/include'
    optimize='-O2'
    cppflags='-DBIG_TIME -DNO_LOCALE_NUMERIC -DNO_LOCALE_COLLATE -fno-strict-aliasing -fno-delete-null-pointer-checks -pipe -fstack-protector-strong -I/usr/local/include'
    ccversion=''
    gccversion='OpenBSD Clang 13.0.0'
    gccosandvers=''
    intsize=4
    longsize=8
    ptrsize=8
    doublesize=8
    byteorder=12345678
    doublekind=3
    d_longlong=define
    longlongsize=8
    d_longdbl=define
    longdblsize=16
    longdblkind=3
    ivtype='long'
    ivsize=8
    nvtype='double'
    nvsize=8
    Off_t='off_t'
    lseeksize=8
    alignbytes=8
    prototype=define
  Linker and Libraries:
    ld='cc'
    ldflags ='-Wl,-E  -fstack-protector-strong -L/usr/local/lib'
    libpth=/usr/lib /usr/lib/clang/13.0.0/lib /usr/lib
    libs=-lm -lc
    perllibs=-lm -lc
    libc=/usr/lib/libc.so.96.1
    so=so
    useshrplib=true
    libperl=libperl.so.22.0
    gnulibc_version=''
  Dynamic Linking:
    dlsrc=dl_dlopen.xs
    dlext=so
    d_dlsymun=undef
    ccdlflags='-Wl,-R/usr/libdata/perl5/amd64-openbsd/CORE'
    cccdlflags='-DPIC -fpic '
    lddlflags='-shared -fpic  -fstack-protector-strong -L/usr/local/lib'


Characteristics of this binary (from libperl): 
  Compile-time options:
    HAS_TIMES
    PERLIO_LAYERS
    PERL_COPY_ON_WRITE
    PERL_DONT_CREATE_GVSV
    PERL_MALLOC_WRAP
    PERL_OP_PARENT
    PERL_PRESERVE_IVUV
    USE_64_BIT_ALL
    USE_64_BIT_INT
    USE_LARGE_FILES
    USE_LOCALE
    USE_LOCALE_CTYPE
    USE_LOCALE_TIME
    USE_PERLIO
    USE_PERL_ATOF
  Built under openbsd
  %ENV:
    PERL5LIB="/home/goku/perl5/lib/perl5"
    PERL5OPT=""
    PERL5_CPANPLUS_IS_RUNNING="15506"
    PERL5_CPAN_IS_RUNNING="15506"
    PERL5_CPAN_IS_RUNNING_IN_RECURSION="59995,15506"
    PERL_CR_SMOKER_CURRENT="GraphQL-0.54"
    PERL_EXTUTILS_AUTOINSTALL="--defaultdeps"
    PERL_LOCAL_LIB_ROOT="/home/goku/perl5"
    PERL_MB_OPT="--install_base "/home/goku/perl5""
    PERL_MM_OPT="INSTALL_BASE=/home/goku/perl5"
    PERL_MM_USE_DEFAULT="1"
    PERL_USE_UNSAFE_INC="1"
  @INC:
    /home/goku/perl5/lib/perl5/amd64-openbsd
    /home/goku/perl5/lib/perl5
    /usr/local/libdata/perl5/site_perl/amd64-openbsd
    /usr/local/libdata/perl5/site_perl
    /usr/libdata/perl5/amd64-openbsd
    /usr/libdata/perl5
    .