MooseX-UndefTolerant v0.21 Perl 5 v5.38.2 amd64-freebsd

Status
Pass
From
Slaven Rezić
Dist
MooseX-UndefTolerant v0.21
Platform
Perl 5 v5.38.2 amd64-freebsd
Date
2024-09-29 16:49:46
ID
d5703d76-7e82-11ef-a9d6-8e236e8775ea
This distribution has been tested as part of the CPAN Testers
project, supporting the Perl programming language.  See
http://wiki.cpantesters.org/ for more information or email
questions to cpan-testers-discuss@perl.org


--
Dear Karen Etheridge,

This is a computer-generated report for MooseX-UndefTolerant-0.21
on perl 5.38.2, created by CPAN-Reporter-1.2019.

Thank you for uploading your work to CPAN.  Congratulations!
All tests were successful.

Sections of this report:

    * Tester comments
    * Program output
    * Prerequisites
    * Environment and other context

------------------------------
TESTER COMMENTS
------------------------------

Additional comments from tester:

none provided

------------------------------
PROGRAM OUTPUT
------------------------------

Output from './Build test':

# Testing MooseX::UndefTolerant 0.21, Perl 5.038002, /usr/perl5.38.2/bin/perl
t/00-load.t ............ ok
# 
# Versions for all modules listed in MYMETA.json (including optional ones):
# 
# === Configure Requires ===
# 
#     Module               Want  Have
#     ------------------- ----- -----
#     Module::Build::Tiny 0.034 0.051
# 
# === Test Requires ===
# 
#     Module           Want     Have
#     ---------------- ---- --------
#     File::Spec        any     3.88
#     Module::Metadata  any 1.000037
#     Test::Fatal       any    0.017
#     Test::Moose       any   2.2207
#     Test::More       0.88 1.302204
#     if                any   0.0610
#     lib               any     0.65
# 
# === Test Recommends ===
# 
#     Module         Want     Have
#     ---------- -------- --------
#     CPAN::Meta 2.120900 2.150010
# 
# === Runtime Requires ===
# 
#     Module               Want   Have
#     -------------------- ---- ------
#     Moose                0.89 2.2207
#     Moose::Exporter       any 2.2207
#     Moose::Role           any 2.2207
#     namespace::autoclean  any   0.29
#     strict                any   1.12
#     warnings              any   1.65
# 
# === Other Modules ===
# 
#     Module    Have
#     --------- ----
#     JSON::PP  4.16
#     Sub::Name 0.27
#     YAML      1.31
#     autodie   2.37
# 
t/00-report-prereqs.t .. ok
t/basic.t .............. ok
t/constructor.t ........ ok
t/defaults.t ........... ok
t/roles.t .............. ok
t/undef_init_arg.t ..... ok
t/zzz-check-breaks.t ... ok
All tests successful.
Files=8, Tests=158,  3 wallclock secs ( 0.05 usr  0.02 sys +  2.25 cusr  0.29 csys =  2.60 CPU)
Result: PASS

------------------------------
PREREQUISITES
------------------------------

Prerequisite modules loaded:

requires:

    Module               Need  Have    
    -------------------- ----- --------
    Moose                0.89  2.2207  
    Moose::Exporter      0     2.2207  
    Moose::Role          0     2.2207  
    namespace::autoclean 0     0.29    
    perl                 5.006 5.038002
    strict               0     1.12    
    warnings             0     1.65    

build_requires:

    Module               Need  Have    
    -------------------- ----- --------
    File::Spec           0     3.88    
    if                   0     0.0610  
    lib                  0     0.65    
    Module::Metadata     0     1.000037
    perl                 5.006 5.038002
    Test::Fatal          0     0.017   
    Test::Moose          0     2.2207  
    Test::More           0.88  1.302204

configure_requires:

    Module               Need  Have    
    -------------------- ----- --------
    Module::Build::Tiny  0.034 0.051   
    perl                 5.006 5.038002


------------------------------
ENVIRONMENT AND OTHER CONTEXT
------------------------------

Environment variables:

    LANG = C.UTF-8
    PATH = /usr/local/bin:/usr/bin:/bin:/usr/local/sbin:/usr/sbin:/sbin:/home/cpansand/bin/freebsd15.0:/home/cpansand/bin/sh:/home/cpansand/bin:/usr/games:/home/cpansand/devel:/home/eserte/src/srezic-misc/scripts
    PERL5LIB = /home/cpansand/.cpan/build/2024092915/Hook-AfterRuntime-0.006-0/blib/arch:/home/cpansand/.cpan/build/2024092915/Hook-AfterRuntime-0.006-0/blib/lib:/home/cpansand/.cpan/build/2024092915/B-Hooks-Parser-0.21-0/blib/arch:/home/cpansand/.cpan/build/2024092915/B-Hooks-Parser-0.21-0/blib/lib:/home/cpansand/.cpan/build/2024092915/File-Cat-1.2-0/blib/arch:/home/cpansand/.cpan/build/2024092915/File-Cat-1.2-0/blib/lib
    PERL5OPT = 
    PERL5_CPANPLUS_IS_RUNNING = 72867
    PERL5_CPAN_IS_RUNNING = 72867
    PERL5_CPAN_IS_RUNNING_IN_RECURSION = 72854,72867
    PERLDOC = -MPod::Perldoc::ToTextOverstrike
    PERL_BATCH = yes
    PERL_CANARY_STABILITY_NOPROMPT = 1
    PERL_CPAN_REPORTER_CONFIG = /var/tmp/cpansmoker-1023/2024092915/cpanreporter_001_config.ini
    PERL_EXTUTILS_AUTOINSTALL = --defaultdeps
    PERL_USE_UNSAFE_INC = 1
    SHELL = /usr/local/bin/zsh
    TERM = screen
    TMPDIR = /var/tmp/cpansmoker-1023/2024092915

Perl special variables (and OS-specific diagnostics, for MSWin32):

    $^X = /usr/perl5.38.2/bin/perl
    $UID/$EUID = 1023 / 1023
    $GID = 1023 1023
    $EGID = 1023 1023

Perl module toolchain versions installed:

    Module              Have    
    ------------------- --------
    CPAN                2.37    
    CPAN::Meta          2.150010
    Cwd                 3.89    
    ExtUtils::CBuilder  0.280238
    ExtUtils::Command   7.70    
    ExtUtils::Install   2.22    
    ExtUtils::MakeMaker 7.70    
    ExtUtils::Manifest  1.75    
    ExtUtils::ParseXS   3.51    
    File::Spec          3.88    
    JSON                4.10    
    JSON::PP            4.16    
    Module::Build       0.4234  
    Module::Signature   0.88    
    Parse::CPAN::Meta   2.150010
    Test2               1.302204
    Test::Harness       3.44    
    Test::More          1.302204
    YAML                1.31    
    YAML::Syck          1.34    
    version             0.9933  


--

Summary of my perl5 (revision 5 version 38 subversion 2) configuration:
   
  Platform:
    osname=freebsd
    osvers=15.0-current
    archname=amd64-freebsd
    uname='freebsd cloud2.bbbike.org 15.0-current freebsd 15.0-current #0 main-5bc10feacc: tue dec 26 13:29:01 utc 2023 root@cloud2.bbbike.org:usrobjhomeprojectsfreebsd-srcamd64.amd64sysgeneric amd64 '
    config_args='-ds -e -Dprefix=/usr/perl5.38.2 -Dcf_email=srezic@cpan.org -Doptimize=-O2 -pipe'
    hint=recommended
    useposix=true
    d_sigaction=define
    useithreads=undef
    usemultiplicity=undef
    use64bitint=define
    use64bitall=define
    uselongdouble=undef
    usemymalloc=n
    default_inc_excludes_dot=define
  Compiler:
    cc='cc'
    ccflags ='-DHAS_FPSETMASK -DHAS_FLOATINGPOINT_H -fno-strict-aliasing -pipe -fstack-protector-strong -I/usr/local/include'
    optimize='-O2 -pipe'
    cppflags='-DHAS_FPSETMASK -DHAS_FLOATINGPOINT_H -fno-strict-aliasing -pipe -fstack-protector-strong -I/usr/local/include'
    ccversion=''
    gccversion='FreeBSD Clang 17.0.6 (https://github.com/llvm/llvm-project.git llvmorg-17.0.6-0-g6009708b4367)'
    gccosandvers=''
    intsize=4
    longsize=8
    ptrsize=8
    doublesize=8
    byteorder=12345678
    doublekind=3
    d_longlong=define
    longlongsize=8
    d_longdbl=define
    longdblsize=16
    longdblkind=3
    ivtype='long'
    ivsize=8
    nvtype='double'
    nvsize=8
    Off_t='off_t'
    lseeksize=8
    alignbytes=8
    prototype=define
  Linker and Libraries:
    ld='cc'
    ldflags ='-Wl,-E  -fstack-protector-strong -L/usr/local/lib'
    libpth=/usr/lib /usr/local/lib /usr/lib/clang/17/lib
    libs=-lpthread -lgdbm -ldl -lm -lcrypt -lutil -lc
    perllibs=-lpthread -ldl -lm -lcrypt -lutil -lc
    libc=
    so=so
    useshrplib=false
    libperl=libperl.a
    gnulibc_version=''
  Dynamic Linking:
    dlsrc=dl_dlopen.xs
    dlext=so
    d_dlsymun=undef
    ccdlflags=' '
    cccdlflags='-DPIC -fPIC'
    lddlflags='-shared  -L/usr/local/lib -fstack-protector-strong'


Characteristics of this binary (from libperl): 
  Compile-time options:
    HAS_LONG_DOUBLE
    HAS_STRTOLD
    HAS_TIMES
    PERLIO_LAYERS
    PERL_COPY_ON_WRITE
    PERL_DONT_CREATE_GVSV
    PERL_HASH_FUNC_SIPHASH13
    PERL_HASH_USE_SBOX32
    PERL_MALLOC_WRAP
    PERL_OP_PARENT
    PERL_PRESERVE_IVUV
    PERL_USE_SAFE_PUTENV
    USE_64_BIT_ALL
    USE_64_BIT_INT
    USE_LARGE_FILES
    USE_LOCALE
    USE_LOCALE_COLLATE
    USE_LOCALE_CTYPE
    USE_LOCALE_NUMERIC
    USE_LOCALE_TIME
    USE_PERLIO
    USE_PERL_ATOF
  Built under freebsd
  Compiled at Dec 26 2023 16:19:55
  %ENV:
    PERL5LIB="/home/cpansand/.cpan/build/2024092915/Hook-AfterRuntime-0.006-0/blib/arch:/home/cpansand/.cpan/build/2024092915/Hook-AfterRuntime-0.006-0/blib/lib:/home/cpansand/.cpan/build/2024092915/B-Hooks-Parser-0.21-0/blib/arch:/home/cpansand/.cpan/build/2024092915/B-Hooks-Parser-0.21-0/blib/lib:/home/cpansand/.cpan/build/2024092915/File-Cat-1.2-0/blib/arch:/home/cpansand/.cpan/build/2024092915/File-Cat-1.2-0/blib/lib"
    PERL5OPT=""
    PERL5_CPANPLUS_IS_RUNNING="72867"
    PERL5_CPAN_IS_RUNNING="72867"
    PERL5_CPAN_IS_RUNNING_IN_RECURSION="72854,72867"
    PERLDOC="-MPod::Perldoc::ToTextOverstrike"
    PERL_BATCH="yes"
    PERL_CANARY_STABILITY_NOPROMPT="1"
    PERL_CPAN_REPORTER_CONFIG="/var/tmp/cpansmoker-1023/2024092915/cpanreporter_001_config.ini"
    PERL_EXTUTILS_AUTOINSTALL="--defaultdeps"
    PERL_USE_UNSAFE_INC="1"
  @INC:
    /home/cpansand/.cpan/build/2024092915/Hook-AfterRuntime-0.006-0/blib/arch
    /home/cpansand/.cpan/build/2024092915/Hook-AfterRuntime-0.006-0/blib/lib
    /home/cpansand/.cpan/build/2024092915/B-Hooks-Parser-0.21-0/blib/arch
    /home/cpansand/.cpan/build/2024092915/B-Hooks-Parser-0.21-0/blib/lib
    /home/cpansand/.cpan/build/2024092915/File-Cat-1.2-0/blib/arch
    /home/cpansand/.cpan/build/2024092915/File-Cat-1.2-0/blib/lib
    /usr/perl5.38.2/lib/site_perl/5.38.2/amd64-freebsd
    /usr/perl5.38.2/lib/site_perl/5.38.2
    /usr/perl5.38.2/lib/5.38.2/amd64-freebsd
    /usr/perl5.38.2/lib/5.38.2
    .