Report for Dist-Zilla-Plugin-SpellingCommonMistakesTests-1.001000

Back
From: metabase:user:8286d1fc-3d52-11e2-9ec4-cb9cdd236785
Subject: PASS Dist-Zilla-Plugin-SpellingCommonMistakesTests-1.001000 v5.12.0 GNU/Linux
Date: 2013-09-23T17:51:54Z

This distribution has been tested as part of the CPAN Testers
project, supporting the Perl programming language.  See
http://wiki.cpantesters.org/ for more information or email
questions to cpan-testers-discuss@perl.org


--
Dear Adam Lesperance,

This is a computer-generated report for Dist-Zilla-Plugin-SpellingCommonMistakesTests-1.001000
on perl 5.12.0, created by CPAN-Reporter-1.2010.

Thank you for uploading your work to CPAN.  Congratulations!
All tests were successful.

Sections of this report:

    * Tester comments
    * Program output
    * Prerequisites
    * Environment and other context

------------------------------
TESTER COMMENTS
------------------------------

Additional comments from tester:

this report is from an automated smoke testing program
and was not reviewed by a human for accuracy

------------------------------
PROGRAM OUTPUT
------------------------------

Output from '/usr/local/bin/make test':

PERL_DL_NONLAZY=1 /opt/perl443-26-32-5.19.5/bin/perl "-MExtUtils::Command::MM" "-e" "test_harness(0, 'blib/lib', 'blib/arch')" t/*.t
t/00-compile.t .................. ok
# 
Use of uninitialized value $file_name in -e at /opt/perl443-26-32-5.19.5/lib/site_perl/5.12.0/File/Slurp.pm line 116.
Use of uninitialized value $file_name in sysopen at /opt/perl443-26-32-5.19.5/lib/site_perl/5.12.0/File/Slurp.pm line 193.
Use of uninitialized value $file_name in concatenation (.) or string at /opt/perl443-26-32-5.19.5/lib/site_perl/5.12.0/File/Slurp.pm line 194.
# Pod::Spell::CommonMistakes: read_file '' - sysopen: 2 at /opt/perl443-26-32-5.19.5/lib/site_perl/5.12.0/Pod/Wordlist.pm line 21.
# Compilation failed in require at /opt/perl443-26-32-5.19.5/lib/site_perl/5.12.0/Pod/Spell.pm line 10.
# BEGIN failed--compilation aborted at /opt/perl443-26-32-5.19.5/lib/site_perl/5.12.0/Pod/Spell.pm line 10.
# Compilation failed in require at /opt/perl443-26-32-5.19.5/lib/site_perl/5.12.0/Pod/Spell/CommonMistakes.pm line 22.
# BEGIN failed--compilation aborted at /opt/perl443-26-32-5.19.5/lib/site_perl/5.12.0/Pod/Spell/CommonMistakes.pm line 22.
# Compilation failed in require at (eval 319) line 1.
# Test::Pod::Spelling::CommonMistakes: Attempt to reload Pod/Spell/CommonMistakes.pm aborted.
# Compilation failed in require at /opt/perl443-26-32-5.19.5/lib/site_perl/5.12.0/Test/Pod/Spelling/CommonMistakes.pm line 21.
# BEGIN failed--compilation aborted at /opt/perl443-26-32-5.19.5/lib/site_perl/5.12.0/Test/Pod/Spelling/CommonMistakes.pm line 21.
# Compilation failed in require at (eval 340) line 1.
# 
# perl: v5.12.0 (wanted 5.008) on linux from /opt/perl443-26-32-5.19.5/bin/perl
# 
# Dist::Zilla::Plugin::Bootstrap::lib           => module not found. (want any version)
# Dist::Zilla::Plugin::InlineFiles              => 4.300039   (want any version)
# English                                       => 1.04       (want any version)
# File::Find                                    => 1.15       (want any version)
# File::Temp                                    => 0.2301     (want any version)
# Module::Build                                 => 0.4007     (want 0.3601) 
# Moose                                         => 2.1005     (want any version)
# Pod::Spell::CommonMistakes                    => died during require. (want any version)
# Test::More                                    => 0.98       (want 0.88)   
# Test::Pod::Spelling::CommonMistakes           => died during require. (want any version)
# utf8                                          => 1.08       (want any version)
# 
# Thanks for using my code.  I hope it works for you.
# If not, please try and include this output in the bug report.
# That will help me reproduce the issue and solve you problem.
# 
t/000-report-versions-tiny.t .... ok
Use of uninitialized value $file_name in -e at /opt/perl443-26-32-5.19.5/lib/site_perl/5.12.0/File/Slurp.pm line 116.
Use of uninitialized value $file_name in sysopen at /opt/perl443-26-32-5.19.5/lib/site_perl/5.12.0/File/Slurp.pm line 193.
Use of uninitialized value $file_name in concatenation (.) or string at /opt/perl443-26-32-5.19.5/lib/site_perl/5.12.0/File/Slurp.pm line 194.
Couldn't require Perl::Critic::Policy::Documentation::PodSpelling : read_file '' - sysopen: 2 at /opt/perl443-26-32-5.19.5/lib/site_perl/5.12.0/Pod/Wordlist.pm line 21.
Compilation failed in require at /opt/perl443-26-32-5.19.5/lib/site_perl/5.12.0/Pod/Spell.pm line 10.
BEGIN failed--compilation aborted at /opt/perl443-26-32-5.19.5/lib/site_perl/5.12.0/Pod/Spell.pm line 10.
Compilation failed in require at /opt/perl443-26-32-5.19.5/lib/site_perl/5.12.0/Perl/Critic/Policy/Documentation/PodSpelling.pm line 21.
BEGIN failed--compilation aborted at /opt/perl443-26-32-5.19.5/lib/site_perl/5.12.0/Perl/Critic/Policy/Documentation/PodSpelling.pm line 21.
Compilation failed in require at (eval 97) line 2.
 at /opt/perl443-26-32-5.19.5/lib/site_perl/5.12.0/Module/Pluggable.pm line 32.
Policy "Perl::Critic::Policy::Documentation::PodSpelling" is not installed.
Policy "Perl::Critic::Policy::Miscellanea::RequireRcsKeywords" is not installed.
t/author-critic.t ............... ok
Use of uninitialized value $file_name in -e at /opt/perl443-26-32-5.19.5/lib/site_perl/5.12.0/File/Slurp.pm line 116.
Use of uninitialized value $file_name in sysopen at /opt/perl443-26-32-5.19.5/lib/site_perl/5.12.0/File/Slurp.pm line 193.
Use of uninitialized value $file_name in concatenation (.) or string at /opt/perl443-26-32-5.19.5/lib/site_perl/5.12.0/File/Slurp.pm line 194.
t/release-common_spelling.t ..... skipped: Test::Pod::Spelling::CommonMistakes required for testing POD
# Distribution version: 1.001000
t/release-consistent-version.t .. ok
Date "2011-03-17 06:01:42 America/Chicago" is not in the recommend format at /opt/perl443-26-32-5.19.5/lib/site_perl/5.12.0/Test/CPAN/Changes.pm line 28.
Date "2011-03-17 06:12:34 America/Chicago" is not in the recommend format at /opt/perl443-26-32-5.19.5/lib/site_perl/5.12.0/Test/CPAN/Changes.pm line 28.
Date "2011-04-01 05:45:51 America/Chicago" is not in the recommend format at /opt/perl443-26-32-5.19.5/lib/site_perl/5.12.0/Test/CPAN/Changes.pm line 28.
t/release-cpan-changes.t ........ ok
t/release-dist-manifest.t ....... ok
t/release-distmeta.t ............ ok
t/release-eol.t ................. ok
t/release-has-version.t ......... ok
t/release-kwalitee.t ............ ok
t/release-minimum-version.t ..... ok
t/release-no-tabs.t ............. ok
t/release-pod-coverage.t ........ ok
t/release-pod-syntax.t .......... ok
t/release-portability.t ......... ok
t/release-unused-vars.t ......... ok
All tests successful.
Files=17, Tests=98, 40 wallclock secs ( 0.26 usr  0.06 sys + 25.25 cusr  1.64 csys = 27.21 CPU)
Result: PASS

------------------------------
PREREQUISITES
------------------------------

Prerequisite modules loaded:

requires:

    Module                              Need   Have    
    ----------------------------------- ------ --------
    Dist::Zilla::Plugin::InlineFiles    0      4.300039
    Moose                               0      2.1005  
  ! Pod::Spell::CommonMistakes          0      broken  
  ! Test::Pod::Spelling::CommonMistakes 0      broken  
    utf8                                0      1.08    

build_requires:

    Module                              Need   Have    
    ----------------------------------- ------ --------
  ! Dist::Zilla::Plugin::Bootstrap::lib 0      n/a     
    English                             0      1.04    
    ExtUtils::MakeMaker                 6.31   6.76    
    File::Find                          0      1.15    
    File::Temp                          0      0.2301  
    Test::More                          0.88   0.98    

configure_requires:

    Module                              Need   Have    
    ----------------------------------- ------ --------
    Module::Build                       0.3601 0.4007  


------------------------------
ENVIRONMENT AND OTHER CONTEXT
------------------------------

Environment variables:

    AUTHOR_TESTING = 1
    AUTOMATED_TESTING = 1
    LANG = en_US.UTF-8
    LD_LIBRARY_PATH = /usr/local/lib
    PATH = /usr/lib/qt-3.3/bin:/usr/kerberos/sbin:/usr/kerberos/bin:/usr/lib/ccache:/usr/local/sbin:/usr/local/bin:/sbin:/bin:/usr/sbin:/usr/bin:/usr/X11R6/bin:/usr/lib/alliance/bin:/opt/real/RealPlayer:/root/bin:/usr/lib/alliance/bin:/opt/real/RealPlayer
    PERL5LIB = 
    PERL5OPT = 
    PERL5_CPANPLUS_IS_RUNNING = 26685
    PERL5_CPAN_IS_RUNNING = 26685
    PERL_ANYEVENT_MODEL = POE
    PERL_MM_USE_DEFAULT = 1
    SHELL = /bin/bash
    TERM = xterm

Perl special variables (and OS-specific diagnostics, for MSWin32):

    $^X = /opt/perl443-26-32-5.19.5/bin/perl
    $UID/$EUID = 0 / 0
    $GID = 0 0 1 2 3 4 6 10
    $EGID = 0 0 1 2 3 4 6 10

Perl module toolchain versions installed:

    Module              Have    
    ------------------- --------
    CPAN                1.94_56 
    CPAN::Meta          2.132620
    Cwd                 3.40    
    ExtUtils::CBuilder  0.280212
    ExtUtils::Command   1.16    
    ExtUtils::Install   1.54    
    ExtUtils::MakeMaker 6.76    
    ExtUtils::Manifest  1.63    
    ExtUtils::ParseXS   3.22    
    File::Spec          3.40    
    JSON                2.59    
    JSON::PP            2.27202 
    Module::Build       0.4007  
    Module::Signature   0.73    
    Parse::CPAN::Meta   1.4407  
    Test::Harness       3.28    
    Test::More          0.98    
    YAML                0.84    
    YAML::Syck          1.27    
    version             0.9904  


--

Summary of my perl5 (revision 5 version 12 subversion 0) configuration:
   
  Platform:
    osname=linux, osvers=2.6.26-gogol.1, archname=i686-linux-thread-multi-ld
    uname='linux localhost.localdomain 2.6.26-gogol.1 #1 smp fri dec 25 22:04:40 msk 2009 i686 i686 i386 gnulinux '
    config_args='-Dcc=/opt/443/bin/gcc/bin/gcc -Doptimize=-g -DDMALLOC=/usr/local/bin/dmalloc -Dprefix=/opt/perl443-26-32-5.19.5 -DDEBUGGING'
    hint=recommended, useposix=true, d_sigaction=define
    useithreads=define, usemultiplicity=define
    useperlio=define, d_sfio=undef, uselargefiles=define, usesocks=undef
    use64bitint=undef, use64bitall=undef, uselongdouble=define
    usemymalloc=n, bincompat5005=undef
  Compiler:
    cc='/opt/443/bin/gcc/bin/gcc', ccflags ='-DDMALLOC -D_LARGEFILE_SOURCE -D_FILE_OFFSET_BITS=64',
    optimize='-g',
    cppflags='-DDMALLOC'
    ccversion='', gccversion='4.4.3', gccosandvers=''
    intsize=4, longsize=4, ptrsize=4, doublesize=8, byteorder=1234
    d_longlong=define, longlongsize=8, d_longdbl=define, longdblsize=12
    ivtype='long', ivsize=4, nvtype='long double', nvsize=12, Off_t='off_t', lseeksize=8
    alignbytes=4, prototype=define
  Linker and Libraries:
    ld='/opt/443/bin/gcc/bin/gcc', ldflags =' -L/usr/local/lib'
    libpth=/usr/local/lib /lib /usr/lib
    libs=-lnsl -lgdbm -ldb -ldl -lm -lcrypt -lutil -lpthread -lc
    perllibs=-lnsl -ldl -lm -lcrypt -lutil -lpthread -lc
    libc=/lib/libc-2.5.so, so=so, useshrplib=true, libperl=libperl.so
    gnulibc_version='2.5'
  Dynamic Linking:
    dlsrc=dl_dlopen.xs, dlext=so, d_dlsymun=undef, ccdlflags='-Wl,-E -Wl,-rpath,/opt/perl443-26-32-5.19.5/lib/5.12.0/i686-linux-thread-multi-ld/CORE'
    cccdlflags='-fPIC', lddlflags='-shared -g -L/usr/local/lib'


Characteristics of this binary (from libperl): 
  Compile-time options: MULTIPLICITY PERL_DONT_CREATE_GVSV
                        PERL_IMPLICIT_CONTEXT PERL_MAD PERL_MALLOC_WRAP
                        USE_FAST_STDIO USE_ITHREADS USE_LARGE_FILES
                        USE_LONG_DOUBLE USE_PERLIO USE_PERL_ATOF
                        USE_REENTRANT_API
  Built under linux
  Compiled at Sep 21 2013 01:50:24
  %ENV:
    PERL5LIB=""
    PERL5OPT=""
    PERL5_CPANPLUS_IS_RUNNING="26685"
    PERL5_CPAN_IS_RUNNING="26685"
    PERL_ANYEVENT_MODEL="POE"
    PERL_MM_USE_DEFAULT="1"
  @INC:
    /opt/perl443-26-32-5.19.5/lib/site_perl/5.12.0/i686-linux-thread-multi-ld
    /opt/perl443-26-32-5.19.5/lib/site_perl/5.12.0
    /opt/perl443-26-32-5.19.5/lib/5.12.0/i686-linux-thread-multi-ld
    /opt/perl443-26-32-5.19.5/lib/5.12.0
    .