ETL-Yertl v0.037 Perl 5 v5.24.1 x86_64-linux

Status
Pass
From
Slaven Rezić (SREZIC)
Dist
ETL-Yertl v0.037
Platform
Perl 5 v5.24.1 x86_64-linux
Date
2017-10-28 10:57:47
ID
d58678ee-bbce-11e7-b679-f28303386f56
This distribution has been tested as part of the CPAN Testers
project, supporting the Perl programming language.  See
http://wiki.cpantesters.org/ for more information or email
questions to cpan-testers-discuss@perl.org


--
Dear Doug Bell,

This is a computer-generated report for ETL-Yertl-0.037
on perl 5.24.1, created by CPAN-Reporter-1.2018.

Thank you for uploading your work to CPAN.  Congratulations!
All tests were successful.

Sections of this report:

    * Tester comments
    * Program output
    * Prerequisites
    * Environment and other context

------------------------------
TESTER COMMENTS
------------------------------

Additional comments from tester:

none provided

------------------------------
PROGRAM OUTPUT
------------------------------

Output from 'make test':

PERL_DL_NONLAZY=1 "/opt/perl-5.24.1/bin/perl5.24.1" "-MExtUtils::Command::MM" "-MTest::Harness" "-e" "undef *Test::Harness::Switches; test_harness(0, 'blib/lib', 'blib/arch')" t/*.t t/adapter/*.t t/bin/*.t t/command/ygrok/*.t t/command/ygrok/pattern/*.t t/command/yq/*.t t/format/*.t t/integration/*.t
Argument "2.020_03" isn't numeric in numeric ge (>=) at /opt/perl-5.24.1/lib/site_perl/5.24.1/Net/Async/HTTP.pm line 37.
Argument "2.020_03" isn't numeric in numeric ge (>=) at /opt/perl-5.24.1/lib/site_perl/5.24.1/Net/Async/HTTP.pm line 37.
t/00-compile.t ........................... ok
# 
# Versions for all modules listed in MYMETA.json (including optional ones):
# 
# === Configure Requires ===
# 
#     Module              Want Have
#     ------------------- ---- ----
#     ExtUtils::MakeMaker  any 7.30
# 
# === Build Requires ===
# 
#     Module              Want Have
#     ------------------- ---- ----
#     ExtUtils::MakeMaker  any 7.30
# 
# === Test Requires ===
# 
#     Module                  Want     Have
#     ------------------- -------- --------
#     Capture::Tiny            any     0.46
#     Dir::Self                any     0.11
#     ExtUtils::MakeMaker      any     7.30
#     File::Spec               any  3.63_01
#     Future                   any     0.35
#     IO::Handle               any     1.36
#     IPC::Open3               any     1.20
#     JSON::PP                 any     2.94
#     Mock::MonkeyPatch        any     0.04
#     Test::Deep               any    1.127
#     Test::Differences        any     0.64
#     Test::Exception          any     0.43
#     Test::Lib                any    0.002
#     Test::More          1.001005 1.302106
# 
# === Test Recommends ===
# 
#     Module         Want     Have
#     ---------- -------- --------
#     CPAN::Meta 2.120900 2.150010
# 
# === Runtime Requires ===
# 
#     Module                    Want       Have
#     ------------------- ---------- ----------
#     File::HomeDir              any      1.002
#     File::Spec                 any    3.63_01
#     Getopt::Long              2.36        2.5
#     Hash::Merge::Simple        any      0.051
#     IO::Interactive            any      1.022
#     Import::Base             0.010      1.003
#     JSON::MaybeXS              any   1.003009
#     List::Util                 any       1.49
#     Module::Runtime            any      0.015
#     Net::Async::HTTP           any       0.41
#     Path::Tiny               0.072      0.104
#     Pod::Usage::Return         any      0.003
#     Regexp::Common      2013031301 2017060201
#     SQL::Abstract              any       1.84
#     Time::Local                any     1.2300
#     Time::Piece                any     1.3202
#     URI                        any       1.71
#     YAML::Tiny                 any       1.70
#     boolean                    any       0.46
# 
# === Runtime Recommends ===
# 
#     Module       Want  Have
#     ------------ ---- -----
#     DBD::SQLite   any  1.54
#     DBI           any 1.636
#     JSON::PP      any  2.94
#     JSON::XS      any  3.04
#     Text::CSV     any  1.95
#     Text::CSV_XS  any  1.32
#     YAML::Syck    any  1.30
#     YAML::XS      any  0.65
# 
t/00-report-prereqs.t .................... ok
Argument "2.020_03" isn't numeric in numeric ge (>=) at /opt/perl-5.24.1/lib/site_perl/5.24.1/Net/Async/HTTP.pm line 37.
Name "CORE::GLOBAL::time" used only once: possible typo at t/adapter/graphite.t line 142.
t/adapter/graphite.t ..................... ok
Argument "2.020_03" isn't numeric in numeric ge (>=) at /opt/perl-5.24.1/lib/site_perl/5.24.1/Net/Async/HTTP.pm line 37.
Name "CORE::GLOBAL::time" used only once: possible typo at t/adapter/influxdb.t line 151.
t/adapter/influxdb.t ..................... ok
t/bin/yfrom.t ............................ ok
t/bin/ygrok.t ............................ ok
t/bin/yq.t ............................... ok
t/bin/ysql.t ............................. ok
t/bin/yto.t .............................. ok
t/bin/yts.t .............................. ok
t/command/ygrok/edit_patterns.t .......... ok
t/command/ygrok/pattern/http_combined.t .. ok
t/command/ygrok/pattern/http_common.t .... ok
t/command/ygrok/pattern/linux_proc.t ..... ok
t/command/ygrok/pattern/ls-l.t ........... ok
t/command/ygrok/pattern/ps-u.t ........... ok
t/command/ygrok/pattern/ps-x.t ........... ok
t/command/ygrok/pattern/ps.t ............. ok
t/command/ygrok/pattern/syslog.t ......... ok
t/command/yq/combinator.t ................ ok
t/command/yq/comparison.t ................ ok
t/command/yq/conditional.t ............... ok
t/command/yq/filter.t .................... ok
empty does not take arguments
t/command/yq/functions.t ................. ok
t/command/yq/regression.t ................ ok
t/command/yq/values.t .................... ok
t/format/csv.t ........................... ok
t/format/default.t ....................... ok
Prototype mismatch: sub main::decode_json ($) vs none at /opt/perl-5.24.1/lib/5.24.1/Exporter.pm line 66.
 at (eval 34) line 1.
t/format/json.t .......................... ok
t/format/yaml.t .......................... ok
t/integration/parse_apache_log.t ......... ok
All tests successful.
Files=31, Tests=109,  7 wallclock secs ( 0.08 usr  0.11 sys +  4.19 cusr  0.83 csys =  5.21 CPU)
Result: PASS

------------------------------
PREREQUISITES
------------------------------

Prerequisite modules loaded:

requires:

    Module              Need       Have      
    ------------------- ---------- ----------
    boolean             0          0.46      
    File::HomeDir       0          1.002     
    File::Spec          0          3.63_01   
    Getopt::Long        2.36       2.5       
    Hash::Merge::Simple 0          0.051     
    Import::Base        0.010      1.003     
    IO::Interactive     0          1.022     
    JSON::MaybeXS       0          1.003009  
    List::Util          0          1.49      
    Module::Runtime     0          0.015     
    Net::Async::HTTP    0          0.41      
    Path::Tiny          0.072      0.104     
    perl                5.010      5.024001  
    Pod::Usage::Return  0          0.003     
    Regexp::Common      2013031301 2017060201
    SQL::Abstract       0          1.84      
    Time::Local         0          1.2300    
    Time::Piece         0          1.3202    
    URI                 0          1.71      
    YAML::Tiny          0          1.70      

build_requires:

    Module              Need       Have      
    ------------------- ---------- ----------
    Capture::Tiny       0          0.46      
    Dir::Self           0          0.11      
    ExtUtils::MakeMaker 0          7.30      
    File::Spec          0          3.63_01   
    Future              0          0.35      
    IO::Handle          0          1.36      
    IPC::Open3          0          1.20      
    JSON::PP            0          2.94      
    Mock::MonkeyPatch   0          0.04      
    Test::Deep          0          1.127     
    Test::Differences   0          0.64      
    Test::Exception     0          0.43      
    Test::Lib           0          0.002     
    Test::More          1.001005   1.302106  

configure_requires:

    Module              Need       Have      
    ------------------- ---------- ----------
    ExtUtils::MakeMaker 0          7.30      


------------------------------
ENVIRONMENT AND OTHER CONTEXT
------------------------------

Environment variables:

    LANG = en_US.UTF-8
    PATH = /usr/local/bin:/usr/bin:/bin:/usr/local/sbin:/usr/sbin:/sbin:/home/cpansand/bin/linux-gnu:/home/cpansand/bin/sh:/home/cpansand/bin:/usr/games:/home/cpansand/devel:/home/eserte/src/srezic-misc/scripts
    PERL5LIB = /home/cpansand/.cpan/build/2017102806/MDV-Distribconf-4.100-5/blib/arch:/home/cpansand/.cpan/build/2017102806/MDV-Distribconf-4.100-5/blib/lib
    PERL5OPT = 
    PERL5_CPANPLUS_IS_RUNNING = 20795
    PERL5_CPAN_IS_RUNNING = 20795
    PERL5_CPAN_IS_RUNNING_IN_RECURSION = 20754,20795
    PERLDOC = -MPod::Perldoc::ToTextOverstrike
    PERL_BATCH = yes
    PERL_CANARY_STABILITY_NOPROMPT = 1
    PERL_CPAN_REPORTER_CONFIG = /var/tmp/cpansmoker-1023/2017102806/cpanreporter_000_config.ini
    PERL_EXTUTILS_AUTOINSTALL = --defaultdeps
    SHELL = /bin/zsh
    TERM = screen
    TMPDIR = /var/tmp/cpansmoker-1023/2017102806

Perl special variables (and OS-specific diagnostics, for MSWin32):

    $^X = /opt/perl-5.24.1/bin/perl5.24.1
    $UID/$EUID = 1023 / 1023
    $GID = 1023 1023
    $EGID = 1023 1023

Perl module toolchain versions installed:

    Module              Have    
    ------------------- --------
    CPAN                2.16    
    CPAN::Meta          2.150010
    Cwd                 3.63_01 
    ExtUtils::CBuilder  0.280226
    ExtUtils::Command   7.30    
    ExtUtils::Install   2.06    
    ExtUtils::MakeMaker 7.30    
    ExtUtils::Manifest  1.70    
    ExtUtils::ParseXS   3.31    
    File::Spec          3.63_01 
    JSON                2.94    
    JSON::PP            2.94    
    Module::Build       0.4224  
    Module::Signature   0.81    
    Parse::CPAN::Meta   2.150010
    Test::Harness       3.39    
    Test::More          1.302106
    YAML                1.23    
    YAML::Syck          1.30    
    version             0.9916  


--

Summary of my perl5 (revision 5 version 24 subversion 1) configuration:
   
  Platform:
    osname=linux, osvers=2.6.32-696.3.1.el6.x86_64, archname=x86_64-linux
    uname='linux centos6 2.6.32-696.3.1.el6.x86_64 #1 smp tue may 30 19:52:55 utc 2017 x86_64 x86_64 x86_64 gnulinux '
    config_args='-ds -e -Dprefix=/opt/perl-5.24.1 -Dcf_email=srezic@cpan.org'
    hint=recommended, useposix=true, d_sigaction=define
    useithreads=undef, usemultiplicity=undef
    use64bitint=define, use64bitall=define, uselongdouble=undef
    usemymalloc=n, bincompat5005=undef
  Compiler:
    cc='cc', ccflags ='-fwrapv -fno-strict-aliasing -pipe -fstack-protector -I/usr/local/include -D_LARGEFILE_SOURCE -D_FILE_OFFSET_BITS=64 -D_FORTIFY_SOURCE=2',
    optimize='-O2',
    cppflags='-fwrapv -fno-strict-aliasing -pipe -fstack-protector -I/usr/local/include'
    ccversion='', gccversion='4.4.7 20120313 (Red Hat 4.4.7-18)', gccosandvers=''
    intsize=4, longsize=8, ptrsize=8, doublesize=8, byteorder=12345678, doublekind=3
    d_longlong=define, longlongsize=8, d_longdbl=define, longdblsize=16, longdblkind=3
    ivtype='long', ivsize=8, nvtype='double', nvsize=8, Off_t='off_t', lseeksize=8
    alignbytes=8, prototype=define
  Linker and Libraries:
    ld='cc', ldflags =' -fstack-protector -L/usr/local/lib'
    libpth=/usr/local/lib /usr/lib /lib/../lib64 /usr/lib/../lib64 /lib /lib64 /usr/lib64 /usr/local/lib64
    libs=-lpthread -lnsl -lgdbm -ldb -ldl -lm -lcrypt -lutil -lc
    perllibs=-lpthread -lnsl -ldl -lm -lcrypt -lutil -lc
    libc=libc-2.12.so, so=so, useshrplib=false, libperl=libperl.a
    gnulibc_version='2.12'
  Dynamic Linking:
    dlsrc=dl_dlopen.xs, dlext=so, d_dlsymun=undef, ccdlflags='-Wl,-E'
    cccdlflags='-fPIC', lddlflags='-shared -O2 -L/usr/local/lib -fstack-protector'


Characteristics of this binary (from libperl): 
  Compile-time options: HAS_TIMES PERLIO_LAYERS PERL_COPY_ON_WRITE
                        PERL_DONT_CREATE_GVSV
                        PERL_HASH_FUNC_ONE_AT_A_TIME_HARD PERL_MALLOC_WRAP
                        PERL_PRESERVE_IVUV USE_64_BIT_ALL USE_64_BIT_INT
                        USE_LARGE_FILES USE_LOCALE USE_LOCALE_COLLATE
                        USE_LOCALE_CTYPE USE_LOCALE_NUMERIC USE_LOCALE_TIME
                        USE_PERLIO USE_PERL_ATOF
  Built under linux
  Compiled at Jun 20 2017 18:09:14
  %ENV:
    PERL5LIB="/home/cpansand/.cpan/build/2017102806/MDV-Distribconf-4.100-5/blib/arch:/home/cpansand/.cpan/build/2017102806/MDV-Distribconf-4.100-5/blib/lib"
    PERL5OPT=""
    PERL5_CPANPLUS_IS_RUNNING="20795"
    PERL5_CPAN_IS_RUNNING="20795"
    PERL5_CPAN_IS_RUNNING_IN_RECURSION="20754,20795"
    PERLDOC="-MPod::Perldoc::ToTextOverstrike"
    PERL_BATCH="yes"
    PERL_CANARY_STABILITY_NOPROMPT="1"
    PERL_CPAN_REPORTER_CONFIG="/var/tmp/cpansmoker-1023/2017102806/cpanreporter_000_config.ini"
    PERL_EXTUTILS_AUTOINSTALL="--defaultdeps"
  @INC:
    /home/cpansand/.cpan/build/2017102806/MDV-Distribconf-4.100-5/blib/arch
    /home/cpansand/.cpan/build/2017102806/MDV-Distribconf-4.100-5/blib/lib
    /opt/perl-5.24.1/lib/site_perl/5.24.1/x86_64-linux
    /opt/perl-5.24.1/lib/site_perl/5.24.1
    /opt/perl-5.24.1/lib/5.24.1/x86_64-linux
    /opt/perl-5.24.1/lib/5.24.1
    .