HTTP-Session2 v1.10 Perl 5 v5.41.8 x86_64-linux

Status
Pass
From
Andreas J. König (ANDK)
Dist
HTTP-Session2 v1.10
Platform
Perl 5 v5.41.8 x86_64-linux
Date
2025-02-04 14:03:39
ID
d596d37c-e300-11ef-a67b-9ed644ded36c
This distribution has been tested as part of the CPAN Testers
project, supporting the Perl programming language.  See
http://wiki.cpantesters.org/ for more information or email
questions to cpan-testers-discuss@perl.org


--
Dear Tokuhiro Matsuno'xmp,

This is a computer-generated report for HTTP-Session2-1.10
on perl 5.41.8, created by CPAN-Reporter-1.2020.

Thank you for uploading your work to CPAN.  Congratulations!
All tests were successful.

Sections of this report:

    * Tester comments
    * Program output
    * Prerequisites
    * Environment and other context

------------------------------
TESTER COMMENTS
------------------------------

Additional comments from tester:

this report is from an automated smoke testing program
and was not reviewed by a human for accuracy

------------------------------
PROGRAM OUTPUT
------------------------------

Output from './Build test':

t/00_compile.t .............. ok
Secret string too short at /tmp/loop_over_bdir-687284-97mdRc/HTTP-Session2-1.10-0/blib/lib/HTTP/Session2/Base.pm line 79.
	HTTP::Session2::Base::__ANON__(HTTP::Session2::ServerStore=HASH(0x5638e8233398), "s3cret") called at t/01_server_side.t line 23
	main::__ANON__("client -> server: request without cookie", CODE(0x5638e8b413f8)) called at t/01_server_side.t line 25
	main::__ANON__() called at /home/sand/src/perl/repoperls/installed-perls/host/k93focal/v5.41.8/b254/lib/site_perl/5.41.8/Test/Builder.pm line 368
	eval {...} called at /home/sand/src/perl/repoperls/installed-perls/host/k93focal/v5.41.8/b254/lib/site_perl/5.41.8/Test/Builder.pm line 368
	Test::Builder::subtest(Test::Builder=HASH(0x5638e8253c28), "First request", CODE(0x5638e88a3540)) called at /home/sand/src/perl/repoperls/installed-perls/host/k93focal/v5.41.8/b254/lib/site_perl/5.41.8/Test/More.pm line 831
	Test::More::subtest("First request", CODE(0x5638e88a3540)) called at t/01_server_side.t line 11
	main::scenario("First request", CODE(0x5638e88a3540)) called at t/01_server_side.t line 31
Secret string too short at /tmp/loop_over_bdir-687284-97mdRc/HTTP-Session2-1.10-0/blib/lib/HTTP/Session2/Base.pm line 79.
	HTTP::Session2::Base::__ANON__(HTTP::Session2::ServerStore=HASH(0x5638e8b41068), "s3cret") called at t/01_server_side.t line 40
	main::__ANON__("client -> server: request without cookie", CODE(0x5638e830d848)) called at t/01_server_side.t line 42
	main::__ANON__() called at /home/sand/src/perl/repoperls/installed-perls/host/k93focal/v5.41.8/b254/lib/site_perl/5.41.8/Test/Builder.pm line 368
	eval {...} called at /home/sand/src/perl/repoperls/installed-perls/host/k93focal/v5.41.8/b254/lib/site_perl/5.41.8/Test/Builder.pm line 368
	Test::Builder::subtest(Test::Builder=HASH(0x5638e8253c28), "Store something without login", CODE(0x5638e88eb0f0)) called at /home/sand/src/perl/repoperls/installed-perls/host/k93focal/v5.41.8/b254/lib/site_perl/5.41.8/Test/More.pm line 831
	Test::More::subtest("Store something without login", CODE(0x5638e88eb0f0)) called at t/01_server_side.t line 11
	main::scenario("Store something without login", CODE(0x5638e88eb0f0)) called at t/01_server_side.t line 58
Secret string too short at /tmp/loop_over_bdir-687284-97mdRc/HTTP-Session2-1.10-0/blib/lib/HTTP/Session2/Base.pm line 79.
	HTTP::Session2::Base::__ANON__(HTTP::Session2::ServerStore=HASH(0x5638e8b53cd0), "s3cret") called at t/01_server_side.t line 70
	main::__ANON__("client -> server: request without cookie", CODE(0x5638e8b41338)) called at t/01_server_side.t line 72
	main::__ANON__() called at /home/sand/src/perl/repoperls/installed-perls/host/k93focal/v5.41.8/b254/lib/site_perl/5.41.8/Test/Builder.pm line 368
	eval {...} called at /home/sand/src/perl/repoperls/installed-perls/host/k93focal/v5.41.8/b254/lib/site_perl/5.41.8/Test/Builder.pm line 368
	Test::Builder::subtest(Test::Builder=HASH(0x5638e8253c28), "Login", CODE(0x5638e8b266b0)) called at /home/sand/src/perl/repoperls/installed-perls/host/k93focal/v5.41.8/b254/lib/site_perl/5.41.8/Test/More.pm line 831
	Test::More::subtest("Login", CODE(0x5638e8b266b0)) called at t/01_server_side.t line 11
	main::scenario("Login", CODE(0x5638e8b266b0)) called at t/01_server_side.t line 96
Secret string too short at /tmp/loop_over_bdir-687284-97mdRc/HTTP-Session2-1.10-0/blib/lib/HTTP/Session2/Base.pm line 79.
	HTTP::Session2::Base::__ANON__(HTTP::Session2::ServerStore=HASH(0x5638e8b580a8), "s3cret") called at t/01_server_side.t line 108
	main::__ANON__("client -> server: request without cookie", CODE(0x5638e8b53be0)) called at t/01_server_side.t line 110
	main::__ANON__() called at /home/sand/src/perl/repoperls/installed-perls/host/k93focal/v5.41.8/b254/lib/site_perl/5.41.8/Test/Builder.pm line 368
	eval {...} called at /home/sand/src/perl/repoperls/installed-perls/host/k93focal/v5.41.8/b254/lib/site_perl/5.41.8/Test/Builder.pm line 368
	Test::Builder::subtest(Test::Builder=HASH(0x5638e8253c28), "In a login session", CODE(0x5638e8b30578)) called at /home/sand/src/perl/repoperls/installed-perls/host/k93focal/v5.41.8/b254/lib/site_perl/5.41.8/Test/More.pm line 831
	Test::More::subtest("In a login session", CODE(0x5638e8b30578)) called at t/01_server_side.t line 11
	main::scenario("In a login session", CODE(0x5638e8b30578)) called at t/01_server_side.t line 124
Secret string too short at /tmp/loop_over_bdir-687284-97mdRc/HTTP-Session2-1.10-0/blib/lib/HTTP/Session2/Base.pm line 79.
	HTTP::Session2::Base::__ANON__(HTTP::Session2::ServerStore=HASH(0x5638e8b4dfc8), "s3cret") called at t/01_server_side.t line 136
	main::__ANON__("client -> server: request without cookie", CODE(0x5638e82332f0)) called at t/01_server_side.t line 138
	main::__ANON__() called at /home/sand/src/perl/repoperls/installed-perls/host/k93focal/v5.41.8/b254/lib/site_perl/5.41.8/Test/Builder.pm line 368
	eval {...} called at /home/sand/src/perl/repoperls/installed-perls/host/k93focal/v5.41.8/b254/lib/site_perl/5.41.8/Test/Builder.pm line 368
	Test::Builder::subtest(Test::Builder=HASH(0x5638e8253c28), "Invalid session id", CODE(0x5638e8b30c50)) called at /home/sand/src/perl/repoperls/installed-perls/host/k93focal/v5.41.8/b254/lib/site_perl/5.41.8/Test/More.pm line 831
	Test::More::subtest("Invalid session id", CODE(0x5638e8b30c50)) called at t/01_server_side.t line 11
	main::scenario("Invalid session id", CODE(0x5638e8b30c50)) called at t/01_server_side.t line 153
Secret string too short at /tmp/loop_over_bdir-687284-97mdRc/HTTP-Session2-1.10-0/blib/lib/HTTP/Session2/Base.pm line 79.
	HTTP::Session2::Base::__ANON__(HTTP::Session2::ServerStore=HASH(0x5638e8b57460), "s3cret") called at t/01_server_side.t line 160
	main::__ANON__("client -> server: request without cookie", CODE(0x5638e8b53fa0)) called at t/01_server_side.t line 167
	main::__ANON__() called at /home/sand/src/perl/repoperls/installed-perls/host/k93focal/v5.41.8/b254/lib/site_perl/5.41.8/Test/Builder.pm line 368
	eval {...} called at /home/sand/src/perl/repoperls/installed-perls/host/k93focal/v5.41.8/b254/lib/site_perl/5.41.8/Test/Builder.pm line 368
	Test::Builder::subtest(Test::Builder=HASH(0x5638e8253c28), "Logout", CODE(0x5638e8b310e8)) called at /home/sand/src/perl/repoperls/installed-perls/host/k93focal/v5.41.8/b254/lib/site_perl/5.41.8/Test/More.pm line 831
	Test::More::subtest("Logout", CODE(0x5638e8b310e8)) called at t/01_server_side.t line 11
	main::scenario("Logout", CODE(0x5638e8b310e8)) called at t/01_server_side.t line 182
t/01_server_side.t .......... ok
Secret string too short at /tmp/loop_over_bdir-687284-97mdRc/HTTP-Session2-1.10-0/blib/lib/HTTP/Session2/Base.pm line 79.
	HTTP::Session2::Base::__ANON__(HTTP::Session2::ClientStore=HASH(0x55bea8a36728), "s3cret") called at t/02_client_side.t line 17
	main::__ANON__("client -> server: request without cookie", CODE(0x55bea80a1540)) called at t/02_client_side.t line 22
	main::__ANON__() called at /home/sand/src/perl/repoperls/installed-perls/host/k93focal/v5.41.8/b254/lib/site_perl/5.41.8/Test/Builder.pm line 368
	eval {...} called at /home/sand/src/perl/repoperls/installed-perls/host/k93focal/v5.41.8/b254/lib/site_perl/5.41.8/Test/Builder.pm line 368
	Test::Builder::subtest(Test::Builder=HASH(0x55bea80c1ad8), "First request", CODE(0x55bea809f990)) called at /home/sand/src/perl/repoperls/installed-perls/host/k93focal/v5.41.8/b254/lib/site_perl/5.41.8/Test/More.pm line 831
	Test::More::subtest("First request", CODE(0x55bea809f990)) called at t/02_client_side.t line 9
	main::scenario("First request", CODE(0x55bea809f990)) called at t/02_client_side.t line 28
Secret string too short at /tmp/loop_over_bdir-687284-97mdRc/HTTP-Session2-1.10-0/blib/lib/HTTP/Session2/Base.pm line 79.
	HTTP::Session2::Base::__ANON__(HTTP::Session2::ClientStore=HASH(0x55bea8a37388), "s3cret") called at t/02_client_side.t line 33
	main::__ANON__("client -> server: request without cookie", CODE(0x55bea80a1b88)) called at t/02_client_side.t line 38
	main::__ANON__() called at /home/sand/src/perl/repoperls/installed-perls/host/k93focal/v5.41.8/b254/lib/site_perl/5.41.8/Test/Builder.pm line 368
	eval {...} called at /home/sand/src/perl/repoperls/installed-perls/host/k93focal/v5.41.8/b254/lib/site_perl/5.41.8/Test/Builder.pm line 368
	Test::Builder::subtest(Test::Builder=HASH(0x55bea80c1ad8), "Store something without login", CODE(0x55bea86c6280)) called at /home/sand/src/perl/repoperls/installed-perls/host/k93focal/v5.41.8/b254/lib/site_perl/5.41.8/Test/More.pm line 831
	Test::More::subtest("Store something without login", CODE(0x55bea86c6280)) called at t/02_client_side.t line 9
	main::scenario("Store something without login", CODE(0x55bea86c6280)) called at t/02_client_side.t line 54
Do not use HTTP::Session2::ClientStore. Use HTTP::Session2::ServerStore or HTTP::Session2::ClientStore2 instead. at /tmp/loop_over_bdir-687284-97mdRc/HTTP-Session2-1.10-0/blib/lib/HTTP/Session2/ClientStore.pm line 25.
Secret string too short at /tmp/loop_over_bdir-687284-97mdRc/HTTP-Session2-1.10-0/blib/lib/HTTP/Session2/Base.pm line 79.
	HTTP::Session2::Base::__ANON__(HTTP::Session2::ClientStore=HASH(0x55bea8a373b8), "s3cret") called at t/02_client_side.t line 60
	main::__ANON__("client -> server: request without cookie", CODE(0x55bea8a36d70)) called at t/02_client_side.t line 66
	main::__ANON__() called at /home/sand/src/perl/repoperls/installed-perls/host/k93focal/v5.41.8/b254/lib/site_perl/5.41.8/Test/Builder.pm line 368
	eval {...} called at /home/sand/src/perl/repoperls/installed-perls/host/k93focal/v5.41.8/b254/lib/site_perl/5.41.8/Test/Builder.pm line 368
	Test::Builder::subtest(Test::Builder=HASH(0x55bea80c1ad8), "Login", CODE(0x55bea8a16040)) called at /home/sand/src/perl/repoperls/installed-perls/host/k93focal/v5.41.8/b254/lib/site_perl/5.41.8/Test/More.pm line 831
	Test::More::subtest("Login", CODE(0x55bea8a16040)) called at t/02_client_side.t line 9
	main::scenario("Login", CODE(0x55bea8a16040)) called at t/02_client_side.t line 86
Do not use HTTP::Session2::ClientStore. Use HTTP::Session2::ServerStore or HTTP::Session2::ClientStore2 instead. at /tmp/loop_over_bdir-687284-97mdRc/HTTP-Session2-1.10-0/blib/lib/HTTP/Session2/ClientStore.pm line 35.
Do not use HTTP::Session2::ClientStore. Use HTTP::Session2::ServerStore or HTTP::Session2::ClientStore2 instead. at /tmp/loop_over_bdir-687284-97mdRc/HTTP-Session2-1.10-0/blib/lib/HTTP/Session2/ClientStore.pm line 25.
Secret string too short at /tmp/loop_over_bdir-687284-97mdRc/HTTP-Session2-1.10-0/blib/lib/HTTP/Session2/Base.pm line 79.
	HTTP::Session2::Base::__ANON__(HTTP::Session2::ClientStore=HASH(0x55bea8a3e508), "s3cret") called at t/02_client_side.t line 92
	main::__ANON__("client -> server: request without cookie", CODE(0x55bea8a36f20)) called at t/02_client_side.t line 98
	main::__ANON__() called at /home/sand/src/perl/repoperls/installed-perls/host/k93focal/v5.41.8/b254/lib/site_perl/5.41.8/Test/Builder.pm line 368
	eval {...} called at /home/sand/src/perl/repoperls/installed-perls/host/k93focal/v5.41.8/b254/lib/site_perl/5.41.8/Test/Builder.pm line 368
	Test::Builder::subtest(Test::Builder=HASH(0x55bea80c1ad8), "In a login session", CODE(0x55bea8a233e0)) called at /home/sand/src/perl/repoperls/installed-perls/host/k93focal/v5.41.8/b254/lib/site_perl/5.41.8/Test/More.pm line 831
	Test::More::subtest("In a login session", CODE(0x55bea8a233e0)) called at t/02_client_side.t line 9
	main::scenario("In a login session", CODE(0x55bea8a233e0)) called at t/02_client_side.t line 107
Do not use HTTP::Session2::ClientStore. Use HTTP::Session2::ServerStore or HTTP::Session2::ClientStore2 instead. at /tmp/loop_over_bdir-687284-97mdRc/HTTP-Session2-1.10-0/blib/lib/HTTP/Session2/ClientStore.pm line 35.
Do not use HTTP::Session2::ClientStore. Use HTTP::Session2::ServerStore or HTTP::Session2::ClientStore2 instead. at /tmp/loop_over_bdir-687284-97mdRc/HTTP-Session2-1.10-0/blib/lib/HTTP/Session2/ClientStore.pm line 25.
Secret string too short at /tmp/loop_over_bdir-687284-97mdRc/HTTP-Session2-1.10-0/blib/lib/HTTP/Session2/Base.pm line 79.
	HTTP::Session2::Base::__ANON__(HTTP::Session2::ClientStore=HASH(0x55bea8a37250), "s3cret") called at t/02_client_side.t line 112
	main::__ANON__("client -> server: request without cookie", CODE(0x55bea8a3e568)) called at t/02_client_side.t line 118
	main::__ANON__() called at /home/sand/src/perl/repoperls/installed-perls/host/k93focal/v5.41.8/b254/lib/site_perl/5.41.8/Test/Builder.pm line 368
	eval {...} called at /home/sand/src/perl/repoperls/installed-perls/host/k93focal/v5.41.8/b254/lib/site_perl/5.41.8/Test/Builder.pm line 368
	Test::Builder::subtest(Test::Builder=HASH(0x55bea80c1ad8), "Logout", CODE(0x55bea8a23458)) called at /home/sand/src/perl/repoperls/installed-perls/host/k93focal/v5.41.8/b254/lib/site_perl/5.41.8/Test/More.pm line 831
	Test::More::subtest("Logout", CODE(0x55bea8a23458)) called at t/02_client_side.t line 9
	main::scenario("Logout", CODE(0x55bea8a23458)) called at t/02_client_side.t line 131
t/02_client_side.t .......... ok
Secret string too short at /tmp/loop_over_bdir-687284-97mdRc/HTTP-Session2-1.10-0/blib/lib/HTTP/Session2/Base.pm line 79.
	HTTP::Session2::Base::__ANON__(HTTP::Session2::ServerStore=HASH(0x55c47a3d81b0), "s3cret") called at t/03_mech.t line 121
	main::server_session(HASH(0x55c47a391298)) called at t/03_mech.t line 17
	main::__ANON__(HASH(0x55c47a391298)) called at /home/sand/src/perl/repoperls/installed-perls/host/k93focal/v5.41.8/b254/lib/site_perl/5.41.8/Test/WWW/Mechanize/PSGI.pm line 46
	Test::WWW::Mechanize::PSGI::try {...} () called at /home/sand/src/perl/repoperls/installed-perls/host/k93focal/v5.41.8/b254/lib/site_perl/5.41.8/Try/Tiny.pm line 102
	eval {...} called at /home/sand/src/perl/repoperls/installed-perls/host/k93focal/v5.41.8/b254/lib/site_perl/5.41.8/Try/Tiny.pm line 93
	Try::Tiny::try(CODE(0x55c47a3d7c70), Try::Tiny::Catch=REF(0x55c478dbe0a0)) called at /home/sand/src/perl/repoperls/installed-perls/host/k93focal/v5.41.8/b254/lib/site_perl/5.41.8/Test/WWW/Mechanize/PSGI.pm line 53
	Test::WWW::Mechanize::PSGI::simple_request(Test::WWW::Mechanize::PSGI=HASH(0x55c478dbdba8), HTTP::Request=HASH(0x55c47a314940), undef, undef) called at /home/sand/src/perl/repoperls/installed-perls/host/k93focal/v5.41.8/b254/lib/site_perl/5.41.8/LWP/UserAgent.pm line 308
	LWP::UserAgent::request(Test::WWW::Mechanize::PSGI=HASH(0x55c478dbdba8), HTTP::Request=HASH(0x55c47a314940)) called at /home/sand/src/perl/repoperls/installed-perls/host/k93focal/v5.41.8/b254/lib/site_perl/5.41.8/WWW/Mechanize.pm line 1699
	WWW::Mechanize::_make_request(Test::WWW::Mechanize::PSGI=HASH(0x55c478dbdba8), HTTP::Request=HASH(0x55c47a314940)) called at /home/sand/src/perl/repoperls/installed-perls/host/k93focal/v5.41.8/b254/lib/site_perl/5.41.8/WWW/Mechanize.pm line 1534
	WWW::Mechanize::request(Test::WWW::Mechanize::PSGI=HASH(0x55c478dbdba8), HTTP::Request=HASH(0x55c47a314940)) called at /home/sand/src/perl/repoperls/installed-perls/host/k93focal/v5.41.8/b254/lib/site_perl/5.41.8/LWP/UserAgent.pm line 452
	LWP::UserAgent::get(Test::WWW::Mechanize::PSGI=HASH(0x55c478dbdba8), "/") called at /home/sand/src/perl/repoperls/installed-perls/host/k93focal/v5.41.8/b254/lib/site_perl/5.41.8/WWW/Mechanize.pm line 124
	WWW::Mechanize::get(Test::WWW::Mechanize::PSGI=HASH(0x55c478dbdba8), "/") called at /home/sand/src/perl/repoperls/installed-perls/host/k93focal/v5.41.8/b254/lib/site_perl/5.41.8/Test/WWW/Mechanize.pm line 192
	Test::WWW::Mechanize::get_ok(Test::WWW::Mechanize::PSGI=HASH(0x55c478dbdba8), "/") called at t/03_mech.t line 74
Secret string too short at /tmp/loop_over_bdir-687284-97mdRc/HTTP-Session2-1.10-0/blib/lib/HTTP/Session2/Base.pm line 79.
	HTTP::Session2::Base::__ANON__(HTTP::Session2::ServerStore=HASH(0x55c47a3b7a30), "s3cret") called at t/03_mech.t line 121
	main::server_session(HASH(0x55c47a25cda0)) called at t/03_mech.t line 17
	main::__ANON__(HASH(0x55c47a25cda0)) called at /home/sand/src/perl/repoperls/installed-perls/host/k93focal/v5.41.8/b254/lib/site_perl/5.41.8/Test/WWW/Mechanize/PSGI.pm line 46
	Test::WWW::Mechanize::PSGI::try {...} () called at /home/sand/src/perl/repoperls/installed-perls/host/k93focal/v5.41.8/b254/lib/site_perl/5.41.8/Try/Tiny.pm line 102
	eval {...} called at /home/sand/src/perl/repoperls/installed-perls/host/k93focal/v5.41.8/b254/lib/site_perl/5.41.8/Try/Tiny.pm line 93
	Try::Tiny::try(CODE(0x55c478db35d8), Try::Tiny::Catch=REF(0x55c47a3d7e20)) called at /home/sand/src/perl/repoperls/installed-perls/host/k93focal/v5.41.8/b254/lib/site_perl/5.41.8/Test/WWW/Mechanize/PSGI.pm line 53
	Test::WWW::Mechanize::PSGI::simple_request(Test::WWW::Mechanize::PSGI=HASH(0x55c478dbdba8), HTTP::Request=HASH(0x55c47a3d8318), undef, undef) called at /home/sand/src/perl/repoperls/installed-perls/host/k93focal/v5.41.8/b254/lib/site_perl/5.41.8/LWP/UserAgent.pm line 308
	LWP::UserAgent::request(Test::WWW::Mechanize::PSGI=HASH(0x55c478dbdba8), HTTP::Request=HASH(0x55c47a3d8318)) called at /home/sand/src/perl/repoperls/installed-perls/host/k93focal/v5.41.8/b254/lib/site_perl/5.41.8/WWW/Mechanize.pm line 1699
	WWW::Mechanize::_make_request(Test::WWW::Mechanize::PSGI=HASH(0x55c478dbdba8), HTTP::Request=HASH(0x55c47a3d8318)) called at /home/sand/src/perl/repoperls/installed-perls/host/k93focal/v5.41.8/b254/lib/site_perl/5.41.8/WWW/Mechanize.pm line 1534
	WWW::Mechanize::request(Test::WWW::Mechanize::PSGI=HASH(0x55c478dbdba8), HTTP::Request=HASH(0x55c47a3d8318)) called at /home/sand/src/perl/repoperls/installed-perls/host/k93focal/v5.41.8/b254/lib/site_perl/5.41.8/LWP/UserAgent.pm line 498
	LWP::UserAgent::post(Test::WWW::Mechanize::PSGI=HASH(0x55c478dbdba8), "http://localhost/wishlist?foo", HASH(0x55c479f61a98)) called at /home/sand/src/perl/repoperls/installed-perls/host/k93focal/v5.41.8/b254/lib/site_perl/5.41.8/WWW/Mechanize.pm line 136
	WWW::Mechanize::post(Test::WWW::Mechanize::PSGI=HASH(0x55c478dbdba8), "/wishlist?foo", HASH(0x55c479f61a98)) called at /home/sand/src/perl/repoperls/installed-perls/host/k93focal/v5.41.8/b254/lib/site_perl/5.41.8/Test/WWW/Mechanize.pm line 321
	Test::WWW::Mechanize::post_ok(Test::WWW::Mechanize::PSGI=HASH(0x55c478dbdba8), "/wishlist?foo") called at t/03_mech.t line 75
Secret string too short at /tmp/loop_over_bdir-687284-97mdRc/HTTP-Session2-1.10-0/blib/lib/HTTP/Session2/Base.pm line 79.
	HTTP::Session2::Base::__ANON__(HTTP::Session2::ServerStore=HASH(0x55c47a3b7760), "s3cret") called at t/03_mech.t line 121
	main::server_session(HASH(0x55c47a3b79a0)) called at t/03_mech.t line 17
	main::__ANON__(HASH(0x55c47a3b79a0)) called at /home/sand/src/perl/repoperls/installed-perls/host/k93focal/v5.41.8/b254/lib/site_perl/5.41.8/Test/WWW/Mechanize/PSGI.pm line 46
	Test::WWW::Mechanize::PSGI::try {...} () called at /home/sand/src/perl/repoperls/installed-perls/host/k93focal/v5.41.8/b254/lib/site_perl/5.41.8/Try/Tiny.pm line 102
	eval {...} called at /home/sand/src/perl/repoperls/installed-perls/host/k93focal/v5.41.8/b254/lib/site_perl/5.41.8/Try/Tiny.pm line 93
	Try::Tiny::try(CODE(0x55c47a3b8060), Try::Tiny::Catch=REF(0x55c47a3b78f8)) called at /home/sand/src/perl/repoperls/installed-perls/host/k93focal/v5.41.8/b254/lib/site_perl/5.41.8/Test/WWW/Mechanize/PSGI.pm line 53
	Test::WWW::Mechanize::PSGI::simple_request(Test::WWW::Mechanize::PSGI=HASH(0x55c478dbdba8), HTTP::Request=HASH(0x55c47a3e5750), undef, undef) called at /home/sand/src/perl/repoperls/installed-perls/host/k93focal/v5.41.8/b254/lib/site_perl/5.41.8/LWP/UserAgent.pm line 308
	LWP::UserAgent::request(Test::WWW::Mechanize::PSGI=HASH(0x55c478dbdba8), HTTP::Request=HASH(0x55c47a3e5750)) called at /home/sand/src/perl/repoperls/installed-perls/host/k93focal/v5.41.8/b254/lib/site_perl/5.41.8/WWW/Mechanize.pm line 1699
	WWW::Mechanize::_make_request(Test::WWW::Mechanize::PSGI=HASH(0x55c478dbdba8), HTTP::Request=HASH(0x55c47a3e5750)) called at /home/sand/src/perl/repoperls/installed-perls/host/k93focal/v5.41.8/b254/lib/site_perl/5.41.8/WWW/Mechanize.pm line 1534
	WWW::Mechanize::request(Test::WWW::Mechanize::PSGI=HASH(0x55c478dbdba8), HTTP::Request=HASH(0x55c47a3e5750)) called at /home/sand/src/perl/repoperls/installed-perls/host/k93focal/v5.41.8/b254/lib/site_perl/5.41.8/LWP/UserAgent.pm line 452
	LWP::UserAgent::get(Test::WWW::Mechanize::PSGI=HASH(0x55c478dbdba8), "http://localhost/wishlist") called at /home/sand/src/perl/repoperls/installed-perls/host/k93focal/v5.41.8/b254/lib/site_perl/5.41.8/WWW/Mechanize.pm line 124
	WWW::Mechanize::get(Test::WWW::Mechanize::PSGI=HASH(0x55c478dbdba8), "/wishlist") called at /home/sand/src/perl/repoperls/installed-perls/host/k93focal/v5.41.8/b254/lib/site_perl/5.41.8/Test/WWW/Mechanize.pm line 192
	Test::WWW::Mechanize::get_ok(Test::WWW::Mechanize::PSGI=HASH(0x55c478dbdba8), "/wishlist") called at t/03_mech.t line 76
Secret string too short at /tmp/loop_over_bdir-687284-97mdRc/HTTP-Session2-1.10-0/blib/lib/HTTP/Session2/Base.pm line 79.
	HTTP::Session2::Base::__ANON__(HTTP::Session2::ServerStore=HASH(0x55c47a3b7af0), "s3cret") called at t/03_mech.t line 121
	main::server_session(HASH(0x55c47a3e6590)) called at t/03_mech.t line 17
	main::__ANON__(HASH(0x55c47a3e6590)) called at /home/sand/src/perl/repoperls/installed-perls/host/k93focal/v5.41.8/b254/lib/site_perl/5.41.8/Test/WWW/Mechanize/PSGI.pm line 46
	Test::WWW::Mechanize::PSGI::try {...} () called at /home/sand/src/perl/repoperls/installed-perls/host/k93focal/v5.41.8/b254/lib/site_perl/5.41.8/Try/Tiny.pm line 102
	eval {...} called at /home/sand/src/perl/repoperls/installed-perls/host/k93focal/v5.41.8/b254/lib/site_perl/5.41.8/Try/Tiny.pm line 93
	Try::Tiny::try(CODE(0x55c478e98b78), Try::Tiny::Catch=REF(0x55c47a3b7f70)) called at /home/sand/src/perl/repoperls/installed-perls/host/k93focal/v5.41.8/b254/lib/site_perl/5.41.8/Test/WWW/Mechanize/PSGI.pm line 53
	Test::WWW::Mechanize::PSGI::simple_request(Test::WWW::Mechanize::PSGI=HASH(0x55c478dbdba8), HTTP::Request=HASH(0x55c47a3fb768), undef, undef) called at /home/sand/src/perl/repoperls/installed-perls/host/k93focal/v5.41.8/b254/lib/site_perl/5.41.8/LWP/UserAgent.pm line 308
	LWP::UserAgent::request(Test::WWW::Mechanize::PSGI=HASH(0x55c478dbdba8), HTTP::Request=HASH(0x55c47a3fb768)) called at /home/sand/src/perl/repoperls/installed-perls/host/k93focal/v5.41.8/b254/lib/site_perl/5.41.8/WWW/Mechanize.pm line 1699
	WWW::Mechanize::_make_request(Test::WWW::Mechanize::PSGI=HASH(0x55c478dbdba8), HTTP::Request=HASH(0x55c47a3fb768)) called at /home/sand/src/perl/repoperls/installed-perls/host/k93focal/v5.41.8/b254/lib/site_perl/5.41.8/WWW/Mechanize.pm line 1534
	WWW::Mechanize::request(Test::WWW::Mechanize::PSGI=HASH(0x55c478dbdba8), HTTP::Request=HASH(0x55c47a3fb768)) called at /home/sand/src/perl/repoperls/installed-perls/host/k93focal/v5.41.8/b254/lib/site_perl/5.41.8/LWP/UserAgent.pm line 498
	LWP::UserAgent::post(Test::WWW::Mechanize::PSGI=HASH(0x55c478dbdba8), "http://localhost/wishlist?bar") called at /home/sand/src/perl/repoperls/installed-perls/host/k93focal/v5.41.8/b254/lib/site_perl/5.41.8/WWW/Mechanize.pm line 136
	WWW::Mechanize::post(Test::WWW::Mechanize::PSGI=HASH(0x55c478dbdba8), "/wishlist?bar") called at t/03_mech.t line 78
Secret string too short at /tmp/loop_over_bdir-687284-97mdRc/HTTP-Session2-1.10-0/blib/lib/HTTP/Session2/Base.pm line 79.
	HTTP::Session2::Base::__ANON__(HTTP::Session2::ServerStore=HASH(0x55c47a3fbb88), "s3cret") called at t/03_mech.t line 121
	main::server_session(HASH(0x55c47a3fb660)) called at t/03_mech.t line 17
	main::__ANON__(HASH(0x55c47a3fb660)) called at /home/sand/src/perl/repoperls/installed-perls/host/k93focal/v5.41.8/b254/lib/site_perl/5.41.8/Test/WWW/Mechanize/PSGI.pm line 46
	Test::WWW::Mechanize::PSGI::try {...} () called at /home/sand/src/perl/repoperls/installed-perls/host/k93focal/v5.41.8/b254/lib/site_perl/5.41.8/Try/Tiny.pm line 102
	eval {...} called at /home/sand/src/perl/repoperls/installed-perls/host/k93focal/v5.41.8/b254/lib/site_perl/5.41.8/Try/Tiny.pm line 93
	Try::Tiny::try(CODE(0x55c47a3fba80), Try::Tiny::Catch=REF(0x55c47a3e6320)) called at /home/sand/src/perl/repoperls/installed-perls/host/k93focal/v5.41.8/b254/lib/site_perl/5.41.8/Test/WWW/Mechanize/PSGI.pm line 53
	Test::WWW::Mechanize::PSGI::simple_request(Test::WWW::Mechanize::PSGI=HASH(0x55c478dbdba8), HTTP::Request=HASH(0x55c47a3e64b8), undef, undef) called at /home/sand/src/perl/repoperls/installed-perls/host/k93focal/v5.41.8/b254/lib/site_perl/5.41.8/LWP/UserAgent.pm line 308
	LWP::UserAgent::request(Test::WWW::Mechanize::PSGI=HASH(0x55c478dbdba8), HTTP::Request=HASH(0x55c47a3e64b8)) called at /home/sand/src/perl/repoperls/installed-perls/host/k93focal/v5.41.8/b254/lib/site_perl/5.41.8/WWW/Mechanize.pm line 1699
	WWW::Mechanize::_make_request(Test::WWW::Mechanize::PSGI=HASH(0x55c478dbdba8), HTTP::Request=HASH(0x55c47a3e64b8)) called at /home/sand/src/perl/repoperls/installed-perls/host/k93focal/v5.41.8/b254/lib/site_perl/5.41.8/WWW/Mechanize.pm line 1534
	WWW::Mechanize::request(Test::WWW::Mechanize::PSGI=HASH(0x55c478dbdba8), HTTP::Request=HASH(0x55c47a3e64b8)) called at /home/sand/src/perl/repoperls/installed-perls/host/k93focal/v5.41.8/b254/lib/site_perl/5.41.8/LWP/UserAgent.pm line 498
	LWP::UserAgent::post(Test::WWW::Mechanize::PSGI=HASH(0x55c478dbdba8), "http://localhost/wishlist?bar", HASH(0x55c479f61a98)) called at /home/sand/src/perl/repoperls/installed-perls/host/k93focal/v5.41.8/b254/lib/site_perl/5.41.8/WWW/Mechanize.pm line 136
	WWW::Mechanize::post(Test::WWW::Mechanize::PSGI=HASH(0x55c478dbdba8), "/wishlist?bar", HASH(0x55c479f61a98)) called at /home/sand/src/perl/repoperls/installed-perls/host/k93focal/v5.41.8/b254/lib/site_perl/5.41.8/Test/WWW/Mechanize.pm line 321
	Test::WWW::Mechanize::post_ok(Test::WWW::Mechanize::PSGI=HASH(0x55c478dbdba8), "/wishlist?bar") called at t/03_mech.t line 81
Secret string too short at /tmp/loop_over_bdir-687284-97mdRc/HTTP-Session2-1.10-0/blib/lib/HTTP/Session2/Base.pm line 79.
	HTTP::Session2::Base::__ANON__(HTTP::Session2::ServerStore=HASH(0x55c47a3fbae0), "s3cret") called at t/03_mech.t line 121
	main::server_session(HASH(0x55c47a3fbba0)) called at t/03_mech.t line 17
	main::__ANON__(HASH(0x55c47a3fbba0)) called at /home/sand/src/perl/repoperls/installed-perls/host/k93focal/v5.41.8/b254/lib/site_perl/5.41.8/Test/WWW/Mechanize/PSGI.pm line 46
	Test::WWW::Mechanize::PSGI::try {...} () called at /home/sand/src/perl/repoperls/installed-perls/host/k93focal/v5.41.8/b254/lib/site_perl/5.41.8/Try/Tiny.pm line 102
	eval {...} called at /home/sand/src/perl/repoperls/installed-perls/host/k93focal/v5.41.8/b254/lib/site_perl/5.41.8/Try/Tiny.pm line 93
	Try::Tiny::try(CODE(0x55c47a3fbe28), Try::Tiny::Catch=REF(0x55c47a3fbc90)) called at /home/sand/src/perl/repoperls/installed-perls/host/k93focal/v5.41.8/b254/lib/site_perl/5.41.8/Test/WWW/Mechanize/PSGI.pm line 53
	Test::WWW::Mechanize::PSGI::simple_request(Test::WWW::Mechanize::PSGI=HASH(0x55c478dbdba8), HTTP::Request=HASH(0x55c47a3fc278), undef, undef) called at /home/sand/src/perl/repoperls/installed-perls/host/k93focal/v5.41.8/b254/lib/site_perl/5.41.8/LWP/UserAgent.pm line 308
	LWP::UserAgent::request(Test::WWW::Mechanize::PSGI=HASH(0x55c478dbdba8), HTTP::Request=HASH(0x55c47a3fc278)) called at /home/sand/src/perl/repoperls/installed-perls/host/k93focal/v5.41.8/b254/lib/site_perl/5.41.8/WWW/Mechanize.pm line 1699
	WWW::Mechanize::_make_request(Test::WWW::Mechanize::PSGI=HASH(0x55c478dbdba8), HTTP::Request=HASH(0x55c47a3fc278)) called at /home/sand/src/perl/repoperls/installed-perls/host/k93focal/v5.41.8/b254/lib/site_perl/5.41.8/WWW/Mechanize.pm line 1534
	WWW::Mechanize::request(Test::WWW::Mechanize::PSGI=HASH(0x55c478dbdba8), HTTP::Request=HASH(0x55c47a3fc278)) called at /home/sand/src/perl/repoperls/installed-perls/host/k93focal/v5.41.8/b254/lib/site_perl/5.41.8/LWP/UserAgent.pm line 452
	LWP::UserAgent::get(Test::WWW::Mechanize::PSGI=HASH(0x55c478dbdba8), "http://localhost/wishlist") called at /home/sand/src/perl/repoperls/installed-perls/host/k93focal/v5.41.8/b254/lib/site_perl/5.41.8/WWW/Mechanize.pm line 124
	WWW::Mechanize::get(Test::WWW::Mechanize::PSGI=HASH(0x55c478dbdba8), "/wishlist") called at /home/sand/src/perl/repoperls/installed-perls/host/k93focal/v5.41.8/b254/lib/site_perl/5.41.8/Test/WWW/Mechanize.pm line 192
	Test::WWW::Mechanize::get_ok(Test::WWW::Mechanize::PSGI=HASH(0x55c478dbdba8), "/wishlist") called at t/03_mech.t line 82
Secret string too short at /tmp/loop_over_bdir-687284-97mdRc/HTTP-Session2-1.10-0/blib/lib/HTTP/Session2/Base.pm line 79.
	HTTP::Session2::Base::__ANON__(HTTP::Session2::ServerStore=HASH(0x55c47a400660), "s3cret") called at t/03_mech.t line 121
	main::server_session(HASH(0x55c47a3fbac8)) called at t/03_mech.t line 17
	main::__ANON__(HASH(0x55c47a3fbac8)) called at /home/sand/src/perl/repoperls/installed-perls/host/k93focal/v5.41.8/b254/lib/site_perl/5.41.8/Test/WWW/Mechanize/PSGI.pm line 46
	Test::WWW::Mechanize::PSGI::try {...} () called at /home/sand/src/perl/repoperls/installed-perls/host/k93focal/v5.41.8/b254/lib/site_perl/5.41.8/Try/Tiny.pm line 102
	eval {...} called at /home/sand/src/perl/repoperls/installed-perls/host/k93focal/v5.41.8/b254/lib/site_perl/5.41.8/Try/Tiny.pm line 93
	Try::Tiny::try(CODE(0x55c47a3fc038), Try::Tiny::Catch=REF(0x55c47a3fbbd0)) called at /home/sand/src/perl/repoperls/installed-perls/host/k93focal/v5.41.8/b254/lib/site_perl/5.41.8/Test/WWW/Mechanize/PSGI.pm line 53
	Test::WWW::Mechanize::PSGI::simple_request(Test::WWW::Mechanize::PSGI=HASH(0x55c478dbdba8), HTTP::Request=HASH(0x55c47a3b7c28), undef, undef) called at /home/sand/src/perl/repoperls/installed-perls/host/k93focal/v5.41.8/b254/lib/site_perl/5.41.8/LWP/UserAgent.pm line 308
	LWP::UserAgent::request(Test::WWW::Mechanize::PSGI=HASH(0x55c478dbdba8), HTTP::Request=HASH(0x55c47a3b7c28)) called at /home/sand/src/perl/repoperls/installed-perls/host/k93focal/v5.41.8/b254/lib/site_perl/5.41.8/WWW/Mechanize.pm line 1699
	WWW::Mechanize::_make_request(Test::WWW::Mechanize::PSGI=HASH(0x55c478dbdba8), HTTP::Request=HASH(0x55c47a3b7c28)) called at /home/sand/src/perl/repoperls/installed-perls/host/k93focal/v5.41.8/b254/lib/site_perl/5.41.8/WWW/Mechanize.pm line 1534
	WWW::Mechanize::request(Test::WWW::Mechanize::PSGI=HASH(0x55c478dbdba8), HTTP::Request=HASH(0x55c47a3b7c28)) called at /home/sand/src/perl/repoperls/installed-perls/host/k93focal/v5.41.8/b254/lib/site_perl/5.41.8/LWP/UserAgent.pm line 498
	LWP::UserAgent::post(Test::WWW::Mechanize::PSGI=HASH(0x55c478dbdba8), "http://localhost/account/login?john", HASH(0x55c479f61a98)) called at /home/sand/src/perl/repoperls/installed-perls/host/k93focal/v5.41.8/b254/lib/site_perl/5.41.8/WWW/Mechanize.pm line 136
	WWW::Mechanize::post(Test::WWW::Mechanize::PSGI=HASH(0x55c478dbdba8), "/account/login?john", HASH(0x55c479f61a98)) called at /home/sand/src/perl/repoperls/installed-perls/host/k93focal/v5.41.8/b254/lib/site_perl/5.41.8/Test/WWW/Mechanize.pm line 321
	Test::WWW::Mechanize::post_ok(Test::WWW::Mechanize::PSGI=HASH(0x55c478dbdba8), "/account/login?john") called at t/03_mech.t line 84
Secret string too short at /tmp/loop_over_bdir-687284-97mdRc/HTTP-Session2-1.10-0/blib/lib/HTTP/Session2/Base.pm line 79.
	HTTP::Session2::Base::__ANON__(HTTP::Session2::ServerStore=HASH(0x55c47a3fc530), "s3cret") called at t/03_mech.t line 121
	main::server_session(HASH(0x55c47a3fc428)) called at t/03_mech.t line 17
	main::__ANON__(HASH(0x55c47a3fc428)) called at /home/sand/src/perl/repoperls/installed-perls/host/k93focal/v5.41.8/b254/lib/site_perl/5.41.8/Test/WWW/Mechanize/PSGI.pm line 46
	Test::WWW::Mechanize::PSGI::try {...} () called at /home/sand/src/perl/repoperls/installed-perls/host/k93focal/v5.41.8/b254/lib/site_perl/5.41.8/Try/Tiny.pm line 102
	eval {...} called at /home/sand/src/perl/repoperls/installed-perls/host/k93focal/v5.41.8/b254/lib/site_perl/5.41.8/Try/Tiny.pm line 93
	Try::Tiny::try(CODE(0x55c47a3b75b0), Try::Tiny::Catch=REF(0x55c47a3fc050)) called at /home/sand/src/perl/repoperls/installed-perls/host/k93focal/v5.41.8/b254/lib/site_perl/5.41.8/Test/WWW/Mechanize/PSGI.pm line 53
	Test::WWW::Mechanize::PSGI::simple_request(Test::WWW::Mechanize::PSGI=HASH(0x55c478dbdba8), HTTP::Request=HASH(0x55c47a400c48), undef, undef) called at /home/sand/src/perl/repoperls/installed-perls/host/k93focal/v5.41.8/b254/lib/site_perl/5.41.8/LWP/UserAgent.pm line 308
	LWP::UserAgent::request(Test::WWW::Mechanize::PSGI=HASH(0x55c478dbdba8), HTTP::Request=HASH(0x55c47a400c48)) called at /home/sand/src/perl/repoperls/installed-perls/host/k93focal/v5.41.8/b254/lib/site_perl/5.41.8/WWW/Mechanize.pm line 1699
	WWW::Mechanize::_make_request(Test::WWW::Mechanize::PSGI=HASH(0x55c478dbdba8), HTTP::Request=HASH(0x55c47a400c48)) called at /home/sand/src/perl/repoperls/installed-perls/host/k93focal/v5.41.8/b254/lib/site_perl/5.41.8/WWW/Mechanize.pm line 1534
	WWW::Mechanize::request(Test::WWW::Mechanize::PSGI=HASH(0x55c478dbdba8), HTTP::Request=HASH(0x55c47a400c48)) called at /home/sand/src/perl/repoperls/installed-perls/host/k93focal/v5.41.8/b254/lib/site_perl/5.41.8/LWP/UserAgent.pm line 452
	LWP::UserAgent::get(Test::WWW::Mechanize::PSGI=HASH(0x55c478dbdba8), "http://localhost/wishlist") called at /home/sand/src/perl/repoperls/installed-perls/host/k93focal/v5.41.8/b254/lib/site_perl/5.41.8/WWW/Mechanize.pm line 124
	WWW::Mechanize::get(Test::WWW::Mechanize::PSGI=HASH(0x55c478dbdba8), "/wishlist") called at /home/sand/src/perl/repoperls/installed-perls/host/k93focal/v5.41.8/b254/lib/site_perl/5.41.8/Test/WWW/Mechanize.pm line 192
	Test::WWW::Mechanize::get_ok(Test::WWW::Mechanize::PSGI=HASH(0x55c478dbdba8), "/wishlist", "Wishlist is still available") called at t/03_mech.t line 85
Secret string too short at /tmp/loop_over_bdir-687284-97mdRc/HTTP-Session2-1.10-0/blib/lib/HTTP/Session2/Base.pm line 79.
	HTTP::Session2::Base::__ANON__(HTTP::Session2::ServerStore=HASH(0x55c47a3d7e20), "s3cret") called at t/03_mech.t line 121
	main::server_session(HASH(0x55c47a3b78c8)) called at t/03_mech.t line 17
	main::__ANON__(HASH(0x55c47a3b78c8)) called at /home/sand/src/perl/repoperls/installed-perls/host/k93focal/v5.41.8/b254/lib/site_perl/5.41.8/Test/WWW/Mechanize/PSGI.pm line 46
	Test::WWW::Mechanize::PSGI::try {...} () called at /home/sand/src/perl/repoperls/installed-perls/host/k93focal/v5.41.8/b254/lib/site_perl/5.41.8/Try/Tiny.pm line 102
	eval {...} called at /home/sand/src/perl/repoperls/installed-perls/host/k93focal/v5.41.8/b254/lib/site_perl/5.41.8/Try/Tiny.pm line 93
	Try::Tiny::try(CODE(0x55c47a3fc1b8), Try::Tiny::Catch=REF(0x55c47a3fc068)) called at /home/sand/src/perl/repoperls/installed-perls/host/k93focal/v5.41.8/b254/lib/site_perl/5.41.8/Test/WWW/Mechanize/PSGI.pm line 53
	Test::WWW::Mechanize::PSGI::simple_request(Test::WWW::Mechanize::PSGI=HASH(0x55c478dbdba8), HTTP::Request=HASH(0x55c47a400690), undef, undef) called at /home/sand/src/perl/repoperls/installed-perls/host/k93focal/v5.41.8/b254/lib/site_perl/5.41.8/LWP/UserAgent.pm line 308
	LWP::UserAgent::request(Test::WWW::Mechanize::PSGI=HASH(0x55c478dbdba8), HTTP::Request=HASH(0x55c47a400690)) called at /home/sand/src/perl/repoperls/installed-perls/host/k93focal/v5.41.8/b254/lib/site_perl/5.41.8/WWW/Mechanize.pm line 1699
	WWW::Mechanize::_make_request(Test::WWW::Mechanize::PSGI=HASH(0x55c478dbdba8), HTTP::Request=HASH(0x55c47a400690)) called at /home/sand/src/perl/repoperls/installed-perls/host/k93focal/v5.41.8/b254/lib/site_perl/5.41.8/WWW/Mechanize.pm line 1534
	WWW::Mechanize::request(Test::WWW::Mechanize::PSGI=HASH(0x55c478dbdba8), HTTP::Request=HASH(0x55c47a400690)) called at /home/sand/src/perl/repoperls/installed-perls/host/k93focal/v5.41.8/b254/lib/site_perl/5.41.8/LWP/UserAgent.pm line 498
	LWP::UserAgent::post(Test::WWW::Mechanize::PSGI=HASH(0x55c478dbdba8), "http://localhost/wishlist?baz") called at /home/sand/src/perl/repoperls/installed-perls/host/k93focal/v5.41.8/b254/lib/site_perl/5.41.8/WWW/Mechanize.pm line 136
	WWW::Mechanize::post(Test::WWW::Mechanize::PSGI=HASH(0x55c478dbdba8), "/wishlist?baz") called at t/03_mech.t line 87
Secret string too short at /tmp/loop_over_bdir-687284-97mdRc/HTTP-Session2-1.10-0/blib/lib/HTTP/Session2/Base.pm line 79.
	HTTP::Session2::Base::__ANON__(HTTP::Session2::ServerStore=HASH(0x55c47a400990), "s3cret") called at t/03_mech.t line 121
	main::server_session(HASH(0x55c47a401170)) called at t/03_mech.t line 17
	main::__ANON__(HASH(0x55c47a401170)) called at /home/sand/src/perl/repoperls/installed-perls/host/k93focal/v5.41.8/b254/lib/site_perl/5.41.8/Test/WWW/Mechanize/PSGI.pm line 46
	Test::WWW::Mechanize::PSGI::try {...} () called at /home/sand/src/perl/repoperls/installed-perls/host/k93focal/v5.41.8/b254/lib/site_perl/5.41.8/Try/Tiny.pm line 102
	eval {...} called at /home/sand/src/perl/repoperls/installed-perls/host/k93focal/v5.41.8/b254/lib/site_perl/5.41.8/Try/Tiny.pm line 93
	Try::Tiny::try(CODE(0x55c47a401008), Try::Tiny::Catch=REF(0x55c47a400d38)) called at /home/sand/src/perl/repoperls/installed-perls/host/k93focal/v5.41.8/b254/lib/site_perl/5.41.8/Test/WWW/Mechanize/PSGI.pm line 53
	Test::WWW::Mechanize::PSGI::simple_request(Test::WWW::Mechanize::PSGI=HASH(0x55c478dbdba8), HTTP::Request=HASH(0x55c47a400ac8), undef, undef) called at /home/sand/src/perl/repoperls/installed-perls/host/k93focal/v5.41.8/b254/lib/site_perl/5.41.8/LWP/UserAgent.pm line 308
	LWP::UserAgent::request(Test::WWW::Mechanize::PSGI=HASH(0x55c478dbdba8), HTTP::Request=HASH(0x55c47a400ac8)) called at /home/sand/src/perl/repoperls/installed-perls/host/k93focal/v5.41.8/b254/lib/site_perl/5.41.8/WWW/Mechanize.pm line 1699
	WWW::Mechanize::_make_request(Test::WWW::Mechanize::PSGI=HASH(0x55c478dbdba8), HTTP::Request=HASH(0x55c47a400ac8)) called at /home/sand/src/perl/repoperls/installed-perls/host/k93focal/v5.41.8/b254/lib/site_perl/5.41.8/WWW/Mechanize.pm line 1534
	WWW::Mechanize::request(Test::WWW::Mechanize::PSGI=HASH(0x55c478dbdba8), HTTP::Request=HASH(0x55c47a400ac8)) called at /home/sand/src/perl/repoperls/installed-perls/host/k93focal/v5.41.8/b254/lib/site_perl/5.41.8/LWP/UserAgent.pm line 498
	LWP::UserAgent::post(Test::WWW::Mechanize::PSGI=HASH(0x55c478dbdba8), "http://localhost/wishlist?baz", HASH(0x55c479f61a98)) called at /home/sand/src/perl/repoperls/installed-perls/host/k93focal/v5.41.8/b254/lib/site_perl/5.41.8/WWW/Mechanize.pm line 136
	WWW::Mechanize::post(Test::WWW::Mechanize::PSGI=HASH(0x55c478dbdba8), "/wishlist?baz", HASH(0x55c479f61a98)) called at /home/sand/src/perl/repoperls/installed-perls/host/k93focal/v5.41.8/b254/lib/site_perl/5.41.8/Test/WWW/Mechanize.pm line 321
	Test::WWW::Mechanize::post_ok(Test::WWW::Mechanize::PSGI=HASH(0x55c478dbdba8), "/wishlist?baz") called at t/03_mech.t line 90
Secret string too short at /tmp/loop_over_bdir-687284-97mdRc/HTTP-Session2-1.10-0/blib/lib/HTTP/Session2/Base.pm line 79.
	HTTP::Session2::Base::__ANON__(HTTP::Session2::ServerStore=HASH(0x55c47a401410), "s3cret") called at t/03_mech.t line 121
	main::server_session(HASH(0x55c47a4012c0)) called at t/03_mech.t line 17
	main::__ANON__(HASH(0x55c47a4012c0)) called at /home/sand/src/perl/repoperls/installed-perls/host/k93focal/v5.41.8/b254/lib/site_perl/5.41.8/Test/WWW/Mechanize/PSGI.pm line 46
	Test::WWW::Mechanize::PSGI::try {...} () called at /home/sand/src/perl/repoperls/installed-perls/host/k93focal/v5.41.8/b254/lib/site_perl/5.41.8/Try/Tiny.pm line 102
	eval {...} called at /home/sand/src/perl/repoperls/installed-perls/host/k93focal/v5.41.8/b254/lib/site_perl/5.41.8/Try/Tiny.pm line 93
	Try::Tiny::try(CODE(0x55c47a402d88), Try::Tiny::Catch=REF(0x55c47a3fc470)) called at /home/sand/src/perl/repoperls/installed-perls/host/k93focal/v5.41.8/b254/lib/site_perl/5.41.8/Test/WWW/Mechanize/PSGI.pm line 53
	Test::WWW::Mechanize::PSGI::simple_request(Test::WWW::Mechanize::PSGI=HASH(0x55c478dbdba8), HTTP::Request=HASH(0x55c47a4030d0), undef, undef) called at /home/sand/src/perl/repoperls/installed-perls/host/k93focal/v5.41.8/b254/lib/site_perl/5.41.8/LWP/UserAgent.pm line 308
	LWP::UserAgent::request(Test::WWW::Mechanize::PSGI=HASH(0x55c478dbdba8), HTTP::Request=HASH(0x55c47a4030d0)) called at /home/sand/src/perl/repoperls/installed-perls/host/k93focal/v5.41.8/b254/lib/site_perl/5.41.8/WWW/Mechanize.pm line 1699
	WWW::Mechanize::_make_request(Test::WWW::Mechanize::PSGI=HASH(0x55c478dbdba8), HTTP::Request=HASH(0x55c47a4030d0)) called at /home/sand/src/perl/repoperls/installed-perls/host/k93focal/v5.41.8/b254/lib/site_perl/5.41.8/WWW/Mechanize.pm line 1534
	WWW::Mechanize::request(Test::WWW::Mechanize::PSGI=HASH(0x55c478dbdba8), HTTP::Request=HASH(0x55c47a4030d0)) called at /home/sand/src/perl/repoperls/installed-perls/host/k93focal/v5.41.8/b254/lib/site_perl/5.41.8/LWP/UserAgent.pm line 452
	LWP::UserAgent::get(Test::WWW::Mechanize::PSGI=HASH(0x55c478dbdba8), "http://localhost/wishlist") called at /home/sand/src/perl/repoperls/installed-perls/host/k93focal/v5.41.8/b254/lib/site_perl/5.41.8/WWW/Mechanize.pm line 124
	WWW::Mechanize::get(Test::WWW::Mechanize::PSGI=HASH(0x55c478dbdba8), "/wishlist") called at /home/sand/src/perl/repoperls/installed-perls/host/k93focal/v5.41.8/b254/lib/site_perl/5.41.8/Test/WWW/Mechanize.pm line 192
	Test::WWW::Mechanize::get_ok(Test::WWW::Mechanize::PSGI=HASH(0x55c478dbdba8), "/wishlist", "Wishlist is still available") called at t/03_mech.t line 91
Secret string too short at /tmp/loop_over_bdir-687284-97mdRc/HTTP-Session2-1.10-0/blib/lib/HTTP/Session2/Base.pm line 79.
	HTTP::Session2::Base::__ANON__(HTTP::Session2::ServerStore=HASH(0x55c47a403448), "s3cret") called at t/03_mech.t line 121
	main::server_session(HASH(0x55c47a403028)) called at t/03_mech.t line 17
	main::__ANON__(HASH(0x55c47a403028)) called at /home/sand/src/perl/repoperls/installed-perls/host/k93focal/v5.41.8/b254/lib/site_perl/5.41.8/Test/WWW/Mechanize/PSGI.pm line 46
	Test::WWW::Mechanize::PSGI::try {...} () called at /home/sand/src/perl/repoperls/installed-perls/host/k93focal/v5.41.8/b254/lib/site_perl/5.41.8/Try/Tiny.pm line 102
	eval {...} called at /home/sand/src/perl/repoperls/installed-perls/host/k93focal/v5.41.8/b254/lib/site_perl/5.41.8/Try/Tiny.pm line 93
	Try::Tiny::try(CODE(0x55c47a401548), Try::Tiny::Catch=REF(0x55c47a401458)) called at /home/sand/src/perl/repoperls/installed-perls/host/k93focal/v5.41.8/b254/lib/site_perl/5.41.8/Test/WWW/Mechanize/PSGI.pm line 53
	Test::WWW::Mechanize::PSGI::simple_request(Test::WWW::Mechanize::PSGI=HASH(0x55c478dbdba8), HTTP::Request=HASH(0x55c47a401428), undef, undef) called at /home/sand/src/perl/repoperls/installed-perls/host/k93focal/v5.41.8/b254/lib/site_perl/5.41.8/LWP/UserAgent.pm line 308
	LWP::UserAgent::request(Test::WWW::Mechanize::PSGI=HASH(0x55c478dbdba8), HTTP::Request=HASH(0x55c47a401428)) called at /home/sand/src/perl/repoperls/installed-perls/host/k93focal/v5.41.8/b254/lib/site_perl/5.41.8/WWW/Mechanize.pm line 1699
	WWW::Mechanize::_make_request(Test::WWW::Mechanize::PSGI=HASH(0x55c478dbdba8), HTTP::Request=HASH(0x55c47a401428)) called at /home/sand/src/perl/repoperls/installed-perls/host/k93focal/v5.41.8/b254/lib/site_perl/5.41.8/WWW/Mechanize.pm line 1534
	WWW::Mechanize::request(Test::WWW::Mechanize::PSGI=HASH(0x55c478dbdba8), HTTP::Request=HASH(0x55c47a401428)) called at /home/sand/src/perl/repoperls/installed-perls/host/k93focal/v5.41.8/b254/lib/site_perl/5.41.8/LWP/UserAgent.pm line 452
	LWP::UserAgent::get(Test::WWW::Mechanize::PSGI=HASH(0x55c478dbdba8), "http://localhost/my/name") called at /home/sand/src/perl/repoperls/installed-perls/host/k93focal/v5.41.8/b254/lib/site_perl/5.41.8/WWW/Mechanize.pm line 124
	WWW::Mechanize::get(Test::WWW::Mechanize::PSGI=HASH(0x55c478dbdba8), "/my/name") called at /home/sand/src/perl/repoperls/installed-perls/host/k93focal/v5.41.8/b254/lib/site_perl/5.41.8/Test/WWW/Mechanize.pm line 192
	Test::WWW::Mechanize::get_ok(Test::WWW::Mechanize::PSGI=HASH(0x55c478dbdba8), "/my/name") called at t/03_mech.t line 93
Secret string too short at /tmp/loop_over_bdir-687284-97mdRc/HTTP-Session2-1.10-0/blib/lib/HTTP/Session2/Base.pm line 79.
	HTTP::Session2::Base::__ANON__(HTTP::Session2::ServerStore=HASH(0x55c47a400828), "s3cret") called at t/03_mech.t line 121
	main::server_session(HASH(0x55c47a403628)) called at t/03_mech.t line 17
	main::__ANON__(HASH(0x55c47a403628)) called at /home/sand/src/perl/repoperls/installed-perls/host/k93focal/v5.41.8/b254/lib/site_perl/5.41.8/Test/WWW/Mechanize/PSGI.pm line 46
	Test::WWW::Mechanize::PSGI::try {...} () called at /home/sand/src/perl/repoperls/installed-perls/host/k93focal/v5.41.8/b254/lib/site_perl/5.41.8/Try/Tiny.pm line 102
	eval {...} called at /home/sand/src/perl/repoperls/installed-perls/host/k93focal/v5.41.8/b254/lib/site_perl/5.41.8/Try/Tiny.pm line 93
	Try::Tiny::try(CODE(0x55c47a403838), Try::Tiny::Catch=REF(0x55c47a403190)) called at /home/sand/src/perl/repoperls/installed-perls/host/k93focal/v5.41.8/b254/lib/site_perl/5.41.8/Test/WWW/Mechanize/PSGI.pm line 53
	Test::WWW::Mechanize::PSGI::simple_request(Test::WWW::Mechanize::PSGI=HASH(0x55c478dbdba8), HTTP::Request=HASH(0x55c47a403388), undef, undef) called at /home/sand/src/perl/repoperls/installed-perls/host/k93focal/v5.41.8/b254/lib/site_perl/5.41.8/LWP/UserAgent.pm line 308
	LWP::UserAgent::request(Test::WWW::Mechanize::PSGI=HASH(0x55c478dbdba8), HTTP::Request=HASH(0x55c47a403388)) called at /home/sand/src/perl/repoperls/installed-perls/host/k93focal/v5.41.8/b254/lib/site_perl/5.41.8/WWW/Mechanize.pm line 1699
	WWW::Mechanize::_make_request(Test::WWW::Mechanize::PSGI=HASH(0x55c478dbdba8), HTTP::Request=HASH(0x55c47a403388)) called at /home/sand/src/perl/repoperls/installed-perls/host/k93focal/v5.41.8/b254/lib/site_perl/5.41.8/WWW/Mechanize.pm line 1534
	WWW::Mechanize::request(Test::WWW::Mechanize::PSGI=HASH(0x55c478dbdba8), HTTP::Request=HASH(0x55c47a403388)) called at /home/sand/src/perl/repoperls/installed-perls/host/k93focal/v5.41.8/b254/lib/site_perl/5.41.8/LWP/UserAgent.pm line 498
	LWP::UserAgent::post(Test::WWW::Mechanize::PSGI=HASH(0x55c478dbdba8), "http://localhost/account/logout?john") called at /home/sand/src/perl/repoperls/installed-perls/host/k93focal/v5.41.8/b254/lib/site_perl/5.41.8/WWW/Mechanize.pm line 136
	WWW::Mechanize::post(Test::WWW::Mechanize::PSGI=HASH(0x55c478dbdba8), "/account/logout?john") called at t/03_mech.t line 97
Secret string too short at /tmp/loop_over_bdir-687284-97mdRc/HTTP-Session2-1.10-0/blib/lib/HTTP/Session2/Base.pm line 79.
	HTTP::Session2::Base::__ANON__(HTTP::Session2::ClientStore=HASH(0x55c47a3e6368), "s3cret") called at t/03_mech.t line 127
	main::client_session(HASH(0x55c47a4089e8)) called at t/03_mech.t line 17
	main::__ANON__(HASH(0x55c47a4089e8)) called at /home/sand/src/perl/repoperls/installed-perls/host/k93focal/v5.41.8/b254/lib/site_perl/5.41.8/Test/WWW/Mechanize/PSGI.pm line 46
	Test::WWW::Mechanize::PSGI::try {...} () called at /home/sand/src/perl/repoperls/installed-perls/host/k93focal/v5.41.8/b254/lib/site_perl/5.41.8/Try/Tiny.pm line 102
	eval {...} called at /home/sand/src/perl/repoperls/installed-perls/host/k93focal/v5.41.8/b254/lib/site_perl/5.41.8/Try/Tiny.pm line 93
	Try::Tiny::try(CODE(0x55c47a3b75f8), Try::Tiny::Catch=REF(0x55c47a3b7e20)) called at /home/sand/src/perl/repoperls/installed-perls/host/k93focal/v5.41.8/b254/lib/site_perl/5.41.8/Test/WWW/Mechanize/PSGI.pm line 53
	Test::WWW::Mechanize::PSGI::simple_request(Test::WWW::Mechanize::PSGI=HASH(0x55c47a3b7310), HTTP::Request=HASH(0x55c47a3b7238), undef, undef) called at /home/sand/src/perl/repoperls/installed-perls/host/k93focal/v5.41.8/b254/lib/site_perl/5.41.8/LWP/UserAgent.pm line 308
	LWP::UserAgent::request(Test::WWW::Mechanize::PSGI=HASH(0x55c47a3b7310), HTTP::Request=HASH(0x55c47a3b7238)) called at /home/sand/src/perl/repoperls/installed-perls/host/k93focal/v5.41.8/b254/lib/site_perl/5.41.8/WWW/Mechanize.pm line 1699
	WWW::Mechanize::_make_request(Test::WWW::Mechanize::PSGI=HASH(0x55c47a3b7310), HTTP::Request=HASH(0x55c47a3b7238)) called at /home/sand/src/perl/repoperls/installed-perls/host/k93focal/v5.41.8/b254/lib/site_perl/5.41.8/WWW/Mechanize.pm line 1534
	WWW::Mechanize::request(Test::WWW::Mechanize::PSGI=HASH(0x55c47a3b7310), HTTP::Request=HASH(0x55c47a3b7238)) called at /home/sand/src/perl/repoperls/installed-perls/host/k93focal/v5.41.8/b254/lib/site_perl/5.41.8/LWP/UserAgent.pm line 452
	LWP::UserAgent::get(Test::WWW::Mechanize::PSGI=HASH(0x55c47a3b7310), "/") called at /home/sand/src/perl/repoperls/installed-perls/host/k93focal/v5.41.8/b254/lib/site_perl/5.41.8/WWW/Mechanize.pm line 124
	WWW::Mechanize::get(Test::WWW::Mechanize::PSGI=HASH(0x55c47a3b7310), "/") called at /home/sand/src/perl/repoperls/installed-perls/host/k93focal/v5.41.8/b254/lib/site_perl/5.41.8/Test/WWW/Mechanize.pm line 192
	Test::WWW::Mechanize::get_ok(Test::WWW::Mechanize::PSGI=HASH(0x55c47a3b7310), "/") called at t/03_mech.t line 74
Secret string too short at /tmp/loop_over_bdir-687284-97mdRc/HTTP-Session2-1.10-0/blib/lib/HTTP/Session2/Base.pm line 79.
	HTTP::Session2::Base::__ANON__(HTTP::Session2::ClientStore=HASH(0x55c47a3c7c90), "s3cret") called at t/03_mech.t line 127
	main::client_session(HASH(0x55c47a400ae0)) called at t/03_mech.t line 17
	main::__ANON__(HASH(0x55c47a400ae0)) called at /home/sand/src/perl/repoperls/installed-perls/host/k93focal/v5.41.8/b254/lib/site_perl/5.41.8/Test/WWW/Mechanize/PSGI.pm line 46
	Test::WWW::Mechanize::PSGI::try {...} () called at /home/sand/src/perl/repoperls/installed-perls/host/k93focal/v5.41.8/b254/lib/site_perl/5.41.8/Try/Tiny.pm line 102
	eval {...} called at /home/sand/src/perl/repoperls/installed-perls/host/k93focal/v5.41.8/b254/lib/site_perl/5.41.8/Try/Tiny.pm line 93
	Try::Tiny::try(CODE(0x55c47a3fbcc0), Try::Tiny::Catch=REF(0x55c47a3e6590)) called at /home/sand/src/perl/repoperls/installed-perls/host/k93focal/v5.41.8/b254/lib/site_perl/5.41.8/Test/WWW/Mechanize/PSGI.pm line 53
	Test::WWW::Mechanize::PSGI::simple_request(Test::WWW::Mechanize::PSGI=HASH(0x55c47a3b7310), HTTP::Request=HASH(0x55c47a3e5828), undef, undef) called at /home/sand/src/perl/repoperls/installed-perls/host/k93focal/v5.41.8/b254/lib/site_perl/5.41.8/LWP/UserAgent.pm line 308
	LWP::UserAgent::request(Test::WWW::Mechanize::PSGI=HASH(0x55c47a3b7310), HTTP::Request=HASH(0x55c47a3e5828)) called at /home/sand/src/perl/repoperls/installed-perls/host/k93focal/v5.41.8/b254/lib/site_perl/5.41.8/WWW/Mechanize.pm line 1699
	WWW::Mechanize::_make_request(Test::WWW::Mechanize::PSGI=HASH(0x55c47a3b7310), HTTP::Request=HASH(0x55c47a3e5828)) called at /home/sand/src/perl/repoperls/installed-perls/host/k93focal/v5.41.8/b254/lib/site_perl/5.41.8/WWW/Mechanize.pm line 1534
	WWW::Mechanize::request(Test::WWW::Mechanize::PSGI=HASH(0x55c47a3b7310), HTTP::Request=HASH(0x55c47a3e5828)) called at /home/sand/src/perl/repoperls/installed-perls/host/k93focal/v5.41.8/b254/lib/site_perl/5.41.8/LWP/UserAgent.pm line 498
	LWP::UserAgent::post(Test::WWW::Mechanize::PSGI=HASH(0x55c47a3b7310), "http://localhost/wishlist?foo", HASH(0x55c479f61a98)) called at /home/sand/src/perl/repoperls/installed-perls/host/k93focal/v5.41.8/b254/lib/site_perl/5.41.8/WWW/Mechanize.pm line 136
	WWW::Mechanize::post(Test::WWW::Mechanize::PSGI=HASH(0x55c47a3b7310), "/wishlist?foo", HASH(0x55c479f61a98)) called at /home/sand/src/perl/repoperls/installed-perls/host/k93focal/v5.41.8/b254/lib/site_perl/5.41.8/Test/WWW/Mechanize.pm line 321
	Test::WWW::Mechanize::post_ok(Test::WWW::Mechanize::PSGI=HASH(0x55c47a3b7310), "/wishlist?foo") called at t/03_mech.t line 75
Do not use HTTP::Session2::ClientStore. Use HTTP::Session2::ServerStore or HTTP::Session2::ClientStore2 instead. at /tmp/loop_over_bdir-687284-97mdRc/HTTP-Session2-1.10-0/blib/lib/HTTP/Session2/ClientStore.pm line 25.
Secret string too short at /tmp/loop_over_bdir-687284-97mdRc/HTTP-Session2-1.10-0/blib/lib/HTTP/Session2/Base.pm line 79.
	HTTP::Session2::Base::__ANON__(HTTP::Session2::ClientStore=HASH(0x55c47a400690), "s3cret") called at t/03_mech.t line 127
	main::client_session(HASH(0x55c47a3fb948)) called at t/03_mech.t line 17
	main::__ANON__(HASH(0x55c47a3fb948)) called at /home/sand/src/perl/repoperls/installed-perls/host/k93focal/v5.41.8/b254/lib/site_perl/5.41.8/Test/WWW/Mechanize/PSGI.pm line 46
	Test::WWW::Mechanize::PSGI::try {...} () called at /home/sand/src/perl/repoperls/installed-perls/host/k93focal/v5.41.8/b254/lib/site_perl/5.41.8/Try/Tiny.pm line 102
	eval {...} called at /home/sand/src/perl/repoperls/installed-perls/host/k93focal/v5.41.8/b254/lib/site_perl/5.41.8/Try/Tiny.pm line 93
	Try::Tiny::try(CODE(0x55c47a3fc578), Try::Tiny::Catch=REF(0x55c47a3fbba0)) called at /home/sand/src/perl/repoperls/installed-perls/host/k93focal/v5.41.8/b254/lib/site_perl/5.41.8/Test/WWW/Mechanize/PSGI.pm line 53
	Test::WWW::Mechanize::PSGI::simple_request(Test::WWW::Mechanize::PSGI=HASH(0x55c47a3b7310), HTTP::Request=HASH(0x55c47a400660), undef, undef) called at /home/sand/src/perl/repoperls/installed-perls/host/k93focal/v5.41.8/b254/lib/site_perl/5.41.8/LWP/UserAgent.pm line 308
	LWP::UserAgent::request(Test::WWW::Mechanize::PSGI=HASH(0x55c47a3b7310), HTTP::Request=HASH(0x55c47a400660)) called at /home/sand/src/perl/repoperls/installed-perls/host/k93focal/v5.41.8/b254/lib/site_perl/5.41.8/WWW/Mechanize.pm line 1699
	WWW::Mechanize::_make_request(Test::WWW::Mechanize::PSGI=HASH(0x55c47a3b7310), HTTP::Request=HASH(0x55c47a400660)) called at /home/sand/src/perl/repoperls/installed-perls/host/k93focal/v5.41.8/b254/lib/site_perl/5.41.8/WWW/Mechanize.pm line 1534
	WWW::Mechanize::request(Test::WWW::Mechanize::PSGI=HASH(0x55c47a3b7310), HTTP::Request=HASH(0x55c47a400660)) called at /home/sand/src/perl/repoperls/installed-perls/host/k93focal/v5.41.8/b254/lib/site_perl/5.41.8/LWP/UserAgent.pm line 452
	LWP::UserAgent::get(Test::WWW::Mechanize::PSGI=HASH(0x55c47a3b7310), "http://localhost/wishlist") called at /home/sand/src/perl/repoperls/installed-perls/host/k93focal/v5.41.8/b254/lib/site_perl/5.41.8/WWW/Mechanize.pm line 124
	WWW::Mechanize::get(Test::WWW::Mechanize::PSGI=HASH(0x55c47a3b7310), "/wishlist") called at /home/sand/src/perl/repoperls/installed-perls/host/k93focal/v5.41.8/b254/lib/site_perl/5.41.8/Test/WWW/Mechanize.pm line 192
	Test::WWW::Mechanize::get_ok(Test::WWW::Mechanize::PSGI=HASH(0x55c47a3b7310), "/wishlist") called at t/03_mech.t line 76
Do not use HTTP::Session2::ClientStore. Use HTTP::Session2::ServerStore or HTTP::Session2::ClientStore2 instead. at /tmp/loop_over_bdir-687284-97mdRc/HTTP-Session2-1.10-0/blib/lib/HTTP/Session2/ClientStore.pm line 35.
Secret string too short at /tmp/loop_over_bdir-687284-97mdRc/HTTP-Session2-1.10-0/blib/lib/HTTP/Session2/Base.pm line 79.
	HTTP::Session2::Base::__ANON__(HTTP::Session2::ClientStore=HASH(0x55c47a401008), "s3cret") called at t/03_mech.t line 127
	main::client_session(HASH(0x55c47a3fc128)) called at t/03_mech.t line 17
	main::__ANON__(HASH(0x55c47a3fc128)) called at /home/sand/src/perl/repoperls/installed-perls/host/k93focal/v5.41.8/b254/lib/site_perl/5.41.8/Test/WWW/Mechanize/PSGI.pm line 46
	Test::WWW::Mechanize::PSGI::try {...} () called at /home/sand/src/perl/repoperls/installed-perls/host/k93focal/v5.41.8/b254/lib/site_perl/5.41.8/Try/Tiny.pm line 102
	eval {...} called at /home/sand/src/perl/repoperls/installed-perls/host/k93focal/v5.41.8/b254/lib/site_perl/5.41.8/Try/Tiny.pm line 93
	Try::Tiny::try(CODE(0x55c47a3e5888), Try::Tiny::Catch=REF(0x55c47a3e6650)) called at /home/sand/src/perl/repoperls/installed-perls/host/k93focal/v5.41.8/b254/lib/site_perl/5.41.8/Test/WWW/Mechanize/PSGI.pm line 53
	Test::WWW::Mechanize::PSGI::simple_request(Test::WWW::Mechanize::PSGI=HASH(0x55c47a3b7310), HTTP::Request=HASH(0x55c47a400a98), undef, undef) called at /home/sand/src/perl/repoperls/installed-perls/host/k93focal/v5.41.8/b254/lib/site_perl/5.41.8/LWP/UserAgent.pm line 308
	LWP::UserAgent::request(Test::WWW::Mechanize::PSGI=HASH(0x55c47a3b7310), HTTP::Request=HASH(0x55c47a400a98)) called at /home/sand/src/perl/repoperls/installed-perls/host/k93focal/v5.41.8/b254/lib/site_perl/5.41.8/WWW/Mechanize.pm line 1699
	WWW::Mechanize::_make_request(Test::WWW::Mechanize::PSGI=HASH(0x55c47a3b7310), HTTP::Request=HASH(0x55c47a400a98)) called at /home/sand/src/perl/repoperls/installed-perls/host/k93focal/v5.41.8/b254/lib/site_perl/5.41.8/WWW/Mechanize.pm line 1534
	WWW::Mechanize::request(Test::WWW::Mechanize::PSGI=HASH(0x55c47a3b7310), HTTP::Request=HASH(0x55c47a400a98)) called at /home/sand/src/perl/repoperls/installed-perls/host/k93focal/v5.41.8/b254/lib/site_perl/5.41.8/LWP/UserAgent.pm line 498
	LWP::UserAgent::post(Test::WWW::Mechanize::PSGI=HASH(0x55c47a3b7310), "http://localhost/wishlist?bar") called at /home/sand/src/perl/repoperls/installed-perls/host/k93focal/v5.41.8/b254/lib/site_perl/5.41.8/WWW/Mechanize.pm line 136
	WWW::Mechanize::post(Test::WWW::Mechanize::PSGI=HASH(0x55c47a3b7310), "/wishlist?bar") called at t/03_mech.t line 78
Do not use HTTP::Session2::ClientStore. Use HTTP::Session2::ServerStore or HTTP::Session2::ClientStore2 instead. at /tmp/loop_over_bdir-687284-97mdRc/HTTP-Session2-1.10-0/blib/lib/HTTP/Session2/ClientStore.pm line 35.
Secret string too short at /tmp/loop_over_bdir-687284-97mdRc/HTTP-Session2-1.10-0/blib/lib/HTTP/Session2/Base.pm line 79.
	HTTP::Session2::Base::__ANON__(HTTP::Session2::ClientStore=HASH(0x55c47a400d98), "s3cret") called at t/03_mech.t line 127
	main::client_session(HASH(0x55c47a4039a0)) called at t/03_mech.t line 17
	main::__ANON__(HASH(0x55c47a4039a0)) called at /home/sand/src/perl/repoperls/installed-perls/host/k93focal/v5.41.8/b254/lib/site_perl/5.41.8/Test/WWW/Mechanize/PSGI.pm line 46
	Test::WWW::Mechanize::PSGI::try {...} () called at /home/sand/src/perl/repoperls/installed-perls/host/k93focal/v5.41.8/b254/lib/site_perl/5.41.8/Try/Tiny.pm line 102
	eval {...} called at /home/sand/src/perl/repoperls/installed-perls/host/k93focal/v5.41.8/b254/lib/site_perl/5.41.8/Try/Tiny.pm line 93
	Try::Tiny::try(CODE(0x55c47a402f08), Try::Tiny::Catch=REF(0x55c47a400ee8)) called at /home/sand/src/perl/repoperls/installed-perls/host/k93focal/v5.41.8/b254/lib/site_perl/5.41.8/Test/WWW/Mechanize/PSGI.pm line 53
	Test::WWW::Mechanize::PSGI::simple_request(Test::WWW::Mechanize::PSGI=HASH(0x55c47a3b7310), HTTP::Request=HASH(0x55c47a3fc0f8), undef, undef) called at /home/sand/src/perl/repoperls/installed-perls/host/k93focal/v5.41.8/b254/lib/site_perl/5.41.8/LWP/UserAgent.pm line 308
	LWP::UserAgent::request(Test::WWW::Mechanize::PSGI=HASH(0x55c47a3b7310), HTTP::Request=HASH(0x55c47a3fc0f8)) called at /home/sand/src/perl/repoperls/installed-perls/host/k93focal/v5.41.8/b254/lib/site_perl/5.41.8/WWW/Mechanize.pm line 1699
	WWW::Mechanize::_make_request(Test::WWW::Mechanize::PSGI=HASH(0x55c47a3b7310), HTTP::Request=HASH(0x55c47a3fc0f8)) called at /home/sand/src/perl/repoperls/installed-perls/host/k93focal/v5.41.8/b254/lib/site_perl/5.41.8/WWW/Mechanize.pm line 1534
	WWW::Mechanize::request(Test::WWW::Mechanize::PSGI=HASH(0x55c47a3b7310), HTTP::Request=HASH(0x55c47a3fc0f8)) called at /home/sand/src/perl/repoperls/installed-perls/host/k93focal/v5.41.8/b254/lib/site_perl/5.41.8/LWP/UserAgent.pm line 498
	LWP::UserAgent::post(Test::WWW::Mechanize::PSGI=HASH(0x55c47a3b7310), "http://localhost/wishlist?bar", HASH(0x55c479f61a98)) called at /home/sand/src/perl/repoperls/installed-perls/host/k93focal/v5.41.8/b254/lib/site_perl/5.41.8/WWW/Mechanize.pm line 136
	WWW::Mechanize::post(Test::WWW::Mechanize::PSGI=HASH(0x55c47a3b7310), "/wishlist?bar", HASH(0x55c479f61a98)) called at /home/sand/src/perl/repoperls/installed-perls/host/k93focal/v5.41.8/b254/lib/site_perl/5.41.8/Test/WWW/Mechanize.pm line 321
	Test::WWW::Mechanize::post_ok(Test::WWW::Mechanize::PSGI=HASH(0x55c47a3b7310), "/wishlist?bar") called at t/03_mech.t line 81
Do not use HTTP::Session2::ClientStore. Use HTTP::Session2::ServerStore or HTTP::Session2::ClientStore2 instead. at /tmp/loop_over_bdir-687284-97mdRc/HTTP-Session2-1.10-0/blib/lib/HTTP/Session2/ClientStore.pm line 35.
Do not use HTTP::Session2::ClientStore. Use HTTP::Session2::ServerStore or HTTP::Session2::ClientStore2 instead. at /tmp/loop_over_bdir-687284-97mdRc/HTTP-Session2-1.10-0/blib/lib/HTTP/Session2/ClientStore.pm line 25.
Secret string too short at /tmp/loop_over_bdir-687284-97mdRc/HTTP-Session2-1.10-0/blib/lib/HTTP/Session2/Base.pm line 79.
	HTTP::Session2::Base::__ANON__(HTTP::Session2::ClientStore=HASH(0x55c47a4008b8), "s3cret") called at t/03_mech.t line 127
	main::client_session(HASH(0x55c47a401020)) called at t/03_mech.t line 17
	main::__ANON__(HASH(0x55c47a401020)) called at /home/sand/src/perl/repoperls/installed-perls/host/k93focal/v5.41.8/b254/lib/site_perl/5.41.8/Test/WWW/Mechanize/PSGI.pm line 46
	Test::WWW::Mechanize::PSGI::try {...} () called at /home/sand/src/perl/repoperls/installed-perls/host/k93focal/v5.41.8/b254/lib/site_perl/5.41.8/Try/Tiny.pm line 102
	eval {...} called at /home/sand/src/perl/repoperls/installed-perls/host/k93focal/v5.41.8/b254/lib/site_perl/5.41.8/Try/Tiny.pm line 93
	Try::Tiny::try(CODE(0x55c47a3e59f0), Try::Tiny::Catch=REF(0x55c47a3b7da8)) called at /home/sand/src/perl/repoperls/installed-perls/host/k93focal/v5.41.8/b254/lib/site_perl/5.41.8/Test/WWW/Mechanize/PSGI.pm line 53
	Test::WWW::Mechanize::PSGI::simple_request(Test::WWW::Mechanize::PSGI=HASH(0x55c47a3b7310), HTTP::Request=HASH(0x55c47a3d7e20), undef, undef) called at /home/sand/src/perl/repoperls/installed-perls/host/k93focal/v5.41.8/b254/lib/site_perl/5.41.8/LWP/UserAgent.pm line 308
	LWP::UserAgent::request(Test::WWW::Mechanize::PSGI=HASH(0x55c47a3b7310), HTTP::Request=HASH(0x55c47a3d7e20)) called at /home/sand/src/perl/repoperls/installed-perls/host/k93focal/v5.41.8/b254/lib/site_perl/5.41.8/WWW/Mechanize.pm line 1699
	WWW::Mechanize::_make_request(Test::WWW::Mechanize::PSGI=HASH(0x55c47a3b7310), HTTP::Request=HASH(0x55c47a3d7e20)) called at /home/sand/src/perl/repoperls/installed-perls/host/k93focal/v5.41.8/b254/lib/site_perl/5.41.8/WWW/Mechanize.pm line 1534
	WWW::Mechanize::request(Test::WWW::Mechanize::PSGI=HASH(0x55c47a3b7310), HTTP::Request=HASH(0x55c47a3d7e20)) called at /home/sand/src/perl/repoperls/installed-perls/host/k93focal/v5.41.8/b254/lib/site_perl/5.41.8/LWP/UserAgent.pm line 452
	LWP::UserAgent::get(Test::WWW::Mechanize::PSGI=HASH(0x55c47a3b7310), "http://localhost/wishlist") called at /home/sand/src/perl/repoperls/installed-perls/host/k93focal/v5.41.8/b254/lib/site_perl/5.41.8/WWW/Mechanize.pm line 124
	WWW::Mechanize::get(Test::WWW::Mechanize::PSGI=HASH(0x55c47a3b7310), "/wishlist") called at /home/sand/src/perl/repoperls/installed-perls/host/k93focal/v5.41.8/b254/lib/site_perl/5.41.8/Test/WWW/Mechanize.pm line 192
	Test::WWW::Mechanize::get_ok(Test::WWW::Mechanize::PSGI=HASH(0x55c47a3b7310), "/wishlist") called at t/03_mech.t line 82
Do not use HTTP::Session2::ClientStore. Use HTTP::Session2::ServerStore or HTTP::Session2::ClientStore2 instead. at /tmp/loop_over_bdir-687284-97mdRc/HTTP-Session2-1.10-0/blib/lib/HTTP/Session2/ClientStore.pm line 35.
Secret string too short at /tmp/loop_over_bdir-687284-97mdRc/HTTP-Session2-1.10-0/blib/lib/HTTP/Session2/Base.pm line 79.
	HTTP::Session2::Base::__ANON__(HTTP::Session2::ClientStore=HASH(0x55c47a402f20), "s3cret") called at t/03_mech.t line 127
	main::client_session(HASH(0x55c47a402dd0)) called at t/03_mech.t line 17
	main::__ANON__(HASH(0x55c47a402dd0)) called at /home/sand/src/perl/repoperls/installed-perls/host/k93focal/v5.41.8/b254/lib/site_perl/5.41.8/Test/WWW/Mechanize/PSGI.pm line 46
	Test::WWW::Mechanize::PSGI::try {...} () called at /home/sand/src/perl/repoperls/installed-perls/host/k93focal/v5.41.8/b254/lib/site_perl/5.41.8/Try/Tiny.pm line 102
	eval {...} called at /home/sand/src/perl/repoperls/installed-perls/host/k93focal/v5.41.8/b254/lib/site_perl/5.41.8/Try/Tiny.pm line 93
	Try::Tiny::try(CODE(0x55c478db3740), Try::Tiny::Catch=REF(0x55c47a401578)) called at /home/sand/src/perl/repoperls/installed-perls/host/k93focal/v5.41.8/b254/lib/site_perl/5.41.8/Test/WWW/Mechanize/PSGI.pm line 53
	Test::WWW::Mechanize::PSGI::simple_request(Test::WWW::Mechanize::PSGI=HASH(0x55c47a3b7310), HTTP::Request=HASH(0x55c47a3fb8b8), undef, undef) called at /home/sand/src/perl/repoperls/installed-perls/host/k93focal/v5.41.8/b254/lib/site_perl/5.41.8/LWP/UserAgent.pm line 308
	LWP::UserAgent::request(Test::WWW::Mechanize::PSGI=HASH(0x55c47a3b7310), HTTP::Request=HASH(0x55c47a3fb8b8)) called at /home/sand/src/perl/repoperls/installed-perls/host/k93focal/v5.41.8/b254/lib/site_perl/5.41.8/WWW/Mechanize.pm line 1699
	WWW::Mechanize::_make_request(Test::WWW::Mechanize::PSGI=HASH(0x55c47a3b7310), HTTP::Request=HASH(0x55c47a3fb8b8)) called at /home/sand/src/perl/repoperls/installed-perls/host/k93focal/v5.41.8/b254/lib/site_perl/5.41.8/WWW/Mechanize.pm line 1534
	WWW::Mechanize::request(Test::WWW::Mechanize::PSGI=HASH(0x55c47a3b7310), HTTP::Request=HASH(0x55c47a3fb8b8)) called at /home/sand/src/perl/repoperls/installed-perls/host/k93focal/v5.41.8/b254/lib/site_perl/5.41.8/LWP/UserAgent.pm line 498
	LWP::UserAgent::post(Test::WWW::Mechanize::PSGI=HASH(0x55c47a3b7310), "http://localhost/account/login?john", HASH(0x55c479f61a98)) called at /home/sand/src/perl/repoperls/installed-perls/host/k93focal/v5.41.8/b254/lib/site_perl/5.41.8/WWW/Mechanize.pm line 136
	WWW::Mechanize::post(Test::WWW::Mechanize::PSGI=HASH(0x55c47a3b7310), "/account/login?john", HASH(0x55c479f61a98)) called at /home/sand/src/perl/repoperls/installed-perls/host/k93focal/v5.41.8/b254/lib/site_perl/5.41.8/Test/WWW/Mechanize.pm line 321
	Test::WWW::Mechanize::post_ok(Test::WWW::Mechanize::PSGI=HASH(0x55c47a3b7310), "/account/login?john") called at t/03_mech.t line 84
Do not use HTTP::Session2::ClientStore. Use HTTP::Session2::ServerStore or HTTP::Session2::ClientStore2 instead. at /tmp/loop_over_bdir-687284-97mdRc/HTTP-Session2-1.10-0/blib/lib/HTTP/Session2/ClientStore.pm line 35.
Do not use HTTP::Session2::ClientStore. Use HTTP::Session2::ServerStore or HTTP::Session2::ClientStore2 instead. at /tmp/loop_over_bdir-687284-97mdRc/HTTP-Session2-1.10-0/blib/lib/HTTP/Session2/ClientStore.pm line 35.
Do not use HTTP::Session2::ClientStore. Use HTTP::Session2::ServerStore or HTTP::Session2::ClientStore2 instead. at /tmp/loop_over_bdir-687284-97mdRc/HTTP-Session2-1.10-0/blib/lib/HTTP/Session2/ClientStore.pm line 25.
Secret string too short at /tmp/loop_over_bdir-687284-97mdRc/HTTP-Session2-1.10-0/blib/lib/HTTP/Session2/Base.pm line 79.
	HTTP::Session2::Base::__ANON__(HTTP::Session2::ClientStore=HASH(0x55c47a031a20), "s3cret") called at t/03_mech.t line 127
	main::client_session(HASH(0x55c47a06cbd8)) called at t/03_mech.t line 17
	main::__ANON__(HASH(0x55c47a06cbd8)) called at /home/sand/src/perl/repoperls/installed-perls/host/k93focal/v5.41.8/b254/lib/site_perl/5.41.8/Test/WWW/Mechanize/PSGI.pm line 46
	Test::WWW::Mechanize::PSGI::try {...} () called at /home/sand/src/perl/repoperls/installed-perls/host/k93focal/v5.41.8/b254/lib/site_perl/5.41.8/Try/Tiny.pm line 102
	eval {...} called at /home/sand/src/perl/repoperls/installed-perls/host/k93focal/v5.41.8/b254/lib/site_perl/5.41.8/Try/Tiny.pm line 93
	Try::Tiny::try(CODE(0x55c47a400690), Try::Tiny::Catch=REF(0x55c47a403628)) called at /home/sand/src/perl/repoperls/installed-perls/host/k93focal/v5.41.8/b254/lib/site_perl/5.41.8/Test/WWW/Mechanize/PSGI.pm line 53
	Test::WWW::Mechanize::PSGI::simple_request(Test::WWW::Mechanize::PSGI=HASH(0x55c47a3b7310), HTTP::Request=HASH(0x55c47a2dd218), undef, undef) called at /home/sand/src/perl/repoperls/installed-perls/host/k93focal/v5.41.8/b254/lib/site_perl/5.41.8/LWP/UserAgent.pm line 308
	LWP::UserAgent::request(Test::WWW::Mechanize::PSGI=HASH(0x55c47a3b7310), HTTP::Request=HASH(0x55c47a2dd218)) called at /home/sand/src/perl/repoperls/installed-perls/host/k93focal/v5.41.8/b254/lib/site_perl/5.41.8/WWW/Mechanize.pm line 1699
	WWW::Mechanize::_make_request(Test::WWW::Mechanize::PSGI=HASH(0x55c47a3b7310), HTTP::Request=HASH(0x55c47a2dd218)) called at /home/sand/src/perl/repoperls/installed-perls/host/k93focal/v5.41.8/b254/lib/site_perl/5.41.8/WWW/Mechanize.pm line 1534
	WWW::Mechanize::request(Test::WWW::Mechanize::PSGI=HASH(0x55c47a3b7310), HTTP::Request=HASH(0x55c47a2dd218)) called at /home/sand/src/perl/repoperls/installed-perls/host/k93focal/v5.41.8/b254/lib/site_perl/5.41.8/LWP/UserAgent.pm line 452
	LWP::UserAgent::get(Test::WWW::Mechanize::PSGI=HASH(0x55c47a3b7310), "http://localhost/wishlist") called at /home/sand/src/perl/repoperls/installed-perls/host/k93focal/v5.41.8/b254/lib/site_perl/5.41.8/WWW/Mechanize.pm line 124
	WWW::Mechanize::get(Test::WWW::Mechanize::PSGI=HASH(0x55c47a3b7310), "/wishlist") called at /home/sand/src/perl/repoperls/installed-perls/host/k93focal/v5.41.8/b254/lib/site_perl/5.41.8/Test/WWW/Mechanize.pm line 192
	Test::WWW::Mechanize::get_ok(Test::WWW::Mechanize::PSGI=HASH(0x55c47a3b7310), "/wishlist", "Wishlist is still available") called at t/03_mech.t line 85
Do not use HTTP::Session2::ClientStore. Use HTTP::Session2::ServerStore or HTTP::Session2::ClientStore2 instead. at /tmp/loop_over_bdir-687284-97mdRc/HTTP-Session2-1.10-0/blib/lib/HTTP/Session2/ClientStore.pm line 35.
Secret string too short at /tmp/loop_over_bdir-687284-97mdRc/HTTP-Session2-1.10-0/blib/lib/HTTP/Session2/Base.pm line 79.
	HTTP::Session2::Base::__ANON__(HTTP::Session2::ClientStore=HASH(0x55c47a403c10), "s3cret") called at t/03_mech.t line 127
	main::client_session(HASH(0x55c478dbe028)) called at t/03_mech.t line 17
	main::__ANON__(HASH(0x55c478dbe028)) called at /home/sand/src/perl/repoperls/installed-perls/host/k93focal/v5.41.8/b254/lib/site_perl/5.41.8/Test/WWW/Mechanize/PSGI.pm line 46
	Test::WWW::Mechanize::PSGI::try {...} () called at /home/sand/src/perl/repoperls/installed-perls/host/k93focal/v5.41.8/b254/lib/site_perl/5.41.8/Try/Tiny.pm line 102
	eval {...} called at /home/sand/src/perl/repoperls/installed-perls/host/k93focal/v5.41.8/b254/lib/site_perl/5.41.8/Try/Tiny.pm line 93
	Try::Tiny::try(CODE(0x55c47a401098), Try::Tiny::Catch=REF(0x55c478dbde78)) called at /home/sand/src/perl/repoperls/installed-perls/host/k93focal/v5.41.8/b254/lib/site_perl/5.41.8/Test/WWW/Mechanize/PSGI.pm line 53
	Test::WWW::Mechanize::PSGI::simple_request(Test::WWW::Mechanize::PSGI=HASH(0x55c47a3b7310), HTTP::Request=HASH(0x55c47a3e6488), undef, undef) called at /home/sand/src/perl/repoperls/installed-perls/host/k93focal/v5.41.8/b254/lib/site_perl/5.41.8/LWP/UserAgent.pm line 308
	LWP::UserAgent::request(Test::WWW::Mechanize::PSGI=HASH(0x55c47a3b7310), HTTP::Request=HASH(0x55c47a3e6488)) called at /home/sand/src/perl/repoperls/installed-perls/host/k93focal/v5.41.8/b254/lib/site_perl/5.41.8/WWW/Mechanize.pm line 1699
	WWW::Mechanize::_make_request(Test::WWW::Mechanize::PSGI=HASH(0x55c47a3b7310), HTTP::Request=HASH(0x55c47a3e6488)) called at /home/sand/src/perl/repoperls/installed-perls/host/k93focal/v5.41.8/b254/lib/site_perl/5.41.8/WWW/Mechanize.pm line 1534
	WWW::Mechanize::request(Test::WWW::Mechanize::PSGI=HASH(0x55c47a3b7310), HTTP::Request=HASH(0x55c47a3e6488)) called at /home/sand/src/perl/repoperls/installed-perls/host/k93focal/v5.41.8/b254/lib/site_perl/5.41.8/LWP/UserAgent.pm line 498
	LWP::UserAgent::post(Test::WWW::Mechanize::PSGI=HASH(0x55c47a3b7310), "http://localhost/wishlist?baz") called at /home/sand/src/perl/repoperls/installed-perls/host/k93focal/v5.41.8/b254/lib/site_perl/5.41.8/WWW/Mechanize.pm line 136
	WWW::Mechanize::post(Test::WWW::Mechanize::PSGI=HASH(0x55c47a3b7310), "/wishlist?baz") called at t/03_mech.t line 87
Do not use HTTP::Session2::ClientStore. Use HTTP::Session2::ServerStore or HTTP::Session2::ClientStore2 instead. at /tmp/loop_over_bdir-687284-97mdRc/HTTP-Session2-1.10-0/blib/lib/HTTP/Session2/ClientStore.pm line 35.
Secret string too short at /tmp/loop_over_bdir-687284-97mdRc/HTTP-Session2-1.10-0/blib/lib/HTTP/Session2/Base.pm line 79.
	HTTP::Session2::Base::__ANON__(HTTP::Session2::ClientStore=HASH(0x55c47a408b68), "s3cret") called at t/03_mech.t line 127
	main::client_session(HASH(0x55c47a3e64e8)) called at t/03_mech.t line 17
	main::__ANON__(HASH(0x55c47a3e64e8)) called at /home/sand/src/perl/repoperls/installed-perls/host/k93focal/v5.41.8/b254/lib/site_perl/5.41.8/Test/WWW/Mechanize/PSGI.pm line 46
	Test::WWW::Mechanize::PSGI::try {...} () called at /home/sand/src/perl/repoperls/installed-perls/host/k93focal/v5.41.8/b254/lib/site_perl/5.41.8/Try/Tiny.pm line 102
	eval {...} called at /home/sand/src/perl/repoperls/installed-perls/host/k93focal/v5.41.8/b254/lib/site_perl/5.41.8/Try/Tiny.pm line 93
	Try::Tiny::try(CODE(0x55c47a408b38), Try::Tiny::Catch=REF(0x55c47a400720)) called at /home/sand/src/perl/repoperls/installed-perls/host/k93focal/v5.41.8/b254/lib/site_perl/5.41.8/Test/WWW/Mechanize/PSGI.pm line 53
	Test::WWW::Mechanize::PSGI::simple_request(Test::WWW::Mechanize::PSGI=HASH(0x55c47a3b7310), HTTP::Request=HASH(0x55c47a3147d8), undef, undef) called at /home/sand/src/perl/repoperls/installed-perls/host/k93focal/v5.41.8/b254/lib/site_perl/5.41.8/LWP/UserAgent.pm line 308
	LWP::UserAgent::request(Test::WWW::Mechanize::PSGI=HASH(0x55c47a3b7310), HTTP::Request=HASH(0x55c47a3147d8)) called at /home/sand/src/perl/repoperls/installed-perls/host/k93focal/v5.41.8/b254/lib/site_perl/5.41.8/WWW/Mechanize.pm line 1699
	WWW::Mechanize::_make_request(Test::WWW::Mechanize::PSGI=HASH(0x55c47a3b7310), HTTP::Request=HASH(0x55c47a3147d8)) called at /home/sand/src/perl/repoperls/installed-perls/host/k93focal/v5.41.8/b254/lib/site_perl/5.41.8/WWW/Mechanize.pm line 1534
	WWW::Mechanize::request(Test::WWW::Mechanize::PSGI=HASH(0x55c47a3b7310), HTTP::Request=HASH(0x55c47a3147d8)) called at /home/sand/src/perl/repoperls/installed-perls/host/k93focal/v5.41.8/b254/lib/site_perl/5.41.8/LWP/UserAgent.pm line 498
	LWP::UserAgent::post(Test::WWW::Mechanize::PSGI=HASH(0x55c47a3b7310), "http://localhost/wishlist?baz", HASH(0x55c479f61a98)) called at /home/sand/src/perl/repoperls/installed-perls/host/k93focal/v5.41.8/b254/lib/site_perl/5.41.8/WWW/Mechanize.pm line 136
	WWW::Mechanize::post(Test::WWW::Mechanize::PSGI=HASH(0x55c47a3b7310), "/wishlist?baz", HASH(0x55c479f61a98)) called at /home/sand/src/perl/repoperls/installed-perls/host/k93focal/v5.41.8/b254/lib/site_perl/5.41.8/Test/WWW/Mechanize.pm line 321
	Test::WWW::Mechanize::post_ok(Test::WWW::Mechanize::PSGI=HASH(0x55c47a3b7310), "/wishlist?baz") called at t/03_mech.t line 90
Do not use HTTP::Session2::ClientStore. Use HTTP::Session2::ServerStore or HTTP::Session2::ClientStore2 instead. at /tmp/loop_over_bdir-687284-97mdRc/HTTP-Session2-1.10-0/blib/lib/HTTP/Session2/ClientStore.pm line 35.
Do not use HTTP::Session2::ClientStore. Use HTTP::Session2::ServerStore or HTTP::Session2::ClientStore2 instead. at /tmp/loop_over_bdir-687284-97mdRc/HTTP-Session2-1.10-0/blib/lib/HTTP/Session2/ClientStore.pm line 25.
Secret string too short at /tmp/loop_over_bdir-687284-97mdRc/HTTP-Session2-1.10-0/blib/lib/HTTP/Session2/Base.pm line 79.
	HTTP::Session2::Base::__ANON__(HTTP::Session2::ClientStore=HASH(0x55c47a403058), "s3cret") called at t/03_mech.t line 127
	main::client_session(HASH(0x55c47a403a48)) called at t/03_mech.t line 17
	main::__ANON__(HASH(0x55c47a403a48)) called at /home/sand/src/perl/repoperls/installed-perls/host/k93focal/v5.41.8/b254/lib/site_perl/5.41.8/Test/WWW/Mechanize/PSGI.pm line 46
	Test::WWW::Mechanize::PSGI::try {...} () called at /home/sand/src/perl/repoperls/installed-perls/host/k93focal/v5.41.8/b254/lib/site_perl/5.41.8/Try/Tiny.pm line 102
	eval {...} called at /home/sand/src/perl/repoperls/installed-perls/host/k93focal/v5.41.8/b254/lib/site_perl/5.41.8/Try/Tiny.pm line 93
	Try::Tiny::try(CODE(0x55c47a06cbf0), Try::Tiny::Catch=REF(0x55c47a402f68)) called at /home/sand/src/perl/repoperls/installed-perls/host/k93focal/v5.41.8/b254/lib/site_perl/5.41.8/Test/WWW/Mechanize/PSGI.pm line 53
	Test::WWW::Mechanize::PSGI::simple_request(Test::WWW::Mechanize::PSGI=HASH(0x55c47a3b7310), HTTP::Request=HASH(0x55c47a408fe8), undef, undef) called at /home/sand/src/perl/repoperls/installed-perls/host/k93focal/v5.41.8/b254/lib/site_perl/5.41.8/LWP/UserAgent.pm line 308
	LWP::UserAgent::request(Test::WWW::Mechanize::PSGI=HASH(0x55c47a3b7310), HTTP::Request=HASH(0x55c47a408fe8)) called at /home/sand/src/perl/repoperls/installed-perls/host/k93focal/v5.41.8/b254/lib/site_perl/5.41.8/WWW/Mechanize.pm line 1699
	WWW::Mechanize::_make_request(Test::WWW::Mechanize::PSGI=HASH(0x55c47a3b7310), HTTP::Request=HASH(0x55c47a408fe8)) called at /home/sand/src/perl/repoperls/installed-perls/host/k93focal/v5.41.8/b254/lib/site_perl/5.41.8/WWW/Mechanize.pm line 1534
	WWW::Mechanize::request(Test::WWW::Mechanize::PSGI=HASH(0x55c47a3b7310), HTTP::Request=HASH(0x55c47a408fe8)) called at /home/sand/src/perl/repoperls/installed-perls/host/k93focal/v5.41.8/b254/lib/site_perl/5.41.8/LWP/UserAgent.pm line 452
	LWP::UserAgent::get(Test::WWW::Mechanize::PSGI=HASH(0x55c47a3b7310), "http://localhost/wishlist") called at /home/sand/src/perl/repoperls/installed-perls/host/k93focal/v5.41.8/b254/lib/site_perl/5.41.8/WWW/Mechanize.pm line 124
	WWW::Mechanize::get(Test::WWW::Mechanize::PSGI=HASH(0x55c47a3b7310), "/wishlist") called at /home/sand/src/perl/repoperls/installed-perls/host/k93focal/v5.41.8/b254/lib/site_perl/5.41.8/Test/WWW/Mechanize.pm line 192
	Test::WWW::Mechanize::get_ok(Test::WWW::Mechanize::PSGI=HASH(0x55c47a3b7310), "/wishlist", "Wishlist is still available") called at t/03_mech.t line 91
Do not use HTTP::Session2::ClientStore. Use HTTP::Session2::ServerStore or HTTP::Session2::ClientStore2 instead. at /tmp/loop_over_bdir-687284-97mdRc/HTTP-Session2-1.10-0/blib/lib/HTTP/Session2/ClientStore.pm line 35.
Secret string too short at /tmp/loop_over_bdir-687284-97mdRc/HTTP-Session2-1.10-0/blib/lib/HTTP/Session2/Base.pm line 79.
	HTTP::Session2::Base::__ANON__(HTTP::Session2::ClientStore=HASH(0x55c47a3b7dc0), "s3cret") called at t/03_mech.t line 127
	main::client_session(HASH(0x55c47a403670)) called at t/03_mech.t line 17
	main::__ANON__(HASH(0x55c47a403670)) called at /home/sand/src/perl/repoperls/installed-perls/host/k93focal/v5.41.8/b254/lib/site_perl/5.41.8/Test/WWW/Mechanize/PSGI.pm line 46
	Test::WWW::Mechanize::PSGI::try {...} () called at /home/sand/src/perl/repoperls/installed-perls/host/k93focal/v5.41.8/b254/lib/site_perl/5.41.8/Try/Tiny.pm line 102
	eval {...} called at /home/sand/src/perl/repoperls/installed-perls/host/k93focal/v5.41.8/b254/lib/site_perl/5.41.8/Try/Tiny.pm line 93
	Try::Tiny::try(CODE(0x55c47a403550), Try::Tiny::Catch=REF(0x55c47a303df8)) called at /home/sand/src/perl/repoperls/installed-perls/host/k93focal/v5.41.8/b254/lib/site_perl/5.41.8/Test/WWW/Mechanize/PSGI.pm line 53
	Test::WWW::Mechanize::PSGI::simple_request(Test::WWW::Mechanize::PSGI=HASH(0x55c47a3b7310), HTTP::Request=HASH(0x55c47a408c70), undef, undef) called at /home/sand/src/perl/repoperls/installed-perls/host/k93focal/v5.41.8/b254/lib/site_perl/5.41.8/LWP/UserAgent.pm line 308
	LWP::UserAgent::request(Test::WWW::Mechanize::PSGI=HASH(0x55c47a3b7310), HTTP::Request=HASH(0x55c47a408c70)) called at /home/sand/src/perl/repoperls/installed-perls/host/k93focal/v5.41.8/b254/lib/site_perl/5.41.8/WWW/Mechanize.pm line 1699
	WWW::Mechanize::_make_request(Test::WWW::Mechanize::PSGI=HASH(0x55c47a3b7310), HTTP::Request=HASH(0x55c47a408c70)) called at /home/sand/src/perl/repoperls/installed-perls/host/k93focal/v5.41.8/b254/lib/site_perl/5.41.8/WWW/Mechanize.pm line 1534
	WWW::Mechanize::request(Test::WWW::Mechanize::PSGI=HASH(0x55c47a3b7310), HTTP::Request=HASH(0x55c47a408c70)) called at /home/sand/src/perl/repoperls/installed-perls/host/k93focal/v5.41.8/b254/lib/site_perl/5.41.8/LWP/UserAgent.pm line 452
	LWP::UserAgent::get(Test::WWW::Mechanize::PSGI=HASH(0x55c47a3b7310), "http://localhost/my/name") called at /home/sand/src/perl/repoperls/installed-perls/host/k93focal/v5.41.8/b254/lib/site_perl/5.41.8/WWW/Mechanize.pm line 124
	WWW::Mechanize::get(Test::WWW::Mechanize::PSGI=HASH(0x55c47a3b7310), "/my/name") called at /home/sand/src/perl/repoperls/installed-perls/host/k93focal/v5.41.8/b254/lib/site_perl/5.41.8/Test/WWW/Mechanize.pm line 192
	Test::WWW::Mechanize::get_ok(Test::WWW::Mechanize::PSGI=HASH(0x55c47a3b7310), "/my/name") called at t/03_mech.t line 93
Do not use HTTP::Session2::ClientStore. Use HTTP::Session2::ServerStore or HTTP::Session2::ClientStore2 instead. at /tmp/loop_over_bdir-687284-97mdRc/HTTP-Session2-1.10-0/blib/lib/HTTP/Session2/ClientStore.pm line 35.
Secret string too short at /tmp/loop_over_bdir-687284-97mdRc/HTTP-Session2-1.10-0/blib/lib/HTTP/Session2/Base.pm line 79.
	HTTP::Session2::Base::__ANON__(HTTP::Session2::ClientStore=HASH(0x55c47a408fb8), "s3cret") called at t/03_mech.t line 127
	main::client_session(HASH(0x55c478dbdf20)) called at t/03_mech.t line 17
	main::__ANON__(HASH(0x55c478dbdf20)) called at /home/sand/src/perl/repoperls/installed-perls/host/k93focal/v5.41.8/b254/lib/site_perl/5.41.8/Test/WWW/Mechanize/PSGI.pm line 46
	Test::WWW::Mechanize::PSGI::try {...} () called at /home/sand/src/perl/repoperls/installed-perls/host/k93focal/v5.41.8/b254/lib/site_perl/5.41.8/Try/Tiny.pm line 102
	eval {...} called at /home/sand/src/perl/repoperls/installed-perls/host/k93focal/v5.41.8/b254/lib/site_perl/5.41.8/Try/Tiny.pm line 93
	Try::Tiny::try(CODE(0x55c47a4096d8), Try::Tiny::Catch=REF(0x55c47a409258)) called at /home/sand/src/perl/repoperls/installed-perls/host/k93focal/v5.41.8/b254/lib/site_perl/5.41.8/Test/WWW/Mechanize/PSGI.pm line 53
	Test::WWW::Mechanize::PSGI::simple_request(Test::WWW::Mechanize::PSGI=HASH(0x55c47a3b7310), HTTP::Request=HASH(0x55c47a409078), undef, undef) called at /home/sand/src/perl/repoperls/installed-perls/host/k93focal/v5.41.8/b254/lib/site_perl/5.41.8/LWP/UserAgent.pm line 308
	LWP::UserAgent::request(Test::WWW::Mechanize::PSGI=HASH(0x55c47a3b7310), HTTP::Request=HASH(0x55c47a409078)) called at /home/sand/src/perl/repoperls/installed-perls/host/k93focal/v5.41.8/b254/lib/site_perl/5.41.8/WWW/Mechanize.pm line 1699
	WWW::Mechanize::_make_request(Test::WWW::Mechanize::PSGI=HASH(0x55c47a3b7310), HTTP::Request=HASH(0x55c47a409078)) called at /home/sand/src/perl/repoperls/installed-perls/host/k93focal/v5.41.8/b254/lib/site_perl/5.41.8/WWW/Mechanize.pm line 1534
	WWW::Mechanize::request(Test::WWW::Mechanize::PSGI=HASH(0x55c47a3b7310), HTTP::Request=HASH(0x55c47a409078)) called at /home/sand/src/perl/repoperls/installed-perls/host/k93focal/v5.41.8/b254/lib/site_perl/5.41.8/LWP/UserAgent.pm line 498
	LWP::UserAgent::post(Test::WWW::Mechanize::PSGI=HASH(0x55c47a3b7310), "http://localhost/account/logout?john") called at /home/sand/src/perl/repoperls/installed-perls/host/k93focal/v5.41.8/b254/lib/site_perl/5.41.8/WWW/Mechanize.pm line 136
	WWW::Mechanize::post(Test::WWW::Mechanize::PSGI=HASH(0x55c47a3b7310), "/account/logout?john") called at t/03_mech.t line 97
Do not use HTTP::Session2::ClientStore. Use HTTP::Session2::ServerStore or HTTP::Session2::ClientStore2 instead. at /tmp/loop_over_bdir-687284-97mdRc/HTTP-Session2-1.10-0/blib/lib/HTTP/Session2/ClientStore.pm line 35.
Do not use HTTP::Session2::ClientStore. Use HTTP::Session2::ServerStore or HTTP::Session2::ClientStore2 instead. at /tmp/loop_over_bdir-687284-97mdRc/HTTP-Session2-1.10-0/blib/lib/HTTP/Session2/ClientStore.pm line 35.
t/03_mech.t ................. ok
Do not use HTTP::Session2::ClientStore. Use HTTP::Session2::ServerStore or HTTP::Session2::ClientStore2 instead. at /tmp/loop_over_bdir-687284-97mdRc/HTTP-Session2-1.10-0/blib/lib/HTTP/Session2/ClientStore.pm line 25.
t/04_plack_response.t ....... ok
Secret string too short at /tmp/loop_over_bdir-687284-97mdRc/HTTP-Session2-1.10-0/blib/lib/HTTP/Session2/Base.pm line 79.
	HTTP::Session2::Base::__ANON__(HTTP::Session2::ClientStore=HASH(0x5649b21fc170), "s3cret") called at t/05_keep_me_signed_in.t line 20
Do not use HTTP::Session2::ClientStore. Use HTTP::Session2::ServerStore or HTTP::Session2::ClientStore2 instead. at /tmp/loop_over_bdir-687284-97mdRc/HTTP-Session2-1.10-0/blib/lib/HTTP/Session2/ClientStore.pm line 25.
t/05_keep_me_signed_in.t .... ok
Secret string too short at /tmp/loop_over_bdir-687284-97mdRc/HTTP-Session2-1.10-0/blib/lib/HTTP/Session2/Base.pm line 79.
	HTTP::Session2::Base::__ANON__(HTTP::Session2::Base=HASH(0x559cdd89e758), "i am secret") called at t/06_base_abstract.t line 7
t/06_base_abstract.t ........ ok
Secret string too short at /tmp/loop_over_bdir-687284-97mdRc/HTTP-Session2-1.10-0/blib/lib/HTTP/Session2/Base.pm line 79.
	HTTP::Session2::Base::__ANON__(HTTP::Session2::ClientStore=HASH(0x557ed6588f50), "secret") called at t/07_client_store.t line 23
	main::__ANON__() called at /home/sand/src/perl/repoperls/installed-perls/host/k93focal/v5.41.8/b254/lib/site_perl/5.41.8/Test/Builder.pm line 368
	eval {...} called at /home/sand/src/perl/repoperls/installed-perls/host/k93focal/v5.41.8/b254/lib/site_perl/5.41.8/Test/Builder.pm line 368
	Test::Builder::subtest(Test::Builder=HASH(0x557ed58015f8), "get/set/remove", CODE(0x557ed57baa90)) called at /home/sand/src/perl/repoperls/installed-perls/host/k93focal/v5.41.8/b254/lib/site_perl/5.41.8/Test/More.pm line 831
	Test::More::subtest("get/set/remove", CODE(0x557ed57baa90)) called at t/07_client_store.t line 31
Secret string too short at /tmp/loop_over_bdir-687284-97mdRc/HTTP-Session2-1.10-0/blib/lib/HTTP/Session2/Base.pm line 79.
	HTTP::Session2::Base::__ANON__(HTTP::Session2::ClientStore=HASH(0x557ed6595698), "secret") called at t/07_client_store.t line 35
	main::__ANON__() called at /home/sand/src/perl/repoperls/installed-perls/host/k93focal/v5.41.8/b254/lib/site_perl/5.41.8/Test/Builder.pm line 368
	eval {...} called at /home/sand/src/perl/repoperls/installed-perls/host/k93focal/v5.41.8/b254/lib/site_perl/5.41.8/Test/Builder.pm line 368
	Test::Builder::subtest(Test::Builder=HASH(0x557ed58015f8), "validate_token", CODE(0x557ed5ddc188)) called at /home/sand/src/perl/repoperls/installed-perls/host/k93focal/v5.41.8/b254/lib/site_perl/5.41.8/Test/More.pm line 831
	Test::More::subtest("validate_token", CODE(0x557ed5ddc188)) called at t/07_client_store.t line 71
Do not use HTTP::Session2::ClientStore. Use HTTP::Session2::ServerStore or HTTP::Session2::ClientStore2 instead. at /tmp/loop_over_bdir-687284-97mdRc/HTTP-Session2-1.10-0/blib/lib/HTTP/Session2/ClientStore.pm line 25.
Secret string too short at /tmp/loop_over_bdir-687284-97mdRc/HTTP-Session2-1.10-0/blib/lib/HTTP/Session2/Base.pm line 79.
	HTTP::Session2::Base::__ANON__(HTTP::Session2::ClientStore=HASH(0x557ed659cf98), "secret") called at t/07_client_store.t line 51
	main::__ANON__() called at /home/sand/src/perl/repoperls/installed-perls/host/k93focal/v5.41.8/b254/lib/site_perl/5.41.8/Test/Builder.pm line 368
	eval {...} called at /home/sand/src/perl/repoperls/installed-perls/host/k93focal/v5.41.8/b254/lib/site_perl/5.41.8/Test/Builder.pm line 368
	Test::Builder::subtest(Test::Builder=HASH(0x557ed58015f8), "bad", CODE(0x557ed57e0c80)) called at /home/sand/src/perl/repoperls/installed-perls/host/k93focal/v5.41.8/b254/lib/site_perl/5.41.8/Test/More.pm line 831
	Test::More::subtest("bad", CODE(0x557ed57e0c80)) called at t/07_client_store.t line 57
	main::__ANON__() called at /home/sand/src/perl/repoperls/installed-perls/host/k93focal/v5.41.8/b254/lib/site_perl/5.41.8/Test/Builder.pm line 368
	eval {...} called at /home/sand/src/perl/repoperls/installed-perls/host/k93focal/v5.41.8/b254/lib/site_perl/5.41.8/Test/Builder.pm line 368
	Test::Builder::subtest(Test::Builder=HASH(0x557ed58015f8), "validate_token", CODE(0x557ed5ddc188)) called at /home/sand/src/perl/repoperls/installed-perls/host/k93focal/v5.41.8/b254/lib/site_perl/5.41.8/Test/More.pm line 831
	Test::More::subtest("validate_token", CODE(0x557ed5ddc188)) called at t/07_client_store.t line 71
Do not use HTTP::Session2::ClientStore. Use HTTP::Session2::ServerStore or HTTP::Session2::ClientStore2 instead. at /tmp/loop_over_bdir-687284-97mdRc/HTTP-Session2-1.10-0/blib/lib/HTTP/Session2/ClientStore.pm line 35.
Secret string too short at /tmp/loop_over_bdir-687284-97mdRc/HTTP-Session2-1.10-0/blib/lib/HTTP/Session2/Base.pm line 79.
	HTTP::Session2::Base::__ANON__(HTTP::Session2::ClientStore=HASH(0x557ed57e1310), "secret") called at t/07_client_store.t line 65
	main::__ANON__() called at /home/sand/src/perl/repoperls/installed-perls/host/k93focal/v5.41.8/b254/lib/site_perl/5.41.8/Test/Builder.pm line 368
	eval {...} called at /home/sand/src/perl/repoperls/installed-perls/host/k93focal/v5.41.8/b254/lib/site_perl/5.41.8/Test/Builder.pm line 368
	Test::Builder::subtest(Test::Builder=HASH(0x557ed58015f8), "good", CODE(0x557ed57e0c80)) called at /home/sand/src/perl/repoperls/installed-perls/host/k93focal/v5.41.8/b254/lib/site_perl/5.41.8/Test/More.pm line 831
	Test::More::subtest("good", CODE(0x557ed57e0c80)) called at t/07_client_store.t line 70
	main::__ANON__() called at /home/sand/src/perl/repoperls/installed-perls/host/k93focal/v5.41.8/b254/lib/site_perl/5.41.8/Test/Builder.pm line 368
	eval {...} called at /home/sand/src/perl/repoperls/installed-perls/host/k93focal/v5.41.8/b254/lib/site_perl/5.41.8/Test/Builder.pm line 368
	Test::Builder::subtest(Test::Builder=HASH(0x557ed58015f8), "validate_token", CODE(0x557ed5ddc188)) called at /home/sand/src/perl/repoperls/installed-perls/host/k93focal/v5.41.8/b254/lib/site_perl/5.41.8/Test/More.pm line 831
	Test::More::subtest("validate_token", CODE(0x557ed5ddc188)) called at t/07_client_store.t line 71
Do not use HTTP::Session2::ClientStore. Use HTTP::Session2::ServerStore or HTTP::Session2::ClientStore2 instead. at /tmp/loop_over_bdir-687284-97mdRc/HTTP-Session2-1.10-0/blib/lib/HTTP/Session2/ClientStore.pm line 35.
Secret string too short at /tmp/loop_over_bdir-687284-97mdRc/HTTP-Session2-1.10-0/blib/lib/HTTP/Session2/Base.pm line 79.
	HTTP::Session2::Base::__ANON__(HTTP::Session2::ClientStore=HASH(0x557ed57e0f50), "secret") called at t/07_client_store.t line 76
	main::__ANON__() called at /home/sand/src/perl/repoperls/installed-perls/host/k93focal/v5.41.8/b254/lib/site_perl/5.41.8/Test/Builder.pm line 368
	eval {...} called at /home/sand/src/perl/repoperls/installed-perls/host/k93focal/v5.41.8/b254/lib/site_perl/5.41.8/Test/Builder.pm line 368
	Test::Builder::subtest(Test::Builder=HASH(0x557ed58015f8), "ignore_old", CODE(0x557ed64ca818)) called at /home/sand/src/perl/repoperls/installed-perls/host/k93focal/v5.41.8/b254/lib/site_perl/5.41.8/Test/More.pm line 831
	Test::More::subtest("ignore_old", CODE(0x557ed64ca818)) called at t/07_client_store.t line 106
Do not use HTTP::Session2::ClientStore. Use HTTP::Session2::ServerStore or HTTP::Session2::ClientStore2 instead. at /tmp/loop_over_bdir-687284-97mdRc/HTTP-Session2-1.10-0/blib/lib/HTTP/Session2/ClientStore.pm line 25.
Secret string too short at /tmp/loop_over_bdir-687284-97mdRc/HTTP-Session2-1.10-0/blib/lib/HTTP/Session2/Base.pm line 79.
	HTTP::Session2::Base::__ANON__(HTTP::Session2::ClientStore=HASH(0x557ed57cd7e8), "secret") called at t/07_client_store.t line 87
	main::__ANON__() called at /home/sand/src/perl/repoperls/installed-perls/host/k93focal/v5.41.8/b254/lib/site_perl/5.41.8/Test/Builder.pm line 368
	eval {...} called at /home/sand/src/perl/repoperls/installed-perls/host/k93focal/v5.41.8/b254/lib/site_perl/5.41.8/Test/Builder.pm line 368
	Test::Builder::subtest(Test::Builder=HASH(0x557ed58015f8), "ignore_old disabled", CODE(0x557ed65a2a20)) called at /home/sand/src/perl/repoperls/installed-perls/host/k93focal/v5.41.8/b254/lib/site_perl/5.41.8/Test/More.pm line 831
	Test::More::subtest("ignore_old disabled", CODE(0x557ed65a2a20)) called at t/07_client_store.t line 95
	main::__ANON__() called at /home/sand/src/perl/repoperls/installed-perls/host/k93focal/v5.41.8/b254/lib/site_perl/5.41.8/Test/Builder.pm line 368
	eval {...} called at /home/sand/src/perl/repoperls/installed-perls/host/k93focal/v5.41.8/b254/lib/site_perl/5.41.8/Test/Builder.pm line 368
	Test::Builder::subtest(Test::Builder=HASH(0x557ed58015f8), "ignore_old", CODE(0x557ed64ca818)) called at /home/sand/src/perl/repoperls/installed-perls/host/k93focal/v5.41.8/b254/lib/site_perl/5.41.8/Test/More.pm line 831
	Test::More::subtest("ignore_old", CODE(0x557ed64ca818)) called at t/07_client_store.t line 106
Do not use HTTP::Session2::ClientStore. Use HTTP::Session2::ServerStore or HTTP::Session2::ClientStore2 instead. at /tmp/loop_over_bdir-687284-97mdRc/HTTP-Session2-1.10-0/blib/lib/HTTP/Session2/ClientStore.pm line 35.
Secret string too short at /tmp/loop_over_bdir-687284-97mdRc/HTTP-Session2-1.10-0/blib/lib/HTTP/Session2/Base.pm line 79.
	HTTP::Session2::Base::__ANON__(HTTP::Session2::ClientStore=HASH(0x557ed57e1ad8), "secret") called at t/07_client_store.t line 97
	main::__ANON__() called at /home/sand/src/perl/repoperls/installed-perls/host/k93focal/v5.41.8/b254/lib/site_perl/5.41.8/Test/Builder.pm line 368
	eval {...} called at /home/sand/src/perl/repoperls/installed-perls/host/k93focal/v5.41.8/b254/lib/site_perl/5.41.8/Test/Builder.pm line 368
	Test::Builder::subtest(Test::Builder=HASH(0x557ed58015f8), "ignore_old enabled", CODE(0x557ed65a2a20)) called at /home/sand/src/perl/repoperls/installed-perls/host/k93focal/v5.41.8/b254/lib/site_perl/5.41.8/Test/More.pm line 831
	Test::More::subtest("ignore_old enabled", CODE(0x557ed65a2a20)) called at t/07_client_store.t line 105
	main::__ANON__() called at /home/sand/src/perl/repoperls/installed-perls/host/k93focal/v5.41.8/b254/lib/site_perl/5.41.8/Test/Builder.pm line 368
	eval {...} called at /home/sand/src/perl/repoperls/installed-perls/host/k93focal/v5.41.8/b254/lib/site_perl/5.41.8/Test/Builder.pm line 368
	Test::Builder::subtest(Test::Builder=HASH(0x557ed58015f8), "ignore_old", CODE(0x557ed64ca818)) called at /home/sand/src/perl/repoperls/installed-perls/host/k93focal/v5.41.8/b254/lib/site_perl/5.41.8/Test/More.pm line 831
	Test::More::subtest("ignore_old", CODE(0x557ed64ca818)) called at t/07_client_store.t line 106
t/07_client_store.t ......... ok
Secret string too short at /tmp/loop_over_bdir-687284-97mdRc/HTTP-Session2-1.10-0/blib/lib/HTTP/Session2/Base.pm line 79.
	HTTP::Session2::Base::__ANON__(HTTP::Session2::Expired=HASH(0x55982707b688), 33333) called at t/08_expired.t line 7
t/08_expired.t .............. ok
# /dev/urandom available
# /dev/urandom(1): GgaizHAxQHn_SJGUDs_e9Ag9IrSDidm
# /dev/urandom(2): fSfG1oLhtOiAvwU2JoAbP2EB8uEisN-
# perl:            84dc382ff9e1e8c81752a46af0ba408
t/09_random.t ............... ok
t/11_secret_string.t ........ ok
Secret string too short at /tmp/loop_over_bdir-687284-97mdRc/HTTP-Session2-1.10-0/blib/lib/HTTP/Session2/Base.pm line 79.
	HTTP::Session2::Base::__ANON__(HTTP::Session2::ClientStore2=HASH(0x55757ea0d000), "s3cret") called at t/client_store2/01_basic.t line 24
	main::__ANON__("client -> server: request without cookie", CODE(0x55757ea08458)) called at t/client_store2/01_basic.t line 30
	main::__ANON__() called at /home/sand/src/perl/repoperls/installed-perls/host/k93focal/v5.41.8/b254/lib/site_perl/5.41.8/Test/Builder.pm line 368
	eval {...} called at /home/sand/src/perl/repoperls/installed-perls/host/k93focal/v5.41.8/b254/lib/site_perl/5.41.8/Test/Builder.pm line 368
	Test::Builder::subtest(Test::Builder=HASH(0x55757dfa8768), "First request", CODE(0x55757df59648)) called at /home/sand/src/perl/repoperls/installed-perls/host/k93focal/v5.41.8/b254/lib/site_perl/5.41.8/Test/More.pm line 831
	Test::More::subtest("First request", CODE(0x55757df59648)) called at t/client_store2/01_basic.t line 9
	main::scenario("First request", CODE(0x55757df59648)) called at t/client_store2/01_basic.t line 36
Secret string too short at /tmp/loop_over_bdir-687284-97mdRc/HTTP-Session2-1.10-0/blib/lib/HTTP/Session2/Base.pm line 79.
	HTTP::Session2::Base::__ANON__(HTTP::Session2::ClientStore2=HASH(0x55757ea07d68), "s3cret") called at t/client_store2/01_basic.t line 41
	main::__ANON__("client -> server: request without cookie", CODE(0x55757ea0dba0)) called at t/client_store2/01_basic.t line 47
	main::__ANON__() called at /home/sand/src/perl/repoperls/installed-perls/host/k93focal/v5.41.8/b254/lib/site_perl/5.41.8/Test/Builder.pm line 368
	eval {...} called at /home/sand/src/perl/repoperls/installed-perls/host/k93focal/v5.41.8/b254/lib/site_perl/5.41.8/Test/Builder.pm line 368
	Test::Builder::subtest(Test::Builder=HASH(0x55757dfa8768), "Store something without login", CODE(0x55757df59648)) called at /home/sand/src/perl/repoperls/installed-perls/host/k93focal/v5.41.8/b254/lib/site_perl/5.41.8/Test/More.pm line 831
	Test::More::subtest("Store something without login", CODE(0x55757df59648)) called at t/client_store2/01_basic.t line 9
	main::scenario("Store something without login", CODE(0x55757df59648)) called at t/client_store2/01_basic.t line 63
WARNING: The key derivation method "opensslv1" is deprecated. Using -pbkdf=>'pbkdf2' would be better.
Pass -nodeprecate=>1 to inhibit this message.
 at /tmp/loop_over_bdir-687284-97mdRc/HTTP-Session2-1.10-0/blib/lib/HTTP/Session2/ClientStore2.pm line 177.
Secret string too short at /tmp/loop_over_bdir-687284-97mdRc/HTTP-Session2-1.10-0/blib/lib/HTTP/Session2/Base.pm line 79.
	HTTP::Session2::Base::__ANON__(HTTP::Session2::ClientStore2=HASH(0x55757ea1e018), "s3cret") called at t/client_store2/01_basic.t line 69
	main::__ANON__("client -> server: request without cookie", CODE(0x55757ea08080)) called at t/client_store2/01_basic.t line 76
	main::__ANON__() called at /home/sand/src/perl/repoperls/installed-perls/host/k93focal/v5.41.8/b254/lib/site_perl/5.41.8/Test/Builder.pm line 368
	eval {...} called at /home/sand/src/perl/repoperls/installed-perls/host/k93focal/v5.41.8/b254/lib/site_perl/5.41.8/Test/Builder.pm line 368
	Test::Builder::subtest(Test::Builder=HASH(0x55757dfa8768), "Login", CODE(0x55757df59648)) called at /home/sand/src/perl/repoperls/installed-perls/host/k93focal/v5.41.8/b254/lib/site_perl/5.41.8/Test/More.pm line 831
	Test::More::subtest("Login", CODE(0x55757df59648)) called at t/client_store2/01_basic.t line 9
	main::scenario("Login", CODE(0x55757df59648)) called at t/client_store2/01_basic.t line 96
Ciphertext does not begin with a valid header for 'salt' header mode at /tmp/loop_over_bdir-687284-97mdRc/HTTP-Session2-1.10-0/blib/lib/HTTP/Session2/ClientStore2.pm line 81.
Ciphertext does not begin with a valid header for 'salt' header mode at /tmp/loop_over_bdir-687284-97mdRc/HTTP-Session2-1.10-0/blib/lib/HTTP/Session2/ClientStore2.pm line 81.
WARNING: The key derivation method "opensslv1" is deprecated. Using -pbkdf=>'pbkdf2' would be better.
Pass -nodeprecate=>1 to inhibit this message.
 at /tmp/loop_over_bdir-687284-97mdRc/HTTP-Session2-1.10-0/blib/lib/HTTP/Session2/ClientStore2.pm line 177.
Secret string too short at /tmp/loop_over_bdir-687284-97mdRc/HTTP-Session2-1.10-0/blib/lib/HTTP/Session2/Base.pm line 79.
	HTTP::Session2::Base::__ANON__(HTTP::Session2::ClientStore2=HASH(0x55757ea144f0), "s3cret") called at t/client_store2/01_basic.t line 102
	main::__ANON__("client -> server: request without cookie", CODE(0x55757ea1e648)) called at t/client_store2/01_basic.t line 109
	main::__ANON__() called at /home/sand/src/perl/repoperls/installed-perls/host/k93focal/v5.41.8/b254/lib/site_perl/5.41.8/Test/Builder.pm line 368
	eval {...} called at /home/sand/src/perl/repoperls/installed-perls/host/k93focal/v5.41.8/b254/lib/site_perl/5.41.8/Test/Builder.pm line 368
	Test::Builder::subtest(Test::Builder=HASH(0x55757dfa8768), "In a login session", CODE(0x55757df59648)) called at /home/sand/src/perl/repoperls/installed-perls/host/k93focal/v5.41.8/b254/lib/site_perl/5.41.8/Test/More.pm line 831
	Test::More::subtest("In a login session", CODE(0x55757df59648)) called at t/client_store2/01_basic.t line 9
	main::scenario("In a login session", CODE(0x55757df59648)) called at t/client_store2/01_basic.t line 118
Ciphertext does not begin with a valid header for 'salt' header mode at /tmp/loop_over_bdir-687284-97mdRc/HTTP-Session2-1.10-0/blib/lib/HTTP/Session2/ClientStore2.pm line 81.
WARNING: The key derivation method "opensslv1" is deprecated. Using -pbkdf=>'pbkdf2' would be better.
Pass -nodeprecate=>1 to inhibit this message.
 at /tmp/loop_over_bdir-687284-97mdRc/HTTP-Session2-1.10-0/blib/lib/HTTP/Session2/ClientStore2.pm line 177.
Secret string too short at /tmp/loop_over_bdir-687284-97mdRc/HTTP-Session2-1.10-0/blib/lib/HTTP/Session2/Base.pm line 79.
	HTTP::Session2::Base::__ANON__(HTTP::Session2::ClientStore2=HASH(0x55757ea07a50), "s3cret") called at t/client_store2/01_basic.t line 123
	main::__ANON__("client -> server: request without cookie", CODE(0x55757ea222f8)) called at t/client_store2/01_basic.t line 130
	main::__ANON__() called at /home/sand/src/perl/repoperls/installed-perls/host/k93focal/v5.41.8/b254/lib/site_perl/5.41.8/Test/Builder.pm line 368
	eval {...} called at /home/sand/src/perl/repoperls/installed-perls/host/k93focal/v5.41.8/b254/lib/site_perl/5.41.8/Test/Builder.pm line 368
	Test::Builder::subtest(Test::Builder=HASH(0x55757dfa8768), "Logout", CODE(0x55757df59648)) called at /home/sand/src/perl/repoperls/installed-perls/host/k93focal/v5.41.8/b254/lib/site_perl/5.41.8/Test/More.pm line 831
	Test::More::subtest("Logout", CODE(0x55757df59648)) called at t/client_store2/01_basic.t line 9
	main::scenario("Logout", CODE(0x55757df59648)) called at t/client_store2/01_basic.t line 143
Ciphertext does not begin with a valid header for 'salt' header mode at /tmp/loop_over_bdir-687284-97mdRc/HTTP-Session2-1.10-0/blib/lib/HTTP/Session2/ClientStore2.pm line 81.
t/client_store2/01_basic.t .. ok
WARNING: The key derivation method "opensslv1" is deprecated. Using -pbkdf=>'pbkdf2' would be better.
Pass -nodeprecate=>1 to inhibit this message.
 at /tmp/loop_over_bdir-687284-97mdRc/HTTP-Session2-1.10-0/blib/lib/HTTP/Session2/ClientStore2.pm line 177.
WARNING: The key derivation method "opensslv1" is deprecated. Using -pbkdf=>'pbkdf2' would be better.
Pass -nodeprecate=>1 to inhibit this message.
 at /tmp/loop_over_bdir-687284-97mdRc/HTTP-Session2-1.10-0/blib/lib/HTTP/Session2/ClientStore2.pm line 177.
WARNING: The key derivation method "opensslv1" is deprecated. Using -pbkdf=>'pbkdf2' would be better.
Pass -nodeprecate=>1 to inhibit this message.
 at /tmp/loop_over_bdir-687284-97mdRc/HTTP-Session2-1.10-0/blib/lib/HTTP/Session2/ClientStore2.pm line 177.
t/client_store2/02_mech.t ... ok
WARNING: The key derivation method "opensslv1" is deprecated. Using -pbkdf=>'pbkdf2' would be better.
Pass -nodeprecate=>1 to inhibit this message.
 at /tmp/loop_over_bdir-687284-97mdRc/HTTP-Session2-1.10-0/blib/lib/HTTP/Session2/ClientStore2.pm line 177.
t/client_store2/03_colon.t .. ok
All tests successful.
Files=14, Tests=84,  2 wallclock secs ( 0.08 usr  0.02 sys +  1.79 cusr  0.27 csys =  2.16 CPU)
Result: PASS

------------------------------
PREREQUISITES
------------------------------

Prerequisite modules loaded:

requires:

    Module                     Need     Have    
    -------------------------- -------- --------
    Cookie::Baker              0        0.12    
    Crypt::CBC                 0        3.04    
    Data::MessagePack          0        1.02    
    Digest::HMAC               0        1.05    
    Digest::SHA                0        6.04    
    Digest::SHA1               0        2.13    
    MIME::Base64               3.11     3.16_01 
    Mouse                      0        v2.5.11 
    parent                     0        0.244   
    perl                       5.008005 5.041008
    Time::HiRes                0        1.9777  

build_requires:

    Module                     Need     Have    
    -------------------------- -------- --------
    Crypt::Rijndael            0        1.16    
    Plack::Request             0        1.0051  
    Plack::Response            0        1.0051  
    Test::More                 0.98     1.302209
    Test::WWW::Mechanize::PSGI 0        0.39    

configure_requires:

    Module                     Need     Have    
    -------------------------- -------- --------
    Module::Build::Tiny        0.035    0.051   


------------------------------
ENVIRONMENT AND OTHER CONTEXT
------------------------------

Environment variables:

    AUTOMATED_TESTING = 1
    LANG = en_US.UTF-8
    PATH = /home/sand/bin:/usr/local/bin:/usr/local/sbin:/usr/sbin:/usr/bin:/sbin:/bin:/usr/games:/usr/local/games:/snap/bin:/usr/local/perl/bin:/usr/X11/bin
    PERL = /tmp/basesmoker-reloperl-V4Wf/bin/perl
    PERL5LIB = /tmp/loop_over_bdir-687284-97mdRc/NoZone-1.3-0/blib/arch:/tmp/loop_over_bdir-687284-97mdRc/NoZone-1.3-0/blib/lib:/tmp/loop_over_bdir-687284-97mdRc/LiquidWeb-Storm-CLI-1.03-0/blib/arch:/tmp/loop_over_bdir-687284-97mdRc/LiquidWeb-Storm-CLI-1.03-0/blib/lib:/tmp/loop_over_bdir-687284-97mdRc/Alien-SNMP-MIBDEV-2.020000-0/blib/arch:/tmp/loop_over_bdir-687284-97mdRc/Alien-SNMP-MIBDEV-2.020000-0/blib/lib:/tmp/loop_over_bdir-687284-97mdRc/Debian-Packages-0.03-0/blib/arch:/tmp/loop_over_bdir-687284-97mdRc/Debian-Packages-0.03-0/blib/lib
    PERL5OPT = 
    PERL5_CPANPLUS_IS_RUNNING = 687292
    PERL5_CPAN_IS_RUNNING = 687292
    PERL_CANARY_STABILITY_NOPROMPT = 1
    PERL_MM_USE_DEFAULT = 1
    PERL_USE_UNSAFE_INC = 1
    SHELL = /usr/bin/zsh
    TERM = screen

Perl special variables (and OS-specific diagnostics, for MSWin32):

    $^X = /tmp/basesmoker-reloperl-V4Wf/bin/perl
    $UID/$EUID = 1005 / 1005
    $GID = 1005 1005
    $EGID = 1005 1005

Perl module toolchain versions installed:

    Module              Have    
    ------------------- --------
    CPAN                2.38    
    CPAN::Meta          2.150010
    Cwd                 3.92    
    ExtUtils::CBuilder  0.280240
    ExtUtils::Command   7.70    
    ExtUtils::Install   2.22    
    ExtUtils::MakeMaker 7.70    
    ExtUtils::Manifest  1.75    
    ExtUtils::ParseXS   3.57    
    File::Spec          3.93    
    JSON                4.10    
    JSON::PP            4.16    
    Module::Build       0.4234  
    Module::Signature   0.89    
    Parse::CPAN::Meta   2.150010
    Test2               1.302209
    Test::Harness       3.50    
    Test::More          1.302209
    YAML                1.31    
    YAML::Syck          1.34    
    version             0.9933  


--

Summary of my perl5 (revision 5 version 41 subversion 8) configuration:
  Commit id: 275243fbaf44bf18a6a42a38e62026bc22e22cc4
  Platform:
    osname=linux
    osvers=5.4.0-204-generic
    archname=x86_64-linux
    uname='linux k93focal 5.4.0-204-generic #224-ubuntu smp thu dec 5 13:38:28 utc 2024 x86_64 x86_64 x86_64 gnulinux '
    config_args='-Dprefix=/home/sand/src/perl/repoperls/installed-perls/host/k93focal/v5.41.8/b254 -Dmyhostname=k93focal -Dinstallusrbinperl=n -Uversiononly -Dusedevel -des -Ui_db -Dlibswanted=cl pthread socket inet nsl gdbm dbm malloc dl ld sun m crypt sec util c cposix posix ucb BSD gdbm_compat -Uuseithreads -Uuselongdouble -DEBUGGING=both'
    hint=recommended
    useposix=true
    d_sigaction=define
    useithreads=undef
    usemultiplicity=undef
    use64bitint=define
    use64bitall=define
    uselongdouble=undef
    usemymalloc=n
    default_inc_excludes_dot=define
  Compiler:
    cc='cc'
    ccflags ='-fwrapv -DDEBUGGING -fno-strict-aliasing -pipe -fstack-protector-strong -I/usr/local/include -D_LARGEFILE_SOURCE -D_FILE_OFFSET_BITS=64'
    optimize='-O2 -g'
    cppflags='-fwrapv -DDEBUGGING -fno-strict-aliasing -pipe -fstack-protector-strong -I/usr/local/include'
    ccversion=''
    gccversion='9.4.0'
    gccosandvers=''
    intsize=4
    longsize=8
    ptrsize=8
    doublesize=8
    byteorder=12345678
    doublekind=3
    d_longlong=define
    longlongsize=8
    d_longdbl=define
    longdblsize=16
    longdblkind=3
    ivtype='long'
    ivsize=8
    nvtype='double'
    nvsize=8
    Off_t='off_t'
    lseeksize=8
    alignbytes=8
    prototype=define
  Linker and Libraries:
    ld='cc'
    ldflags =' -fstack-protector-strong -L/usr/local/lib'
    libpth=/usr/local/lib /usr/lib/x86_64-linux-gnu /usr/lib /usr/lib64
    libs=-lpthread -lnsl -ldl -lm -lcrypt -lutil -lc
    perllibs=-lpthread -lnsl -ldl -lm -lcrypt -lutil -lc
    libc=libc-2.31.so
    so=so
    useshrplib=false
    libperl=libperl.a
    gnulibc_version='2.31'
  Dynamic Linking:
    dlsrc=dl_dlopen.xs
    dlext=so
    d_dlsymun=undef
    ccdlflags='-Wl,-E'
    cccdlflags='-fPIC'
    lddlflags='-shared -O2 -g -L/usr/local/lib -fstack-protector-strong'


Characteristics of this binary (from libperl): 
  Compile-time options:
    DEBUGGING
    HAS_LONG_DOUBLE
    HAS_STRTOLD
    HAS_TIMES
    PERLIO_LAYERS
    PERL_COPY_ON_WRITE
    PERL_DONT_CREATE_GVSV
    PERL_HASH_FUNC_SIPHASH13
    PERL_HASH_USE_SBOX32
    PERL_MALLOC_WRAP
    PERL_OP_PARENT
    PERL_PRESERVE_IVUV
    PERL_USE_DEVEL
    PERL_USE_SAFE_PUTENV
    USE_64_BIT_ALL
    USE_64_BIT_INT
    USE_LARGE_FILES
    USE_LOCALE
    USE_LOCALE_COLLATE
    USE_LOCALE_CTYPE
    USE_LOCALE_NUMERIC
    USE_LOCALE_TIME
    USE_PERLIO
    USE_PERL_ATOF
  Built under linux
  Compiled at Feb  2 2025 03:34:19
  %ENV:
    PERL="/tmp/basesmoker-reloperl-V4Wf/bin/perl"
    PERL5LIB="/tmp/loop_over_bdir-687284-97mdRc/NoZone-1.3-0/blib/arch:/tmp/loop_over_bdir-687284-97mdRc/NoZone-1.3-0/blib/lib:/tmp/loop_over_bdir-687284-97mdRc/LiquidWeb-Storm-CLI-1.03-0/blib/arch:/tmp/loop_over_bdir-687284-97mdRc/LiquidWeb-Storm-CLI-1.03-0/blib/lib:/tmp/loop_over_bdir-687284-97mdRc/Alien-SNMP-MIBDEV-2.020000-0/blib/arch:/tmp/loop_over_bdir-687284-97mdRc/Alien-SNMP-MIBDEV-2.020000-0/blib/lib:/tmp/loop_over_bdir-687284-97mdRc/Debian-Packages-0.03-0/blib/arch:/tmp/loop_over_bdir-687284-97mdRc/Debian-Packages-0.03-0/blib/lib"
    PERL5OPT=""
    PERL5_CPANPLUS_IS_RUNNING="687292"
    PERL5_CPAN_IS_RUNNING="687292"
    PERL_CANARY_STABILITY_NOPROMPT="1"
    PERL_MM_USE_DEFAULT="1"
    PERL_USE_UNSAFE_INC="1"
  @INC:
    /tmp/loop_over_bdir-687284-97mdRc/NoZone-1.3-0/blib/arch
    /tmp/loop_over_bdir-687284-97mdRc/NoZone-1.3-0/blib/lib
    /tmp/loop_over_bdir-687284-97mdRc/LiquidWeb-Storm-CLI-1.03-0/blib/arch
    /tmp/loop_over_bdir-687284-97mdRc/LiquidWeb-Storm-CLI-1.03-0/blib/lib
    /tmp/loop_over_bdir-687284-97mdRc/Alien-SNMP-MIBDEV-2.020000-0/blib/arch
    /tmp/loop_over_bdir-687284-97mdRc/Alien-SNMP-MIBDEV-2.020000-0/blib/lib
    /tmp/loop_over_bdir-687284-97mdRc/Debian-Packages-0.03-0/blib/arch
    /tmp/loop_over_bdir-687284-97mdRc/Debian-Packages-0.03-0/blib/lib
    /home/sand/src/perl/repoperls/installed-perls/host/k93focal/v5.41.8/b254/lib/site_perl/5.41.8/x86_64-linux
    /home/sand/src/perl/repoperls/installed-perls/host/k93focal/v5.41.8/b254/lib/site_perl/5.41.8
    /home/sand/src/perl/repoperls/installed-perls/host/k93focal/v5.41.8/b254/lib/5.41.8/x86_64-linux
    /home/sand/src/perl/repoperls/installed-perls/host/k93focal/v5.41.8/b254/lib/5.41.8
    .