Report for Text-MacroScript-2.10

Back
From: metabase:user:322078bc-2aae-11df-837a-5e0a49663a4f
Subject: PASS Text-MacroScript-2.10 v5.16.1 Debian GNU/kFreeBSD
Date: 2015-06-13T07:57:27Z

This distribution has been tested as part of the CPAN Testers
project, supporting the Perl programming language.  See
http://wiki.cpantesters.org/ for more information or email
questions to cpan-testers-discuss@perl.org


--

Dear PSCUST,

This is a computer-generated error report created automatically by
CPANPLUS, version 0.9152. Testers personal comments may appear
at the end of this report.


Thank you for uploading your work to CPAN.  Congratulations!
All tests were successful.

TEST RESULTS:

Below is the error stack from stage 'make test':

PERL_DL_NONLAZY=1 "/home/cpan/pit/thr/perl-5.16.1/bin/perl" "-MExtUtils::Command::MM" "-MTest::Harness" "-e" "undef *Test::Harness::Switches; test_harness(0, 'blib/lib', 'blib/arch')" t/*.t
t/case.t ......... ok
t/comment.t ...... ok
# file '~/testmacroscript.tmp~' not found
# Issue #46: Syntax error in %CASE expression is not caught
# Issue #47 eval error when evaluating a SCRIPT is not caught and Perl error message is output
# Issue #49: Missing parameter or unescaped # in MACRO not reported for all missing parameters
t/expand_file.t .. ok
# Issue #10: macrodir always in embedded mode, ignoring -p option
# Issue #10: macrodir always in embedded mode, ignoring -p option
# Issue #10: macrodir always in embedded mode, ignoring -p option
# Issue #10: macrodir always in embedded mode, ignoring -p option
# Issue #10: macrodir always in embedded mode, ignoring -p option
# Issue #10: macrodir always in embedded mode, ignoring -p option
# Issue #10: macrodir always in embedded mode, ignoring -p option
# Issue #10: macrodir always in embedded mode, ignoring -p option
# Issue #10: macrodir always in embedded mode, ignoring -p option
# Issue #9: macrodir -d: does not replicate source tree in target directory
# Issue #10: macrodir always in embedded mode, ignoring -p option
# Issue #10: macrodir always in embedded mode, ignoring -p option
# Issue #10: macrodir always in embedded mode, ignoring -p option
# Issue #10: macrodir always in embedded mode, ignoring -p option
# Issue #10: macrodir always in embedded mode, ignoring -p option
# Issue #10: macrodir always in embedded mode, ignoring -p option
# Issue #10: macrodir always in embedded mode, ignoring -p option
# Issue #10: macrodir always in embedded mode, ignoring -p option
# Issue #10: macrodir always in embedded mode, ignoring -p option
# Issue #10: macrodir always in embedded mode, ignoring -p option
t/macrodir.t ..... ok
# Issue #23: macropp: report errors on syntax error
# Issue #23: macropp: report errors on syntax error
t/macropp.t ...... ok
# Issue #1: expansion depends on size of macro name
# Issue #4: undefine_all() should carp if no option is given
# Issue #2: expand() does not accept a multi-line text
# Issue #1: expansion depends on size of macro name
# Issue #3: Cannot catch error "missing parameter or unescaped # in MACRO"
# Issue #37: Variables should be expanded in all input text, not only in macro scripts
# Issue #37: Variables should be expanded in all input text, not only in macro scripts
t/macros.t ....... ok
t/macroscript.t .. ok
# Issue #2: expand() does not accept a multi-line text
t/new.t .......... ok
# Issue #41: Macro/script arguments do not nest
# Issue #5: Syntax SUM[] should be accepted to call script without parameters
# Issue #7: expansion depends on size of script name
# Issue #3: Cannot catch error "missing parameter or unescaped # in MACRO"
# Issue #37: Variables should be expanded in all input text, not only in macro scripts
t/scripts.t ...... ok
# Issue #38: Variables with # syntax not parsed by $Macro->define()
# Issue #39: Undefined #var use causes perl error message without location
# Issue #38: Variables with # syntax not parsed by $Macro->define()
# Issue #39: Undefined #var use causes perl error message without location
# Issue #38: Variables with # syntax not parsed by $Macro->define()
# Issue #39: Undefined #var use causes perl error message without location
# Issue #38: Variables with # syntax not parsed by $Macro->define()
# Issue #39: Undefined #var use causes perl error message without location
# Issue #38: Variables with # syntax not parsed by $Macro->define()
# Issue #39: Undefined #var use causes perl error message without location
Cannot undefine non-existent VARIABLE N3 at t/variables.t line 65.
Cannot undefine non-existent VARIABLE N4 at t/variables.t line 65.
Cannot undefine non-existent VARIABLE N5 at t/variables.t line 65.
# Issue #40: Variables should accept expressions and compute them
t/variables.t .... ok
All tests successful.
Files=10, Tests=704,  7 wallclock secs ( 0.03 usr  0.08 sys +  1.70 cusr  1.57 csys =  3.38 CPU)
Result: PASS


PREREQUISITES:

Here is a list of prerequisites you specified and versions we
managed to load:

	  Module Name                        Have     Want
	  Capture::Tiny                      0.30     0.22
	  ExtUtils::MakeMaker                7.04        0
	  Object::Tiny::RW                   1.07     1.07
	  Path::Tiny                        0.068    0.068
	  Test::Differences                  0.63     0.61
	  Test::More                     1.001014 1.001014

Perl module toolchain versions installed:
	Module Name                        Have
	CPANPLUS                         0.9152
	CPANPLUS::Dist::Build              0.78
	Cwd                                3.47
	ExtUtils::CBuilder             0.280223
	ExtUtils::Command                  1.17
	ExtUtils::Install                  2.04
	ExtUtils::MakeMaker                7.04
	ExtUtils::Manifest                 1.70
	ExtUtils::ParseXS                  3.24
	File::Spec                         3.47
	Module::Build                    0.4212
	Pod::Parser                        1.51
	Pod::Simple                        3.20
	Test::Harness                      3.35
	Test::More                     1.001014
	version                          0.9912

******************************** NOTE ********************************
The comments above are created mechanically, possibly without manual
checking by the sender.  As there are many people performing automatic
tests on each upload to CPAN, it is likely that you will receive
identical messages about the same problem.

If you believe that the message is mistaken, please reply to the first
one with correction and/or additional informations, and do not take
it personally.  We appreciate your patience. :)
**********************************************************************

Additional comments:


This report was machine-generated by CPANPLUS::Dist::YACSmoke 0.94.
Powered by minismokebox version 0.58

------------------------------
ENVIRONMENT AND OTHER CONTEXT
------------------------------

Environment variables:

    AUTOMATED_TESTING = 1
    LANG = en_GB.UTF-8
    LANGUAGE = en_GB:en
    NONINTERACTIVE_TESTING = 1
    PATH = /home/cpan/pit/thr/conf/perl-5.16.1/.cpanplus/5.16.1/build/Text-MacroScript-2.10/blib/script:/usr/local/bin:/usr/bin:/bin:/usr/local/games:/usr/games
    PERL5LIB = :/home/cpan/pit/thr/conf/perl-5.16.1/.cpanplus/5.16.1/build/Capture-Tiny-0.30/blib/lib:/home/cpan/pit/thr/conf/perl-5.16.1/.cpanplus/5.16.1/build/Capture-Tiny-0.30/blib/arch:/home/cpan/pit/thr/conf/perl-5.16.1/.cpanplus/5.16.1/build/Object-Tiny-RW-1.07/blib/lib:/home/cpan/pit/thr/conf/perl-5.16.1/.cpanplus/5.16.1/build/Object-Tiny-RW-1.07/blib/arch:/home/cpan/pit/thr/conf/perl-5.16.1/.cpanplus/5.16.1/build/Path-Tiny-0.068/blib/lib:/home/cpan/pit/thr/conf/perl-5.16.1/.cpanplus/5.16.1/build/Path-Tiny-0.068/blib/arch:/home/cpan/pit/thr/conf/perl-5.16.1/.cpanplus/5.16.1/build/Algorithm-Diff-1.1903/blib/lib:/home/cpan/pit/thr/conf/perl-5.16.1/.cpanplus/5.16.1/build/Algorithm-Diff-1.1903/blib/arch:/home/cpan/pit/thr/conf/perl-5.16.1/.cpanplus/5.16.1/build/Text-Diff-1.41/blib/lib:/home/cpan/pit/thr/conf/perl-5.16.1/.cpanplus/5.16.1/build/Text-Diff-1.41/blib/arch:/home/cpan/pit/thr/conf/perl-5.16.1/.cpanplus/5.16.1/build/Test-Differences-0.63/blib/lib:/home/cpan/pit/thr/conf/perl-5.16.1/.cpanplus/5.16.1/build/Test-Differences-0.63/blib/arch:/home/cpan/pit/thr/conf/perl-5.16.1/.cpanplus/5.16.1/build/Text-MacroScript-2.10/blib/lib:/home/cpan/pit/thr/conf/perl-5.16.1/.cpanplus/5.16.1/build/Text-MacroScript-2.10/blib/arch
    PERL5_CPANPLUS_IS_RUNNING = 5155
    PERL5_CPANPLUS_IS_VERSION = 0.9152
    PERL5_MINISMOKEBOX = 0.58
    PERL5_YACSMOKE_BASE = /home/cpan/pit/thr/conf/perl-5.16.1
    PERL_EXTUTILS_AUTOINSTALL = --defaultdeps
    PERL_MM_USE_DEFAULT = 1
    SHELL = /bin/bash
    TERM = screen

Perl special variables (and OS-specific diagnostics, for MSWin32):

    Perl: $^X = /home/cpan/pit/thr/perl-5.16.1/bin/perl
    UID:  $<  = 1001
    EUID: $>  = 1001
    GID:  $(  = 1001 1001
    EGID: $)  = 1001 1001


-------------------------------


--

Summary of my perl5 (revision 5 version 16 subversion 1) configuration:
   
  Platform:
    osname=gnukfreebsd, osvers=10.0-1-amd64, archname=x86_64-gnukfreebsd-thread-multi
    uname='gnukfreebsd kapitan 10.0-1-amd64 #0 wed, 15 jan 2014 13:30:05 +0100 x86_64 amd64 amd a6-3670 apu with radeon(tm) hd graphics gnukfreebsd '
    config_args='-des -Dprefix=/home/cpan/pit/thr/perl-5.16.1 -Dusethreads'
    hint=recommended, useposix=true, d_sigaction=define
    useithreads=define, usemultiplicity=define
    useperlio=define, d_sfio=undef, uselargefiles=define, usesocks=undef
    use64bitint=define, use64bitall=define, uselongdouble=undef
    usemymalloc=n, bincompat5005=undef
  Compiler:
    cc='cc', ccflags ='-D_REENTRANT -D_GNU_SOURCE -fno-strict-aliasing -pipe -fstack-protector -I/usr/local/include -D_LARGEFILE_SOURCE -D_FILE_OFFSET_BITS=64',
    optimize='-O2',
    cppflags='-D_REENTRANT -D_GNU_SOURCE -fno-strict-aliasing -pipe -fstack-protector -I/usr/local/include'
    ccversion='', gccversion='4.8.2', gccosandvers=''
    intsize=4, longsize=8, ptrsize=8, doublesize=8, byteorder=12345678
    d_longlong=define, longlongsize=8, d_longdbl=define, longdblsize=16
    ivtype='long', ivsize=8, nvtype='double', nvsize=8, Off_t='off_t', lseeksize=8
    alignbytes=8, prototype=define
  Linker and Libraries:
    ld='cc', ldflags =' -fstack-protector -L/usr/local/lib'
    libpth=/usr/local/lib /lib/x86_64-kfreebsd-gnu /lib/../lib /usr/lib/x86_64-kfreebsd-gnu /usr/lib/../lib /lib /usr/lib
    libs=-lnsl -lgdbm -ldl -lm -lcrypt -lutil -lpthread -lc -lgdbm_compat
    perllibs=-lnsl -ldl -lm -lcrypt -lutil -lpthread -lc
    libc=, so=so, useshrplib=false, libperl=libperl.a
    gnulibc_version='2.17'
  Dynamic Linking:
    dlsrc=dl_dlopen.xs, dlext=so, d_dlsymun=undef, ccdlflags='-Wl,-E'
    cccdlflags='-fpic', lddlflags='-shared -O2 -L/usr/local/lib -fstack-protector'


Characteristics of this binary (from libperl): 
  Compile-time options: HAS_TIMES MULTIPLICITY PERLIO_LAYERS
                        PERL_DONT_CREATE_GVSV PERL_IMPLICIT_CONTEXT
                        PERL_MALLOC_WRAP PERL_PRESERVE_IVUV USE_64_BIT_ALL
                        USE_64_BIT_INT USE_ITHREADS USE_LARGE_FILES
                        USE_LOCALE USE_LOCALE_COLLATE USE_LOCALE_CTYPE
                        USE_LOCALE_NUMERIC USE_PERLIO USE_PERL_ATOF
                        USE_REENTRANT_API
  Built under gnukfreebsd
  Compiled at Feb  9 2014 23:00:53
  %ENV:
    PERL5LIB=":/home/cpan/pit/thr/conf/perl-5.16.1/.cpanplus/5.16.1/build/Capture-Tiny-0.30/blib/lib:/home/cpan/pit/thr/conf/perl-5.16.1/.cpanplus/5.16.1/build/Capture-Tiny-0.30/blib/arch:/home/cpan/pit/thr/conf/perl-5.16.1/.cpanplus/5.16.1/build/Object-Tiny-RW-1.07/blib/lib:/home/cpan/pit/thr/conf/perl-5.16.1/.cpanplus/5.16.1/build/Object-Tiny-RW-1.07/blib/arch:/home/cpan/pit/thr/conf/perl-5.16.1/.cpanplus/5.16.1/build/Path-Tiny-0.068/blib/lib:/home/cpan/pit/thr/conf/perl-5.16.1/.cpanplus/5.16.1/build/Path-Tiny-0.068/blib/arch:/home/cpan/pit/thr/conf/perl-5.16.1/.cpanplus/5.16.1/build/Algorithm-Diff-1.1903/blib/lib:/home/cpan/pit/thr/conf/perl-5.16.1/.cpanplus/5.16.1/build/Algorithm-Diff-1.1903/blib/arch:/home/cpan/pit/thr/conf/perl-5.16.1/.cpanplus/5.16.1/build/Text-Diff-1.41/blib/lib:/home/cpan/pit/thr/conf/perl-5.16.1/.cpanplus/5.16.1/build/Text-Diff-1.41/blib/arch:/home/cpan/pit/thr/conf/perl-5.16.1/.cpanplus/5.16.1/build/Test-Differences-0.63/blib/lib:/home/cpan/pit/thr/conf/perl-5.16.1/.cpanplus/5.16.1/build/Test-Differences-0.63/blib/arch:/home/cpan/pit/thr/conf/perl-5.16.1/.cpanplus/5.16.1/build/Text-MacroScript-2.10/blib/lib:/home/cpan/pit/thr/conf/perl-5.16.1/.cpanplus/5.16.1/build/Text-MacroScript-2.10/blib/arch"
    PERL5_CPANPLUS_IS_RUNNING="5155"
    PERL5_CPANPLUS_IS_VERSION="0.9152"
    PERL5_MINISMOKEBOX="0.58"
    PERL5_YACSMOKE_BASE="/home/cpan/pit/thr/conf/perl-5.16.1"
    PERL_EXTUTILS_AUTOINSTALL="--defaultdeps"
    PERL_MM_USE_DEFAULT="1"
  @INC:
    /home/cpan/pit/thr/conf/perl-5.16.1/.cpanplus/5.16.1/build/Capture-Tiny-0.30/blib/lib
    /home/cpan/pit/thr/conf/perl-5.16.1/.cpanplus/5.16.1/build/Capture-Tiny-0.30/blib/arch
    /home/cpan/pit/thr/conf/perl-5.16.1/.cpanplus/5.16.1/build/Object-Tiny-RW-1.07/blib/lib
    /home/cpan/pit/thr/conf/perl-5.16.1/.cpanplus/5.16.1/build/Object-Tiny-RW-1.07/blib/arch
    /home/cpan/pit/thr/conf/perl-5.16.1/.cpanplus/5.16.1/build/Path-Tiny-0.068/blib/lib
    /home/cpan/pit/thr/conf/perl-5.16.1/.cpanplus/5.16.1/build/Path-Tiny-0.068/blib/arch
    /home/cpan/pit/thr/conf/perl-5.16.1/.cpanplus/5.16.1/build/Algorithm-Diff-1.1903/blib/lib
    /home/cpan/pit/thr/conf/perl-5.16.1/.cpanplus/5.16.1/build/Algorithm-Diff-1.1903/blib/arch
    /home/cpan/pit/thr/conf/perl-5.16.1/.cpanplus/5.16.1/build/Text-Diff-1.41/blib/lib
    /home/cpan/pit/thr/conf/perl-5.16.1/.cpanplus/5.16.1/build/Text-Diff-1.41/blib/arch
    /home/cpan/pit/thr/conf/perl-5.16.1/.cpanplus/5.16.1/build/Test-Differences-0.63/blib/lib
    /home/cpan/pit/thr/conf/perl-5.16.1/.cpanplus/5.16.1/build/Test-Differences-0.63/blib/arch
    /home/cpan/pit/thr/conf/perl-5.16.1/.cpanplus/5.16.1/build/Text-MacroScript-2.10/blib/lib
    /home/cpan/pit/thr/conf/perl-5.16.1/.cpanplus/5.16.1/build/Text-MacroScript-2.10/blib/arch
    /home/cpan/pit/thr/perl-5.16.1/lib/site_perl/5.16.1/x86_64-gnukfreebsd-thread-multi
    /home/cpan/pit/thr/perl-5.16.1/lib/site_perl/5.16.1
    /home/cpan/pit/thr/perl-5.16.1/lib/5.16.1/x86_64-gnukfreebsd-thread-multi
    /home/cpan/pit/thr/perl-5.16.1/lib/5.16.1
    .