Report for WebService-Async-UserAgent-0.005

Back
From: metabase:user:314402c4-2aae-11df-837a-5e0a49663a4f
Subject: PASS WebService-Async-UserAgent-0.005 v5.22.2 FreeBSD
Date: 2016-12-31T13:12:51Z

This distribution has been tested as part of the CPAN Testers
project, supporting the Perl programming language.  See
http://wiki.cpantesters.org/ for more information or email
questions to cpan-testers-discuss@perl.org


--
Dear Tom Molesworth,

This is a computer-generated report for WebService-Async-UserAgent-0.005
on perl 5.22.2, created by CPAN-Reporter-1.2017.

Thank you for uploading your work to CPAN.  Congratulations!
All tests were successful.

Sections of this report:

    * Tester comments
    * Program output
    * Prerequisites
    * Environment and other context

------------------------------
TESTER COMMENTS
------------------------------

Additional comments from tester:

none provided

------------------------------
PROGRAM OUTPUT
------------------------------

Output from '/usr/bin/make test':

PERL_DL_NONLAZY=1 "/usr/perl5.22.2t/bin/perl" "-MExtUtils::Command::MM" "-MTest::Harness" "-e" "undef *Test::Harness::Switches; test_harness(0, 'blib/lib', 'blib/arch')" t/*.t
t/00-check-deps.t ...... ok
# 
# Versions for all modules listed in MYMETA.json (including optional ones):
# 
# === Configure Requires ===
# 
#     Module              Want    Have
#     ------------------- ---- -------
#     ExtUtils::MakeMaker 6.48 7.04_01
# 
# === Build Requires ===
# 
#     Module              Want    Have
#     ------------------- ---- -------
#     ExtUtils::MakeMaker  any 7.04_01
# 
# === Test Requires ===
# 
#     Module               Want     Have
#     ------------------- ----- --------
#     ExtUtils::MakeMaker   any  7.04_01
#     File::Spec            any  3.56_01
#     Test::CheckDeps     0.010    0.010
#     Test::Fatal         0.010    0.014
#     Test::More           0.98 1.302026
#     Test::Refcount       0.07     0.08
# 
# === Test Recommends ===
# 
#     Module         Want     Have
#     ---------- -------- --------
#     CPAN::Meta 2.120900 2.150001
# 
# === Runtime Requires ===
# 
#     Module         Want  Have
#     -------------- ---- -----
#     Future         0.34  0.34
#     HTTP::Request   any  6.11
#     HTTP::Response  any  6.11
#     URI             any  1.71
#     parent          any 0.232
# 
# === Runtime Recommends ===
# 
#     Module          Want     Have
#     ----------- -------- --------
#     Mozilla::CA 20160104 20160104
# 
t/00-report-prereqs.t .. ok
t/lwp.t ................ skipped: needs IO::Async and LWP::UserAgent to test
t/mojo.t ............... ok
t/nahttp.t ............. skipped: needs IO::Async and Net::Async::HTTP
All tests successful.
Files=5, Tests=18,  0 wallclock secs ( 0.01 usr  0.03 sys +  0.40 cusr  0.12 csys =  0.55 CPU)
Result: PASS

------------------------------
PREREQUISITES
------------------------------

Prerequisite modules loaded:

requires:

    Module              Need     Have    
    ------------------- -------- --------
    Future              0.34     0.34    
    HTTP::Request       0        6.11    
    HTTP::Response      0        6.11    
    parent              0        0.232   
    perl                5.012000 5.022002
    URI                 0        1.71    

build_requires:

    Module              Need     Have    
    ------------------- -------- --------
    ExtUtils::MakeMaker 0        7.04_01 
    File::Spec          0        3.56_01 
    Test::CheckDeps     0.010    0.010   
    Test::Fatal         0.010    0.014   
    Test::More          0.98     1.302026
    Test::Refcount      0.07     0.08    

configure_requires:

    Module              Need     Have    
    ------------------- -------- --------
    ExtUtils::MakeMaker 6.48     7.04_01 


------------------------------
ENVIRONMENT AND OTHER CONTEXT
------------------------------

Environment variables:

    LC_ALL = de_DE.ISO8859-1
    PATH = /usr/local/bin:/usr/bin:/bin:/usr/local/sbin:/usr/sbin:/sbin:/home/cpansand/bin/freebsd10.1:/home/cpansand/bin/sh:/home/cpansand/bin:/usr/games:/home/cpansand/devel:/home/eserte/src/srezic-misc/scripts
    PERL5LIB = /home/cpansand/.cpan/build/2016123112/Test-CheckDeps-0.010-IwXt3C/blib/arch:/home/cpansand/.cpan/build/2016123112/Test-CheckDeps-0.010-IwXt3C/blib/lib:/home/cpansand/.cpan/build/2016123112/Future-Mojo-0.003-qxpXIG/blib/arch:/home/cpansand/.cpan/build/2016123112/Future-Mojo-0.003-qxpXIG/blib/lib:/home/cpansand/.cpan/build/2016123112/Mojolicious-7.13-MUVwjo/blib/arch:/home/cpansand/.cpan/build/2016123112/Mojolicious-7.13-MUVwjo/blib/lib:/home/cpansand/.cpan/build/2016123112/Future-0.34-wga3vw/blib/arch:/home/cpansand/.cpan/build/2016123112/Future-0.34-wga3vw/blib/lib:/home/cpansand/.cpan/build/2016123112/Test-Identity-0.01-ImSKqs/blib/arch:/home/cpansand/.cpan/build/2016123112/Test-Identity-0.01-ImSKqs/blib/lib:/home/cpansand/.cpan/build/2016123112/Test-Refcount-0.08-cg9MB5/blib/arch:/home/cpansand/.cpan/build/2016123112/Test-Refcount-0.08-cg9MB5/blib/lib
    PERL5OPT = 
    PERL5_CPANPLUS_IS_RUNNING = 18215
    PERL5_CPAN_IS_RUNNING = 18215
    PERL5_CPAN_IS_RUNNING_IN_RECURSION = 16675,18215
    PERLDOC = -MPod::Perldoc::ToTextOverstrike
    PERL_BATCH = yes
    PERL_CANARY_STABILITY_NOPROMPT = 1
    PERL_CPAN_REPORTER_CONFIG = /var/tmp/cpansmoker-1023/2016123112/cpanreporter_001_config.ini
    PERL_EXTUTILS_AUTOINSTALL = --defaultdeps
    SHELL = /usr/local/bin/zsh
    TERM = screen
    TMPDIR = /var/tmp/cpansmoker-1023/2016123112

Perl special variables (and OS-specific diagnostics, for MSWin32):

    $^X = /usr/perl5.22.2t/bin/perl
    $UID/$EUID = 1023 / 1023
    $GID = 1023 1023
    $EGID = 1023 1023

Perl module toolchain versions installed:

    Module              Have    
    ------------------- --------
    CPAN                2.11    
    CPAN::Meta          2.150001
    Cwd                 3.56_01 
    ExtUtils::CBuilder  0.280221
    ExtUtils::Command   1.20    
    ExtUtils::Install   2.04    
    ExtUtils::MakeMaker 7.04_01 
    ExtUtils::Manifest  1.70    
    ExtUtils::ParseXS   3.28    
    File::Spec          3.56_01 
    JSON                2.90    
    JSON::PP            2.27300 
    Module::Build       0.4218  
    Module::Signature   0.80    
    Parse::CPAN::Meta   1.4422  
    Test::Harness       3.35    
    Test::More          1.302026
    YAML                1.15    
    YAML::Syck          1.29    
    version             0.9909  


--

Summary of my perl5 (revision 5 version 22 subversion 2) configuration:
   
  Platform:
    osname=freebsd, osvers=10.1-release, archname=amd64-freebsd-thread-multi
    uname='freebsd cvrsnica-freebsd-101.herceg.de 10.1-release freebsd 10.1-release #0 r274401: tue nov 11 21:02:49 utc 2014 root@releng1.nyi.freebsd.org:usrobjusrsrcsysgeneric amd64 '
    config_args='-ds -e -Dprefix=/usr/perl5.22.2t -Dusethreads -Dcf_email=srezic@cpan.org -Doptimize=-O2 -pipe'
    hint=recommended, useposix=true, d_sigaction=define
    useithreads=define, usemultiplicity=define
    use64bitint=define, use64bitall=define, uselongdouble=undef
    usemymalloc=n, bincompat5005=undef
  Compiler:
    cc='cc', ccflags ='-DHAS_FPSETMASK -DHAS_FLOATINGPOINT_H -fno-strict-aliasing -pipe -fstack-protector -I/usr/local/include -D_FORTIFY_SOURCE=2',
    optimize='-O2 -pipe',
    cppflags='-DHAS_FPSETMASK -DHAS_FLOATINGPOINT_H -fno-strict-aliasing -pipe -fstack-protector -I/usr/local/include'
    ccversion='', gccversion='4.2.1 Compatible FreeBSD Clang 3.4.1 (tags/RELEASE_34/dot1-final 208032)', gccosandvers=''
    intsize=4, longsize=8, ptrsize=8, doublesize=8, byteorder=12345678, doublekind=3
    d_longlong=define, longlongsize=8, d_longdbl=define, longdblsize=16, longdblkind=3
    ivtype='long', ivsize=8, nvtype='double', nvsize=8, Off_t='off_t', lseeksize=8
    alignbytes=8, prototype=define
  Linker and Libraries:
    ld='cc', ldflags ='-pthread -Wl,-E  -fstack-protector -L/usr/local/lib'
    libpth=/usr/lib /usr/local/lib /usr/include/clang/3.4.1 /usr/lib
    libs=-lpthread -lgdbm -lm -lcrypt -lutil
    perllibs=-lpthread -lm -lcrypt -lutil
    libc=, so=so, useshrplib=false, libperl=libperl.a
    gnulibc_version=''
  Dynamic Linking:
    dlsrc=dl_dlopen.xs, dlext=so, d_dlsymun=undef, ccdlflags=' '
    cccdlflags='-DPIC -fPIC', lddlflags='-shared  -L/usr/local/lib -fstack-protector'


Characteristics of this binary (from libperl): 
  Compile-time options: HAS_TIMES MULTIPLICITY PERLIO_LAYERS
                        PERL_DONT_CREATE_GVSV
                        PERL_HASH_FUNC_ONE_AT_A_TIME_HARD
                        PERL_IMPLICIT_CONTEXT PERL_MALLOC_WRAP
                        PERL_NEW_COPY_ON_WRITE PERL_PRESERVE_IVUV
                        USE_64_BIT_ALL USE_64_BIT_INT USE_ITHREADS
                        USE_LARGE_FILES USE_LOCALE USE_LOCALE_COLLATE
                        USE_LOCALE_CTYPE USE_LOCALE_NUMERIC USE_LOCALE_TIME
                        USE_PERLIO USE_PERL_ATOF USE_REENTRANT_API
  Built under freebsd
  Compiled at Jun 18 2016 12:32:50
  %ENV:
    PERL5LIB="/home/cpansand/.cpan/build/2016123112/Test-CheckDeps-0.010-IwXt3C/blib/arch:/home/cpansand/.cpan/build/2016123112/Test-CheckDeps-0.010-IwXt3C/blib/lib:/home/cpansand/.cpan/build/2016123112/Future-Mojo-0.003-qxpXIG/blib/arch:/home/cpansand/.cpan/build/2016123112/Future-Mojo-0.003-qxpXIG/blib/lib:/home/cpansand/.cpan/build/2016123112/Mojolicious-7.13-MUVwjo/blib/arch:/home/cpansand/.cpan/build/2016123112/Mojolicious-7.13-MUVwjo/blib/lib:/home/cpansand/.cpan/build/2016123112/Future-0.34-wga3vw/blib/arch:/home/cpansand/.cpan/build/2016123112/Future-0.34-wga3vw/blib/lib:/home/cpansand/.cpan/build/2016123112/Test-Identity-0.01-ImSKqs/blib/arch:/home/cpansand/.cpan/build/2016123112/Test-Identity-0.01-ImSKqs/blib/lib:/home/cpansand/.cpan/build/2016123112/Test-Refcount-0.08-cg9MB5/blib/arch:/home/cpansand/.cpan/build/2016123112/Test-Refcount-0.08-cg9MB5/blib/lib"
    PERL5OPT=""
    PERL5_CPANPLUS_IS_RUNNING="18215"
    PERL5_CPAN_IS_RUNNING="18215"
    PERL5_CPAN_IS_RUNNING_IN_RECURSION="16675,18215"
    PERLDOC="-MPod::Perldoc::ToTextOverstrike"
    PERL_BATCH="yes"
    PERL_CANARY_STABILITY_NOPROMPT="1"
    PERL_CPAN_REPORTER_CONFIG="/var/tmp/cpansmoker-1023/2016123112/cpanreporter_001_config.ini"
    PERL_EXTUTILS_AUTOINSTALL="--defaultdeps"
  @INC:
    /home/cpansand/.cpan/build/2016123112/Test-CheckDeps-0.010-IwXt3C/blib/arch
    /home/cpansand/.cpan/build/2016123112/Test-CheckDeps-0.010-IwXt3C/blib/lib
    /home/cpansand/.cpan/build/2016123112/Future-Mojo-0.003-qxpXIG/blib/arch
    /home/cpansand/.cpan/build/2016123112/Future-Mojo-0.003-qxpXIG/blib/lib
    /home/cpansand/.cpan/build/2016123112/Mojolicious-7.13-MUVwjo/blib/arch
    /home/cpansand/.cpan/build/2016123112/Mojolicious-7.13-MUVwjo/blib/lib
    /home/cpansand/.cpan/build/2016123112/Future-0.34-wga3vw/blib/arch
    /home/cpansand/.cpan/build/2016123112/Future-0.34-wga3vw/blib/lib
    /home/cpansand/.cpan/build/2016123112/Test-Identity-0.01-ImSKqs/blib/arch
    /home/cpansand/.cpan/build/2016123112/Test-Identity-0.01-ImSKqs/blib/lib
    /home/cpansand/.cpan/build/2016123112/Test-Refcount-0.08-cg9MB5/blib/arch
    /home/cpansand/.cpan/build/2016123112/Test-Refcount-0.08-cg9MB5/blib/lib
    /usr/perl5.22.2t/lib/site_perl/5.22.2/amd64-freebsd-thread-multi
    /usr/perl5.22.2t/lib/site_perl/5.22.2
    /usr/perl5.22.2t/lib/5.22.2/amd64-freebsd-thread-multi
    /usr/perl5.22.2t/lib/5.22.2
    .